BEGIN:VCALENDAR
VERSION:2.0
PRODID:-//https://techplay.jp//JP
CALSCALE:GREGORIAN
METHOD:PUBLISH
X-WR-CALDESC:第6回 鷺沼 もくもく会
X-WR-CALNAME:第6回 鷺沼 もくもく会
X-WR-TIMEZONE:Asia/Tokyo
BEGIN:VTIMEZONE
TZID:Asia/Tokyo
BEGIN:STANDARD
DTSTART:19700101T000000
TZOFFSETFROM:+0900
TZOFFSETTO:+0900
TZNAME:JST
END:STANDARD
END:VTIMEZONE
BEGIN:VEVENT
UID:739479@techplay.jp
SUMMARY:第6回 鷺沼 もくもく会
DTSTART;TZID=Asia/Tokyo:20190725T183000
DTEND;TZID=Asia/Tokyo:20190725T210000
DTSTAMP:20260421T120756Z
CREATED:20190701T141718Z
DESCRIPTION:イベント詳細はこちら\nhttps://techplay.jp/event/73947
 9?utm_medium=referral&utm_source=ics&utm_campaign=ics\n\n川崎市の鷺
 沼駅近くのレンタルスペースで\n交流会を兼ねた『も
 くもく』会を開催いたします！\n今月は木曜開催です
 ！もくもくもく！\n日頃時間に追われてできない作業
 や勉強を持ち寄り、びっくりするほどの進捗を出しま
 せんか？\n（鷺沼駅は渋谷駅から東急田園都市線急行[
 押上方面]で20分ほど！会場自体は駅から5分程度の場所
 にあります）\nもくもく会とは？\n『もくもく』会とは
 『もくもくと作業する会』の略です。\n\n一人ではサボ
 りがち。でも作業を進めたい\n家族もいるし家では作
 業しにくい・・・\n同業、異業種問わず交流を深めた
 い\n\n途中退室・途中参加・軽い雑談もOK!\nゆるくてフ
 ランクな会にスケールダウンして開催いたします！\n
 作業内容も不問！趣味制作やお仕事、勉強などいずれ
 についてもご参加いただけますし\nプログラミングや
 モデリングなどのジャンルついても一切不問です\n(こ
 の会では『もくもく会』の認知を広げることを第一の
 目的にしています)\nすこしでもご興味ありましたらお
 気軽にご参加ください！\n以下詳細になります\n作業内
 容や目的→一切不問\nこの会では、特にコレ！といっ
 たテーマは定めないことにしました。\n作業内容は趣
 味制作から日常の雑務どもOKとします！\n一例（あくま
 でも一例です）\n\nアプリ開発（Android、iOS、デスクト
 ップアプリ、Unity、UnrealEngineなどなど）\nイラスト\n\n3D
 モデリング\n\n\n企画\n\nスキルアップのための勉強、資
 格勉強\n受験勉強\n事務作業（資料作りなどを含む）\n\
 n基本的に内容は問いません!\nご参加いただける職種⇒
 一切不問！\nふだんバリバリエンジニアやクリエイタ
 ーの仕事をしてらっしゃる方はもちろん\nその他のご
 職業の方、学生や主婦の方までご参加いただけます。\
 nルール\n参加に当たっては次のルールをお守りくださ
 い\n\n途中参加、途中退室自由です\n個人、複数人での
 応募受付けます\nパソコンなどの作業に必要な道具は
 ご持参ください\n大きな音やにおいの出るものはご遠
 慮ください\n他の参加者の方のの迷惑にならないよう
 心掛けてください\nゆるくとはいっても、それぞれ節
 度あるコミュニケーションをお願いします\n宗教・商
 材の勧誘を主目的とした参加はご遠慮ください（退室
 を求める場合がございます）\n\n参加料金\n500円（場所
 代　キックオフ価格！）\n日時\n\n2019/07/25（木）\n時間:
 18:30～21:00\n\n会場\n川崎市鷺沼駅徒歩5分　DIKマンショ
 ン1F さくらパソコン教室レンタルスペース\n（鷺沼駅
 自体は東急田園都市線の駅です。渋谷から押上方面の
 電車に乗っていただき、急行で20分ほどのところにあ
 ります）\n設備など\n\nWiFi\nマウス、キーボード多数\n
 大型ディスプレイ\n作業用ディスプレイ（横長ワイド
 ）\nブックコーナー（プログラミング関連書籍・理科
 教育関連書籍・GimpやInkscapeなどのアプリケーションの
 教本など）\n\n人数\n\n10人程度まで\n\n応募方法\n下記い
 ずれかの方法でお待ちしております。お気軽にご連絡
 ください\n\nConnpass上での応募  \nFacebook（イベントペー
 ジ)\nhttps://www.facebook.com/pg/sakurapc.saginuma/events/\n電話（会
 場のさくらパソコン教室レンタルスペース）044-872-7791\
 n
LOCATION:さくらパソコン教室　鷺沼駅前校 〒216-0004 神奈
 川県川崎市宮前区鷺沼１丁目１１−１
URL:https://techplay.jp/event/739479?utm_medium=referral&utm_source=ics&utm
 _campaign=ics
END:VEVENT
END:VCALENDAR
