BEGIN:VCALENDAR
VERSION:2.0
PRODID:-//https://techplay.jp//JP
CALSCALE:GREGORIAN
METHOD:PUBLISH
X-WR-CALDESC:SAKATA Tech Night #1902
X-WR-CALNAME:SAKATA Tech Night #1902
X-WR-TIMEZONE:Asia/Tokyo
BEGIN:VTIMEZONE
TZID:Asia/Tokyo
BEGIN:STANDARD
DTSTART:19700101T000000
TZOFFSETFROM:+0900
TZOFFSETTO:+0900
TZNAME:JST
END:STANDARD
END:VTIMEZONE
BEGIN:VEVENT
UID:739483@techplay.jp
SUMMARY:SAKATA Tech Night #1902
DTSTART;TZID=Asia/Tokyo:20190725T190000
DTEND;TZID=Asia/Tokyo:20190725T210000
DTSTAMP:20260421T142235Z
CREATED:20190701T141722Z
DESCRIPTION:イベント詳細はこちら\nhttps://techplay.jp/event/73948
 3?utm_medium=referral&utm_source=ics&utm_campaign=ics\n\nSAKATA Tech Nigh
 tは、 \n参加者それぞれが持つ目標に向けて\n技術やア
 イディア、課題、疑問、興味の共有・解決を目指す場
 です。\n\nプログラミングしてみたい、環境構築につい
 て教えてほしい\nWebサイトを作ってみたい\nRaspberry Piを
 さわってみたい\nパソコンで音楽を作ってみたい。絵
 を描いてみたい\n3DCGに挑戦してみたい\nIT系の資格取得
 について知りたい、一緒に勉強する仲間がほしい \n何
 かやってみたいが、何からやったらいいかわからない.
 ..など\n\n今回は、3DホログラムディスプレイのLooking Gla
 ssを取り上げる予定です!\n開催日時\n2019年7月25日(木) 19
 :00 – 21:00\n会場\n〒998-8580\n山形県酒田市飯盛山三丁目5
 番地の1\n東北公益文科大学 酒田キャンパス 公益ホー
 ル2階\n中研修室3\n対象\n\nIT業界の動向に触れてみたい
 方\n情報機器・技術を用いて、何らかの事をやってみ
 たいと考えている方 など\n\n参加費無料。学生、社会
 人、初めての方、見学の方も大歓迎です!\n参加申し込
 みはこのページからお願いします。(申し込み無しで飛
 び入りでもOKです!)\n持ち物\n特に必要ありませんが、
 パソコンなどがあると便利です。\n飛び入り参加、途
 中参加・退出もOKですので、ぜひご参加ください。
LOCATION:中研修室3 山形県酒田市飯森山3-5-1 酒田市公益ホ
 ール
URL:https://techplay.jp/event/739483?utm_medium=referral&utm_source=ics&utm
 _campaign=ics
END:VEVENT
END:VCALENDAR
