BEGIN:VCALENDAR
VERSION:2.0
PRODID:-//https://techplay.jp//JP
CALSCALE:GREGORIAN
METHOD:PUBLISH
X-WR-CALDESC:Agile Japan 2019 サテライト＜名古屋＞
X-WR-CALNAME:Agile Japan 2019 サテライト＜名古屋＞
X-WR-TIMEZONE:Asia/Tokyo
BEGIN:VTIMEZONE
TZID:Asia/Tokyo
BEGIN:STANDARD
DTSTART:19700101T000000
TZOFFSETFROM:+0900
TZOFFSETTO:+0900
TZNAME:JST
END:STANDARD
END:VTIMEZONE
BEGIN:VEVENT
UID:739549@techplay.jp
SUMMARY:Agile Japan 2019 サテライト＜名古屋＞
DTSTART;TZID=Asia/Tokyo:20190727T130000
DTEND;TZID=Asia/Tokyo:20190727T200000
DTSTAMP:20260421T053156Z
CREATED:20190701T222234Z
DESCRIPTION:イベント詳細はこちら\nhttps://techplay.jp/event/73954
 9?utm_medium=referral&utm_source=ics&utm_campaign=ics\n\n【延期】台
 風のため、7/27(土)の開催を中止（延期）します。\n 代
 替開催日は未定です。決まり次第告知（7/27に申し込み
 いただいた方にはメッセージで連絡）します。\nイベ
 ント概要\n年一度開催される、日本最大のアジャイル
 イベント Agile Japan。\nその名古屋サテライトを今年も
 開催します。\nAgile Japan 2019 公式ページ\nサテライト名
 古屋では、基調講演の録画聴講とサテライト独自企画
 のワークショップを行います。\nサテライト＜名古屋
 ＞のテーマは「アジャイルの本質」です。ビジネスとI
 Tをアジャイルにつなぐために、形式だけではなく本質
 を見定めることが大切です。サテライト独自企画のワ
 ークショップでは、スクラムの公式ガイドブックから
 、スクラムがどのようにアジリティを実現しようとし
 ているかを学びます。基調講演の聴講後は疑問や感想
 の共有の時間も設けます。アジャイル未経験の方、実
 践を積んでおられる方も、どなたにも明日役立つ学び
 と体験をご用意します。ぜひご参加ください。\n開催
 日時\n2019年07月27日(土) 13:00-20:00 \n(12:30より受付開始)\n
 プログラム\n\n\n\n時間\nプログラム\nタイトル\n発表者\n
 \n\n\n\n13:00～\nオープニング\n\n名古屋アジャイル勉強会
 \n\n\n13:30～\n基調講演(録画聴講)\n[基調講演]マネージャ
 ー不在の洞窟型組織\nGROOVE X株式会社 林 要 氏\n\n\n\n\n[
 特別講演] ”Agility-Native”を実現するITマネージメント\
 nSOMPOシステムズ株式会社 浦川 伸一 氏 氏\n\n\n15:30〜\n
 基調講演ふりかえり・共有\n\n名古屋アジャイル勉強会
 \n\n\n16:00〜\n休憩\n\n\n\n\n16:15～\nサテライト企画\nアジ
 ャイルの本質（ワークショップ）\n名古屋アジャイル
 勉強会 山本 博之\n\n\n19:15～\nクロージング・ふりかえ
 り\n\n名古屋アジャイル勉強会\n\n\n\n名古屋アジャイル
 移動図書館 出張所を併設します。\nhttps://www.facebook.com/
 pg/NagoyaAgile/photos/?tab=album&album_id=957912737577192 \nアジャイ
 ル開発に関する書籍をお手に取って確認頂けます。\n
 会場\nイーブルなごや(旧：名古屋市女性会館) 2階 第2
 研修室 \n(名古屋市営地下鉄 名城線 東別院駅 1番出口
 から直進 徒歩約3分)\nhttps://sites.google.com/site/nagoyaagile/Ho
 me/katsudou/guide_map/womens_association_hall \n参加条件\n特にあ
 りません。どなたでもご参加頂けます。\n参加費\n500円
  (会場費、用具代、お菓子代に充当します)\n持ち物\n特
 にありません。\n懇親会\nイベント終了後、懇親会を開
 催します。気分を変えて楽しく語り合いましょう。\n
 場所は東別院駅周辺の居酒屋、参加費は現地徴収で3\,0
 00円程度を予定しています。\n主催\n名古屋アジャイル
 勉強会\nhttps://sites.google.com/site/nagoyaagile/ \nイベントに
 ついてのお問い合わせ・ご質問は、connpassの問い合わ
 せでご連絡ください。\n\nアジャイルとは俊敏でチーム
 中心のソフトウェア開発手法でありマネジメント手法
 です。\n名古屋アジャイル勉強会は、アジャイルの考
 え方や方法を体験的に学び、職場で活かすことを応援
 する、どなたでも参加できるグループです。\n月に一
 度の勉強会が主な活動です。皆様のご参加をお待ちし
 ています。\n過去の勉強会の様子は、connpassの過去イベ
 ント募集ページからご覧いただけます。
LOCATION:イーブルなごや 愛知県名古屋市中区大井町7番25
 号
URL:https://techplay.jp/event/739549?utm_medium=referral&utm_source=ics&utm
 _campaign=ics
END:VEVENT
END:VCALENDAR
