BEGIN:VCALENDAR
VERSION:2.0
PRODID:-//https://techplay.jp//JP
CALSCALE:GREGORIAN
METHOD:PUBLISH
X-WR-CALDESC:ノンコーディングで IoT × 音声認識 爆速プロ
 トタイピング＠マイクロソフト品川本社
X-WR-CALNAME:ノンコーディングで IoT × 音声認識 爆速プロ
 トタイピング＠マイクロソフト品川本社
X-WR-TIMEZONE:Asia/Tokyo
BEGIN:VTIMEZONE
TZID:Asia/Tokyo
BEGIN:STANDARD
DTSTART:19700101T000000
TZOFFSETFROM:+0900
TZOFFSETTO:+0900
TZNAME:JST
END:STANDARD
END:VTIMEZONE
BEGIN:VEVENT
UID:739714@techplay.jp
SUMMARY:ノンコーディングで IoT × 音声認識 爆速プロトタ
 イピング＠マイクロソフト品川本社
DTSTART;TZID=Asia/Tokyo:20190724T190000
DTEND;TZID=Asia/Tokyo:20190724T213000
DTSTAMP:20260425T032204Z
CREATED:20190702T222858Z
DESCRIPTION:イベント詳細はこちら\nhttps://techplay.jp/event/73971
 4?utm_medium=referral&utm_source=ics&utm_campaign=ics\n\n2.5時間Noodl
 ハンズオンワークショップ\n2.5時間の中で、マイクロ
 ソフト音声認識APIや天気API、そしてマイコンをつなぎ
 こんで音声認識でLED点灯まで行います。\nもちろんUIデ
 ザインも同一プラットフォーム上で調整しながら。\n
 この爆速感を、ぜひ一度体験してみてください。\nNoodl
 とは\nスウェーデンのデザイン＆イノベーションファ
 ームであるTOPPが開発したラピッドプロトタイピングツ
 ール。ダイナミックデータやAPIとの連携・IoT・マルチ
 デバイスのインタラクションが実装できるのが特徴で
 、リアルなデータを使ったアプリやサービス・プロダ
 クトの実働プロトタイプを素早く制作できる新しいデ
 ザインツールです。\n機能\n\nUI/UXのビジュアルデザイ
 ン\nコーディング不要ノードベースで要素を繋ぐだけ
 で構築（Javascriptでも可）\nAPI、リアルデータ、機械学
 習連携可能\nIoT（マイコン接続）も可能\nウェブアプリ
 ケーションまたはハイブリッドアプリとしてデプロイ
 可能\n\nスケジュール\n\n\n\n時間\n内容\n\n\n\n\n18:30\n開場
 \n\n\n19:00\nイントロダクション\n\n\n19:30\nStep1 基本操作\n
 \n\n20:00\nStep2 LED接続&スマホUIでコントロール\n\n\n20:30\nS
 tep3 マイクロソフト音声認識の組み込み\n\n\n21:00\n質疑
 応答・まとめ\n\n\n21:30\n完全撤収\n\n\n\n\n事前準備\nこち
 らからNoodl beta版をダウンロード \n※公開版ではなく上
 記からベータ版のインストールをお願いいたします。\
 n※対応OS: MacOS\, Win x64\n※現在プロキシ設定の機能があ
 りませんのでご注意下さい。\n\n当日の持ち物\n\n事前
 準備を済ませたノートパソコン（外部ネットワークに
 つないでも問題ないもの）\nUSBハブ（ノートパソコン
 にUSBケーブルの差込口が無い方のみ ex:最新のMac bookな
 ど）\nノートパソコンの電源アダプタ\nスマートフォン
 \nお名刺（受付で一枚頂戴します。）\n\n\nIoTキットに
 ついて\n※参加者の方にはIoTキットを貸出いたします
 。\n内容物：\n- Adafruit HUZZAH32 - ESP32 Feather Board\n- Neo Pixel
  LED 8mm\n- ブレッドボード\n- USB-microUSBケーブル\n- ジャ
 ンパワイヤ\n当日の問い合わせ\n【主催】株式会社tensor
 X\nメールアドレス：noodl_tokyo@tensorx.co.jp\nイベント当日
 のご連絡: 080-4185-3824\n担当：薮田・私市・桃井
LOCATION:日本マイクロソフト品川本社 東京都港区港南 2-16
 -4 (品川グランドセントラルタワー 31F)
URL:https://techplay.jp/event/739714?utm_medium=referral&utm_source=ics&utm
 _campaign=ics
END:VEVENT
END:VCALENDAR
