BEGIN:VCALENDAR
VERSION:2.0
PRODID:-//https://techplay.jp//JP
CALSCALE:GREGORIAN
METHOD:PUBLISH
X-WR-CALDESC:大重美幸のPython入門講座
X-WR-CALNAME:大重美幸のPython入門講座
X-WR-TIMEZONE:Asia/Tokyo
BEGIN:VTIMEZONE
TZID:Asia/Tokyo
BEGIN:STANDARD
DTSTART:19700101T000000
TZOFFSETFROM:+0900
TZOFFSETTO:+0900
TZNAME:JST
END:STANDARD
END:VTIMEZONE
BEGIN:VEVENT
UID:739965@techplay.jp
SUMMARY:大重美幸のPython入門講座
DTSTART;TZID=Asia/Tokyo:20190801T110000
DTEND;TZID=Asia/Tokyo:20190801T180000
DTSTAMP:20260424T032736Z
CREATED:20190703T142154Z
DESCRIPTION:イベント詳細はこちら\nhttps://techplay.jp/event/73996
 5?utm_medium=referral&utm_source=ics&utm_campaign=ics\n\n概要\nPython
 （パイソン）は、科学技術計算、統計、機械学習、Web
 アプリ、IoTアプリなどで利用されている、今もっとも
 注目のプログラム言語です。Pythonは構文がシンプルで
 手軽に試せることもあり、プログラミングの初学者が
 手始めに学ぶプログラム言語としても適しています。P
 ythonプログラミングを学び、プログラマーとしての門
 を開きましょう\nPython の対話型インタプリタを利用し
 て、Pythonコードの実行方法、モジュールの読み込み、
 リスト、タプル、関数定義といった基礎知識と基本シ
 ンタックスを学習します。身近な問題をプログラムで
 解決し、グラフの描画なども行います。\n\n修了目標\n
 本講座の受講修了時に、以下のスキル習得を目指しま
 す。\n 1. Pythonの対話型インタプリタでコードの入力、
 編集、実行ができる。\n 2. Pythonファイルにプログラム
 を書いて保存し、それを実行できる。\n 3. Pythonの基本
 的なシンタックスを使ったプログラムを書ける。\n 4. 
 外部ライブラリのモジュールを読み込んで利用できる
 。\n 5. 簡単なグラフを描けるようになる。\n 6. プログ
 ラミング初心者がプログラミングを体験し、理解する
 。\n\nカリキュラム概要\n 1. 手軽な対話型インタプリタ
  \n\nPytonインタプリタの起動\n簡単な計算をしてみよう\
 n変数を使おう！なぜ？\n入力したコードの修正と再利
 用\n\n 2. Pythonファイルにコードを書く\n\nコードはPython
 ファイルに保存しよう\nPythonファイルを実行する\n\n\n\n
  3. 組み込み関数とモジュールの使い方\n\n組み込み関
 数を使う\nキーボード入力を受け付けるinput関数\nモジ
 ュールを読み込んで便利な関数を利用する\nオブジェ
 クトのメソッドを実行する\n\n 4. 繰り返しや条件分岐
 の書き方\n\n繰り返す処理を簡単に書く\n条件によって
 処理を振り分ける\n数当てゲーム\n\n 5. リストを使う\n\
 nリストを作る\nリストの連結やスライス\nリストの要
 素を並べ替える\nリストの値を効率的に取り出す、検
 索する\n内包表記という記述方法があることを知って
 おく\n\n 6. タプルって？\n\n便利なタプル\nリストとタ
 プルの違いは？\n\n 7. 関数を定義しよう\n\n関数を定義
 するワケ\n関数と引数\nPythonファイルに保存した関数を
 呼び出す\n\n 8.グラフを描いてみよう\n\n折れ線グラフ
 を描く\n棒グラフを描く\n散布図を描く\nグラフを保存
 する\n\n\n\n\n＊カリキュラムの進度および内容は、受講
 者全員の理解度・習得度によって変更される場合があ
 ります。\n使用OS\nmacOS または Windows\n※普段使用してい
 るOSと異なっている場合でも講座内容の習得に大きく
 影響はありません。\nPCの持ち込みも可能です。講座内
 で使用するソフトウェアの設定、環境構築をしておく
 ようお願いします。\n使用アプリケーション\nPython 3お
 よび主要な外部ライブラリ（Anacondaディストリビュー
 ションの開発環境）\nUnicodeを編集できるテキストエデ
 ィタ（Atom、CotEditorなど）\n講師\n大重美幸\n定員\n6名(
 各種申込みサイト合計)\n対象\nプログラミングを体験
 し、プログラミングを始めたい方\n料金\n29\,800円（税
 込み）\n各種割引あり\n会場\n東京・原宿　ロクナナワ
 ークショップ\n募集締切後のお申込み、お問合せ\n本サ
 イトでのお申し込みは、講座開催の1週間前に締め切ら
 れますが ロクナナワークショップ内講座概要ページか
 らは開催前日までお申込みいただけます。\n受講規約
 など\n受講希望の方は受講規約およびよくある質問の
 ページを閲覧していただき、ご了承の後にお申し込み
 ください。
LOCATION:ロクナナワークショップ原宿教室 東京都渋谷区
 神宮前1-1-12(原宿ニュースカイハイツ 204)
URL:https://techplay.jp/event/739965?utm_medium=referral&utm_source=ics&utm
 _campaign=ics
END:VEVENT
END:VCALENDAR
