BEGIN:VCALENDAR
VERSION:2.0
PRODID:-//https://techplay.jp//JP
CALSCALE:GREGORIAN
METHOD:PUBLISH
X-WR-CALDESC:SaaS アナリティクス セミナー
X-WR-CALNAME:SaaS アナリティクス セミナー
X-WR-TIMEZONE:Asia/Tokyo
BEGIN:VTIMEZONE
TZID:Asia/Tokyo
BEGIN:STANDARD
DTSTART:19700101T000000
TZOFFSETFROM:+0900
TZOFFSETTO:+0900
TZNAME:JST
END:STANDARD
END:VTIMEZONE
BEGIN:VEVENT
UID:740063@techplay.jp
SUMMARY:SaaS アナリティクス セミナー
DTSTART;TZID=Asia/Tokyo:20190731T183000
DTEND;TZID=Asia/Tokyo:20190731T210000
DTSTAMP:20260422T110052Z
CREATED:20190704T061416Z
DESCRIPTION:イベント詳細はこちら\nhttps://techplay.jp/event/74006
 3?utm_medium=referral&utm_source=ics&utm_campaign=ics\n\nConnpassでの
 募集は終了しました。ご参加希望の方はこちらのリン
 クよりお申し込みください。\nSaaS アナリティクス セ
 ミナー\nSaaS・サブスクリプション型ビジネスの成長に
 求められるデータの活用\n現在、SaaS（Software-as-a-Service
 ）といわれるソフトウェア・ビジネスを始めとして、
 多くのビジネスが売り切り型からサブスクリプション
 型のモデルに移行中です。こうしたSaaSまたはサブスク
 リプション型のビジネスモデルは、従来の売り切り型
 のビジネスモデルとはまったく違った観点からビジネ
 スの現状を理解し、さらに成長のための施策をデータ
 を使って立案していくことが求められます。\nまず必
 要になるのが、ビジネスの現状をより正しく理解する
 ためのMRR、チャーン率、CLV（Customer Lifetime Value / 顧客
 生涯価値）といった指標をダッシュボードなどを使っ
 てモニターしていくことです。\nさらに重要なのはこ
 れらの指標を上下させる要因に迫る分析を通じて、効
 果的な打ち手につなげ、ビジネスを効率的に成長させ
 ることです。実はこうした的確な分析にはデータサイ
 エンスの手法である、データの可視化、加工、統計・
 機械学習のアルゴリズムを使った分析が欠かせません\
 nそこで自らもシリコンバレーでSaaSビジネスを展開し
 、SaaS向けの分析トレーニングを開発してきた経験を活
 かし、サブスクリプション型のビジネスの成長のため
 に、どのようにしてデータサイエンスの手法をビジネ
 スに活かすかをシリコンバレーでの事例を交え紹介さ
 せていただくセミナーを実施いたします。\n参加対象
 者\n\nサブスクリプション型のビジネス従事者や新規事
 業を検討されている方　\nプロダクト、営業、マーケ
 ティング、カスタマー・サクセス等の部門で施策立案
 ・意思決定をする、または支援している方\nデータ分
 析またはデータサイエンスを使ってビジネスを改善し
 たい方\nExcel、BIツール、Web解析ツールを使った分析を
 している、またはこれからしようと検討している方\n\n
 アジェンダ\n\nExploratoryの紹介\nSaaSアナリティクス\nSaaS
 特有のKPIやコンセプトを知る・算出する・モニターす
 る\nエンゲージメントをモニターする手法の紹介\n施策
 につながる機械学習、統計モデルを使った分析手法の
 紹介\n\n\nQ&A\n\n開催要項\n日時 : 2019年 7月31日 (水) 18:30-2
 1:00\n会場: 未定 (渋谷または恵比寿駅周辺の予定です。
 確定次第情報アップデート致します)\n定員: 30名\n参加
 費(税込): 1\,000円\n備考: お名刺1枚ご持参のうえ受付ま
 でお越しください\nお問い合わせ\nExploratoryのホームペ
 ージの画面右下の緑色のチャットアイコンを押してチ
 ャットでお問い合わせいただくか、support@exploratory.io 
 までメールにてお問い合わせください。\n主催者\n村里
  郁哉 (Exploratory inc\, Business Development)
LOCATION:T's渋谷フラッグカンファレンスセンター 東京都
 渋谷区宇田川町33-6 Shibuya Flag 8F
URL:https://techplay.jp/event/740063?utm_medium=referral&utm_source=ics&utm
 _campaign=ics
END:VEVENT
END:VCALENDAR
