BEGIN:VCALENDAR
VERSION:2.0
PRODID:-//https://techplay.jp//JP
CALSCALE:GREGORIAN
METHOD:PUBLISH
X-WR-CALDESC:【増枠】Mix Leap Study #47 - Android x Flutter 勉強会
X-WR-CALNAME:【増枠】Mix Leap Study #47 - Android x Flutter 勉強会
X-WR-TIMEZONE:Asia/Tokyo
BEGIN:VTIMEZONE
TZID:Asia/Tokyo
BEGIN:STANDARD
DTSTART:19700101T000000
TZOFFSETFROM:+0900
TZOFFSETTO:+0900
TZNAME:JST
END:STANDARD
END:VTIMEZONE
BEGIN:VEVENT
UID:740069@techplay.jp
SUMMARY:【増枠】Mix Leap Study #47 - Android x Flutter 勉強会
DTSTART;TZID=Asia/Tokyo:20190725T190000
DTEND;TZID=Asia/Tokyo:20190725T213000
DTSTAMP:20260422T225332Z
CREATED:20190704T061730Z
DESCRIPTION:イベント詳細はこちら\nhttps://techplay.jp/event/74006
 9?utm_medium=referral&utm_source=ics&utm_campaign=ics\n\n開催日時\n20
 19/7/25（木）\n　18:30　受付開始\n　19:00　開始\n場所\nヤ
 フー株式会社 大阪グランフロントオフィス\n大阪府大
 阪市北区大深町4-20 グランフロント大阪 タワーA 37階\n1
 ）1階、または2階のシャトルエレベーターで9階オフィ
 スロビーまで上がって下さい\n2）Dバンクのエレベータ
 ーで37階に上がり受付エリアまでお越しください\nイベ
 ントについて\n「Mix Leap Study」とは、様々なヤフーの独
 自技術や業界の最先端テクノロジーに触れていただき
 、関西圏のクリエイター（エンジニア・デザイナー）
 の成長を目的にした、ヤフー大阪オフィスで開催され
 る勉強会です。\nITに興味のある学生やIT企業で働く社
 会人が集まってお互いに発信しあうことで、人と情報
 の交差点となることを目指しています。\n今回のテー
 マ\n今回のMix Leap Studyでは、「Android x Flutter 勉強会」を
 開催します！\n今年のGoogle I/Oでスポットライトが当た
 ったFlutterについて、これから入門される方に有益な情
 報を持ち帰っていただきたいと思います。\nまた、Andro
 id(ネイティブ)については実際に開発を行った経験に基
 づいたセッションになりますので、\nAndroid(ネイティブ
 )やFlutterに興味のある方、これから始めようとされて
 いる方、ぜひお越しください！\nFlutterとは？\nGoogleに
 よって開発された、オープンソースのモバイルアプリ
 ケーションフレームワークです。\niOSやAndroidのアプリ
 を1つのコードベースで作ることができるもので、\n今
 年のGoogle I/OではWeb対応版もリリースされ、ますます注
 目度が上がってきています。\nhttps://flutter.dev/\nGDG神戸
 とは？\nGoogle Developer Group (GDG) Kobe は主にGoogleのテクノ
 ロジーに興味のある人たちで情報を共有しあう集いで
 す。\n神戸や大阪で勉強会等を行っています。ご興味
 のある方は気軽にご参加ください。\nhttps://gdgkobe.doorkee
 per.jp/\nタイムテーブル\n\n\n\n時間\n内容\nスピーカー\n\n
 \n\n\n18:30 - 19:00\n受付\n\n\n\n19:00 - 19:05\n「Mix Leap Study に
 ついて」\n嘉多 直人（ヤフー株式会社 & GDG神戸）\n\n\n1
 9:05 - 19:10\n「GDG神戸について」\n野田 悟志 (GDG神戸オー
 ガナイザー)\n\n\n19:10 - 19:40\n「Google IO 振り返り + in app u
 pdate実装例」(Androidネイティブ)\n中谷 克紀 (GDG神戸)\n\n\
 n19:40 - 19:50\n「休憩」\n\n\n\n19:50 - 20:20\n「Flutterとプラッ
 トフォーム依存の処理の対応について」(Flutter)\n野田 
 悟志 (GDG神戸オーガナイザー)\n\n\n20:20 - 20:40\n「Navigation
 の採用を検討してみて、 色々考えた話を共有するよ」
 (Androidネイティブ)\nこばしん@kobashinG (ヤフー株式会社)\
 n\n\n20:45 - 21:30\n「懇親会」\n\n\n\n\n※進行上、終了時間
 が多少前後することがあります\n登壇者情報\nスピーカ
 ー：中谷克紀 (GDG神戸)\n\n  \n    Title\n    Google IO 振り返
 り + in app update実装例(Androidネイティブ)\n  \n  \n    Overvie
 w\n    GoogleIOで発表された、Android関係の概要の振り返り
 をしたいと思います。\nまた、その発表の中で出てき
 たものを筆者のプロダクションで実装した際の困った
 ことや、良かったことなどをコードを交えて実装例と
 してご紹介したいと思います(inn app Updateと in app-billing
 の予定です)\n  \n  \n    Profile\n    GDG神戸でスタッフをし
 ています。\n普段はインフラエンジニアとして、サー
 バやネットワーク周りのお仕事をしています。\n趣味
 でAndroid開発をしています(miruker appsという名前でGoogle P
 layにいくつかアプリを公開しています)\n  \n\n\nスピー
 カー：野田悟志 (GDG神戸オーガナイザー)\n\n  \n    Title\n
     Flutterとプラットフォーム依存の処理の対応につい
 て(Flutter)\n  \n  \n    Overview\n    Flutterがどういうものか
 のざっくりとした説明と、FlutterのPlatformChannelsという
 仕組みを用いた、ネイティブコード(Android、iOS)とのや
 り取りについてお話しようと思います。\n    ネイティ
 ブ側に依存する処理を実装しなければならない可能性
 のために、Flutterを採用するのを躊躇っているモバイル
 エンジニア向けになります。\n  \n  \n    Profile\n    GDG神
 戸でオーガナイザーをしています。\n    仕事はロボッ
 トのコンテンツやサーバ周りをやってます。\n    趣味
 はVRです。\n    Android、iOSはやってません。\n  \n\n\nスピ
 ーカー：こばしん@kobashinG (ヤフー株式会社)\n\n  \n    Tit
 le\n    Navigationの採用を検討してみて、 色々考えた話を
 共有するよ(Androidネイティブ)\n  \n  \n    Profile\n    ヤフ
 ーショッピングのエンジニア。Androidを忘れてk8sやって
 いこうと思ったら、Androidに出戻った人。面白いドリブ
 ンで生きてます。\n  \n\n\n参加資格\nキャンセルポリシ
 ーに同意頂ける方。\n夜間のイベントのため、16歳以上
 の方のみ\n※16歳未満でも保護者同伴なら可\n懇親会\n
 当日、20:30 から同会場で懇親会を行います。\n軽食、
 飲み物をご用意しております。\n参加者同士や弊社社
 員との交流の機会として、ぜひご活用ください。\n参
 加費\n無料\nキャンセルポリシー\n・予定が変更になり
 、都合がつかなくなった場合には、速やかに参加のキ
 ャンセルをお願い致します。\n・【お読みください】
 参加枠を確保しているにも関わらず不参加（ドタキャ
 ン）や、前日〜当日のキャンセルを頻繁にされる方は
 、参加を希望されている他の参加者を優先させて頂く
 場合があります。 スケジュール都合がわからない状態
 で「とりあえず」お申込みいただくことはご遠慮願い
 ます。\n注意事項\n・会場内では運営スタッフによる写
 真や動画撮影が行われる予定です。\n・撮影された写
 真や動画はヤフー大阪の公式SNSアカウントや社内の活
 動報告資料などで掲載される場合がありますので、あ
 らかじめご了承ください。\n・SNS等への顔出しがNGな方
 は、受付時にお申し出ください。\n・セクシュアルハ
 ラスメント・パワーハラスメント・ストーカー等の他
 人への迷惑行為を行うことは禁止します。\n・ネット
 ワークビジネス等、その対象を問わず販売、勧誘、あ
 っせん等を行うこと。また、宗教活動または政治活動
 をすることは禁止します。\n・その他、イベントの趣
 旨・目的と逸脱した行為、イベント内容に積極的に参
 加されてないと見受けられる行為、飲食を目的として
 いると見受けられる行為など、本来のイベント趣旨と
 は異なる行為があった場合、次回以降のイベント参加
 をお断りさせて頂きます。\nご質問・ご相談\n本イベン
 トに関するご質問等はMix Leap事務局（ osk-mixleap@mail.yahoo
 .co.jp ）までお願いします。
LOCATION:ヤフー株式会社 大阪グランフロントオフィス 大
 阪府大阪市北区大深町4-20 グランフロント大阪 タワーA
  37階
URL:https://techplay.jp/event/740069?utm_medium=referral&utm_source=ics&utm
 _campaign=ics
END:VEVENT
END:VCALENDAR
