BEGIN:VCALENDAR
VERSION:2.0
PRODID:-//https://techplay.jp//JP
CALSCALE:GREGORIAN
METHOD:PUBLISH
X-WR-CALDESC:【増席】RPA × AI-OCR勉強会！RPACommunity AI-OCR vol.1
X-WR-CALNAME:【増席】RPA × AI-OCR勉強会！RPACommunity AI-OCR vol.1
X-WR-TIMEZONE:Asia/Tokyo
BEGIN:VTIMEZONE
TZID:Asia/Tokyo
BEGIN:STANDARD
DTSTART:19700101T000000
TZOFFSETFROM:+0900
TZOFFSETTO:+0900
TZNAME:JST
END:STANDARD
END:VTIMEZONE
BEGIN:VEVENT
UID:740340@techplay.jp
SUMMARY:【増席】RPA × AI-OCR勉強会！RPACommunity AI-OCR vol.1
DTSTART;TZID=Asia/Tokyo:20190806T190000
DTEND;TZID=Asia/Tokyo:20190806T220000
DTSTAMP:20260425T160055Z
CREATED:20190705T225940Z
DESCRIPTION:イベント詳細はこちら\nhttps://techplay.jp/event/74034
 0?utm_medium=referral&utm_source=ics&utm_campaign=ics\n\n完全なユー
 ザー主体のRPAコミュニティ「RPA Community」が主催するRPA
 勉強会＆LT会！AIやAI-OCRについてついて語り合う支部「
 AI-OCR支部」記念すべき第１回目！\nAI系ベンダーさん、
 AI-OCR系ベンダーさんのセミナーあります！\nまずは一
 言\n\nAI・AI-OCRに取り組まれているユーザーや興味のあ
 る人同士で情報や悩みを共有しながらAI・AI-OCRについ
 て学びましょう！\n\n\nすでに取り組んでいる方だけで
 なく、これから学ぼうとしている方、ちょっと興味が
 ある方、どんな方でも大歓迎です。\n\nAI・AI-OCRに関す
 るネタ、悩みや、言いたい事をLT(※)を楽しみましょう
 ！\n\n※ LTとは「Lightning Talk(s)」の頭文字を取ったもの
 で5分間程度の短い時間で行われる発表を連続して続け
 ていく形式のプレゼンテーション。\n場所と入館方法\n
 \n\n　会場は丸の内vacans\n　〒100-0005　東京都千代田区
 丸の内3-1-1　国際ビル 2F\n　　2F「FLOC（フロック）ブロ
 ックチェーン大学校」内にあります。\n　　そのまま
 お越しください。\nJR「有楽町駅」中央西口より徒歩2
 分\n　　東京メトロ有楽町線「有楽町駅」D1出口直結\n
 　　都営地下鉄三田線「日比谷駅」D1出口直結\n　　東
 京メトロ日比谷線・千代田線「日比谷駅」より徒歩5分
  D1出口直結\n　　東京メトロ千代田線「二重橋前駅」
 より徒歩7分\n　　JR「東京駅」丸の内南口より徒歩12分
 \n\n参加メリット\n\nユーザー主体イベントならでは。
 営業トークも宣伝トークもありません。RPA・AI・AI-OCR
 に関する情報を得ながら、拡くは業務改善・働き方改
 革に至る様々な情報を参加者同士で楽しく交換し合え
 るイベントです。\n\n参考 前回ツイートまとめ\n参考 
 第４回web記事\n参考 第３回web記事\n開催前後の交流た
 めのFBグループもあります！\n\nRPACommunity FBグループ \n\
 n\n是非ご参加下さい！\n\nLT登壇立候補される方\n\nLT登
 壇立候補は締め切りました\nこちらにコメントお願い
 します！\n\n会場は丸の内vacans\nアクセス\n\n◆場所：丸
 の内バカンス\n　　　　〒100-0005　東京都千代田区丸の
 内3-1-1　国際ビル 2F\n◆最寄駅\n　JR「有楽町駅」中央
 西口より徒歩2分\n　東京メトロ有楽町線「有楽町駅」D
 1出口直結\n　都営地下鉄三田線「日比谷駅」D1出口直
 結\n　東京メトロ日比谷線・千代田線「日比谷駅」よ
 り徒歩5分 D1出口直結\n　東京メトロ千代田線「二重橋
 前駅」より徒歩7分\n　JR「東京駅」丸の内南口より徒
 歩12分\n\n入館方法\n2F「FLOC（フロック）ブロックチェ
 ーン大学校」内にあります。そのままお越しください
 。\nタイムテーブル\n\n\n\n時間\n内容\n発表タイトル\n\n\
 n\n\n19:00\n開場\n受付開始\n\n\n19:30\nオープニング： RPACom
 munity Mitz\nコミュニティ＆趣旨説明\n\n\n\n【会場スポン
 サー枠】Mitz feat RPABANK\nRPA・AI・AI-OCR最新情報の展開（F
 rom RPABANK）\n\n\n\n【ベンダーセッション】岩瀬さん（Teg
 aki／コージェントラボ）\nフロントオフィス業務でのAI
 -OCR導入効果\n\n\n\nLT：木村 信幸さん（てらリーマン／
 ソフトバンクRPA推進室RPAメディエーター）\nRPA+αへの
 心構え　－デジタルワーカーオートメーション－　(仮
 )\n\n\n\nLT：吉野 考史さん（マクニカネットワークス）\
 nGoogle Visionで名刺管理\n\n\n\nLT：田中 譲二さん（株式会
 社KSK ／ AI推進室）\nプロの現場に AI-OCR を導入できる
 のか?\n\n\n\n休憩\n\n\n\n\n【懇親会スポンサー】Mitz feat RP
 ABANK\nRちゃんのRPAニュース（From RPABANK）\n\n\n\nLT：森 康
 晴さん（アライズイノベーション）\nAI-OCRはクラウド
 だけなん？\n\n\n\nLT：村田 豪さん（みずほ情報総研）\n
 みずほの取組紹介（AOR）\n\n\n\nLT：三井 篤さん（Sigfoss
 ）\nAi-OCRの失敗例\n\n\n\nLT：引間 明子さん（株式会社ア
 ジラ）\nAI-OCRベンダーが物申す！AI-OCRの本質を理解し
 て導入しようとしてますか？\n\n\n\n【ベンダーセッシ
 ョン】梅田さん（AI Inside）\n導入のハードルはこう超
 える。最短で業務効果を出すための２ステップ\n\n\n\n
 クロージング\n総括\n\n\n21:00\n懇親会開始\n\n\n\n22:00\n完
 全撤収\n\n\n\n\n参加費\n500円\n主催 RPACommunity 本体\nチャ
 ラ電Mitz(みっつ) ／ web記事1､web記事2\n\nRPACommunity ファ
 ウンダー。仕事とは関係なく個人的にRPA推進に精進中
 。IoT界隈ではチャラい見た目でちょっとだけ有名？ら
 しい。\n10年以上システムエンジニアをやっていた過去
 を持ち、その経験も活かしてWebメディア RPABANKで記事
 も書いてます。\nまた「コミュニティ運営芸人」と呼
 ばれ10以上のコミュニティを主催・運営し、各種イベ
 ントの司会から雑用まで何でもやってます。ご興味あ
 る方はお気軽に友達申請どうぞ。Twitterは @CharaDenMitzで
 す。\nあやや\n\nコミュニティマネージャーとして、IoT
 やRPAやIT女子部の運営に携わりながら常に勉強中！女
 性が楽しく学べる場を築いていきたい！\n協力\nRPABANK\n
 \n諸注意\n\nイベント内容は一部変更になる可能性がご
 ざいます。\nイベント当日の様子は後日何らかの媒体
 にて公開させていただくことがございます。\nお申込
 後運営都合によりご参加をキャンセルさせて頂く場合
 がございます。予めご了承頂けますようお願いいたし
 ます。\n当イベントでは全ての参加者がこのイベント
 を楽しめるよう、RPACommunity運営グループの管理のもと
 開催しています。そのため、以下のような行動を取ら
 れた方は退室いただく場合があります。また次回以降
 の参加をお断りしますのでご了承下さい。過去に以下
 のような行動を取られた方からのお申込についてもお
 断りさせていただく場合がございます。\n\n　■他の参
 加者やLT登壇者に対しての迷惑行為と見られる言動や
 行動\n　■人材紹介、転職、マルチ商法、宗教など、
 本イベントとは関係のない勧誘\n
LOCATION:丸の内バカンス 〒100-0005　東京都千代田区丸の内
 3-1-1　国際ビル 2F
URL:https://techplay.jp/event/740340?utm_medium=referral&utm_source=ics&utm
 _campaign=ics
END:VEVENT
END:VCALENDAR
