BEGIN:VCALENDAR
VERSION:2.0
PRODID:-//https://techplay.jp//JP
CALSCALE:GREGORIAN
METHOD:PUBLISH
X-WR-CALDESC:8/3土.大阪IT系初心者もくもく勉強会の日 in 庄
 内コワーキングNAISHO
X-WR-CALNAME:8/3土.大阪IT系初心者もくもく勉強会の日 in 庄
 内コワーキングNAISHO
X-WR-TIMEZONE:Asia/Tokyo
BEGIN:VTIMEZONE
TZID:Asia/Tokyo
BEGIN:STANDARD
DTSTART:19700101T000000
TZOFFSETFROM:+0900
TZOFFSETTO:+0900
TZNAME:JST
END:STANDARD
END:VTIMEZONE
BEGIN:VEVENT
UID:740390@techplay.jp
SUMMARY:8/3土.大阪IT系初心者もくもく勉強会の日 in 庄内コ
 ワーキングNAISHO
DTSTART;TZID=Asia/Tokyo:20190803T090000
DTEND;TZID=Asia/Tokyo:20190803T190000
DTSTAMP:20260423T114257Z
CREATED:20190706T140010Z
DESCRIPTION:イベント詳細はこちら\nhttps://techplay.jp/event/74039
 0?utm_medium=referral&utm_source=ics&utm_campaign=ics\n\n初心者も上
 級者もみなさんいっしょにもくもく勉強しましょう！\
 n\n以下のようなIT系のテーマで個別にもくもく勉強・
 作業しつつ、分からないことがあったら相談し合った
 りする会です。初心者歓迎です。一人でも大丈夫です
 。\n出入り自由です。何時に来て何時に帰ってもかま
 いません。\n\n【テーマ】\n*  Linux、UNIXコマンド、CentOS7
 \n* Apache\, MySQL\, gitなどサーバー系アプリケーション\n* 
 WordPressなどCMS(開発環境構築やサーバー保守など)\n* PHP
 、JavaScript、jQuery、シェルスクリプトなどプログラミン
 グ言語、 正規表現\n* ネットショップ\n* Webデザイン\n\n
 主催者でWebエンジニアの上村が参加します。\nもし、
 なにか相談したい内容があればお気軽に聞いてもらっ
 て大丈夫です。\n上村のプロフィール\n例:\n・WordPressな
 どのCMSのカスタマイズで悩んでいる。\n・JavaScriptで画
 像のスライダーとか作ってみたいけどよく分からない
 。\n・お問合せフォームを作りたいけどよく分からな
 い。\n・レンタルサーバーの選定で悩んでいる。\n・ネ
 ットショップを開設したいが何がおすすめ？\n・DNSの
 設定がよく分からないので知りたい。\n・サーバーの
 運用や構築で分からないことがある。\n・フリーラン
 スの生き方について相談に乗ってほしい。\n\n管理人\n\
 n上村 崇（うえむらたかし）\n\nIT系フリーランスエン
 ジニア。phpを使ったWebシステム構築を仕事にしていま
 す。\nhttps://toyao.net/\n\n福井 洋（ふくいひろし）\n\nWordP
 ress関連の個人事業を行いつつ、コミュニティの運営を
 しています。PPUG大阪・さくらクラブ「いろいろ初心者
 もくもく会」・WordCamp Osaka 2018など。趣味は読書・水泳
 ・大阪府立登美丘高校ダンス部。\n\n得意なジャンル\n\
 n\nブログサイトの運営全般（サーバーの保守、プログ
 ラミング）\nブログのネタ探し\nブログのライティング
 \n\n\n興味のあるジャンル\n\n\nWordPressのプラグイン開発\
 nWordPressサイトのためのローカル開発環境構築\nPHPプロ
 グラミング\nJavaScriptプログラミング\n\n\n会場\n\n庄内コ
 ワーキング レンタルスペースNAISHO\n大阪府豊中市庄内
 幸町４－２－１\n阪急電鉄宝塚線庄内駅から徒歩8分\n
 竜門整骨院の横にあります。とても急な階段を3階まで
 登ってください。\nhttps://cownaisho2018.wixsite.com/naisho\n※
 地図は上記URLページの一番下に掲載されています。\n
 またはGoogleMapをご覧ください。\n\n参加費\n\n\nコワーキ
 ングスペース「NAISHO」の会場利用料のみ（1000円）\n(2
 時間以内利用は500円。また、高校生以下、60歳以上も50
 0円)\n最初に受付で会場利用料をお支払いください。\n\
 n\n参加対象者\n\n\n上記テーマに興味がある方なら誰で
 も。\n貸切ではないので大きい声でのお話は控えてく
 ださい。\n\n\nプログラム\n\n9:00開始、19:00終了\n今回は
 ワンポイントレクチャーなしです。\n※途中入場、途
 中退出可。また食事や休憩なども自由にお取りくださ
 い。\n\n持ち物\n\n\nノートパソコンなど自分の作業に必
 要なもの\n\n\n設備\n\n無線LAN・電源を使用することがで
 きます。\n\nお問い合わせ\n\n本イベントに関する問い
 合わせにつきましては、以下のフォームから連絡して
 ください。\nhttps://toyao.net/grav/ja/contactform\n\n※ このイ
 ベントに関する問い合わせであることが分かるように
 、必ず「イベント名、イベント開催日」の記載をお願
 いします。
LOCATION:庄内コワーキング レンタルスペースNAISHO 大阪府
 豊中市庄内幸町4-2-1
URL:https://techplay.jp/event/740390?utm_medium=referral&utm_source=ics&utm
 _campaign=ics
END:VEVENT
END:VCALENDAR
