BEGIN:VCALENDAR
VERSION:2.0
PRODID:-//https://techplay.jp//JP
CALSCALE:GREGORIAN
METHOD:PUBLISH
X-WR-CALDESC:aCrew Vol.4 for comic ～マンガボックス、GANMA!、peep
 登壇！人気マンガアプリの最新グロース手法、マネタ
 イズ戦略をひも解く～
X-WR-CALNAME:aCrew Vol.4 for comic ～マンガボックス、GANMA!、peep
 登壇！人気マンガアプリの最新グロース手法、マネタ
 イズ戦略をひも解く～
X-WR-TIMEZONE:Asia/Tokyo
BEGIN:VTIMEZONE
TZID:Asia/Tokyo
BEGIN:STANDARD
DTSTART:19700101T000000
TZOFFSETFROM:+0900
TZOFFSETTO:+0900
TZNAME:JST
END:STANDARD
END:VTIMEZONE
BEGIN:VEVENT
UID:740548@techplay.jp
SUMMARY:aCrew Vol.4 for comic ～マンガボックス、GANMA!、peep登
 壇！人気マンガアプリの最新グロース手法、マネタイ
 ズ戦略をひも解く～
DTSTART;TZID=Asia/Tokyo:20190801T180000
DTEND;TZID=Asia/Tokyo:20190801T220000
DTSTAMP:20260422T034841Z
CREATED:20190708T060009Z
DESCRIPTION:イベント詳細はこちら\nhttps://techplay.jp/event/74054
 8?utm_medium=referral&utm_source=ics&utm_campaign=ics\n\nマンガアプ
 リ/マンガサービスの注目企業にマーケティング施策や
 マネタイズ戦略、IP展開などを聞く！\n\nどんなイベン
 ト？\n\n「aCrew(アクルー)」とは、マーケター、PM、エン
 ジニアなどサービスの成長を目指す全ての方に向けた
 コミュニティです。\n\n世界59か国6\,500以上の導入実績
 を持つマーケティングプラットフォームRepro（リプロ
 ）を提供するRepro株式会社の主催でお送りいたします
 。\n\n■「aCrew」の由来\n「aCrew(アクルー)」という名称
 には、「正解の無い道、まだ見ぬ新しい知見を一緒に
 探索するための船に乗る仲間(a Crew)とサービス成長の
 悩みを解決する糸口やヒント(a Clue)を見つけ、ノウハ
 ウを獲得/蓄積(accrue)する場」という想いを込めました
 。アイコンも未開の地を探しに冒険に出かける船をイ
 メージしています。\n\n\n\nなぜやるのか？\n\n初代iPhone
 の登場から早12年。変革し続けるデジタルマーケティ
 ング業界においては、関わる全員がよりフラットに、
 そして相互に学び合い、相談し合い、発信し合うこと
 で業界全体の底上げにつながります。\n\nアプリ/webサ
 ービスの成長を支援する企業として、サービスグロー
 スに課題を抱える人同士のつながりを作りたい。業界
 の発展に貢献したい。そんな想いで本コミュニティを
 運営しています。\n\nコミュニティ参加者同士で交流が
 できるSlack コミュニティも開始予定です。興味のある
 方は参加フォームよりエントリください。\n\n「aCrew」S
 lack コミュニティ 参加フォーム\n\nイベントテーマ\n\n
 今回のテーマは「マンガアプリの最新グロース＆マネ
 タイズ」 です！\n\nアプリ業界で今なお勢いのある市
 場の一つである漫画アプリ。 コミック誌の発行部数が
 落ち込む中、デジタルコンテンツとしてのマンガは、
 スマートフォンで楽しめる手軽さもあいまって、年々
 売り上げを伸ばしています。\n\n現在は大手出版社から
 新興ベンチャー企業まで、様々な企業が漫画アプリを
 提供しており、ビジネスモデルに工夫を凝らしたサー
 ビスも次々と登場し、ひときわ盛り上がりを見せてい
 ます。\n\nそこで本イベントでは、人気の漫画アプリの
 担当者をお招きし、ユーザー獲得や継続、マネタイズ
 、コンテンツ戦略などにどう取り組んでいるかをお話
 していただきます。\n\n漫画アプリ事業者のみならず、
 Webでコンテンツビジネスをされている方や新規事業の
 ヒントを見つけたい方にとってためになること間違い
 なしです！すでにアプリの開発・運営に携わっている
 方だけでなく、これからアプリ事業への参入を検討さ
 れている方もぜひ気軽にご参加ください。\n\n対象\n\n\n
 自社ビジネスにモバイルアプリの導入を検討されてい
 る企業様\nアプリを開発したものの、DL数やユーザーの
 利用率やストア評価にお悩みの企業様\n出版業界ない
 し周辺のビジネスに携わっている方\n\n\n※広告代理店
 、ないし営業目的の方の参加はお断りしております。
 ご了承ください。\n\n会場\n\nRepro株式会社(JR/都営大江
 戸線 代々木駅徒歩1分)\n\n参加費\n\n無料\n\n定員\n\n100名
 (※申込状況により増枠します)\n\n登壇者(予定)\n\n株式
 会社ディー・エヌ・エー /　サービス名「マンガボッ
 クス」編集長 安江亮太 氏\n\nテーマ(仮)：マンガボッ
 クスのマネタイズの歴史\n\nコミックスマート株式会社
  / サービス名「GANMA!」 取締役　 福西 祐樹 氏\n\nテー
 マ(仮)：GANMA!の「サブスク」と「顧客分析」について\n
 \ntaskey株式会社 / サービス名「peep」マーケター・コン
 テンツプロデューサー 許斐 亜斗 氏\n\nテーマ(仮)：peep
 のグロース施策\n\nRepro株式会社 　代表取締役CEO 平田 
 祐介\n\nテーマ(仮)：No.1アプリマーケティングツールが
 語るマンガアプリのグロースの勘所\n\nトークセッショ
 ン\n\nモデレーター\n\nRepro株式会社 　代表取締役CEO 平
 田 祐介\n\nパネリスト\n\n上記登壇企業3社\n\nタイムテ
 ーブル(予定)\n\n\n\n時刻\n詳細\n\n\n\n18:00-18:30\n受付\n\n\n1
 8:30-18:40\n趣旨説明、乾杯\n\n\n18:40-18:55\n登壇者 ①\n\n\n18
 :55-19:10\n登壇者 ②\n\n\n19:10-19:25\n登壇者 ③\n\n\n19:25-19:40
 \n登壇者 ④\n\n\n19:40-19:50\n休憩\n\n\n19:50-20:40\nパネルデ
 ィスカッション\n\n\n20:40-21:40\n懇親会\n\n\n21:40-\n集合写
 真撮影\n\n\n22:00\n完全撤収\n\n\n\nTwitterハッシュタグ　#ac
 rew\n\n登壇者に聞いてみたいことや感想などを気軽にtwe
 etしてください！\nReproのアカウント　@reproio　より返
 信いたします。\n\nコミュニティ\n\nイベント開催に合
 わせて、今後のイベントのお知らせや登壇者資料の共
 有などを行うSlackコミュニティも開始予定です。興味
 のある方は参加フォームよりエントリください。\n\n「
 aCrew」Slack コミュニティ 参加フォーム https://forms.gle/T13
 Qax458CBywRWq8\n\n他のイベントも参加受付中です！\n\n下記
 をテーマにしたイベントも参加者を受け付けておりま
 すので、興味がある方は併せてお申し込みください。\
 n\n\n【6/5(水)開催（終了しました）】「キャッシュレス
 アプリのマーケティング戦略」登壇企業：NTTドコモ、
 メルペイ、Origami、Fintech協会https://repro.connpass.com/event/13
 1689/\n【6/18(火)開催】「大手メディア企業の新規事業」
 登壇企業：朝日新聞社、日経新聞社、Gunosy、ピースオ
 ブケイク　https://connpass.com/event/131865/\n\n\n過去のイベン
 トの様子\n\n過去に開催した「Growth Hack Talks」につきま
 しては下記の記事をご覧ください。\n\n\n【第1回の様子
 】人気アプリは何をした？ペロリ・日経など4社が語る
 、アプリ立ち上げ～リリース初期のグロースハック htt
 p://markezine.jp/article/detail/25003\n【第2回の様子】4社が語
 る「プッシュ通知」のグロースハック術。担当者はど
 こに着目し成功へ至ったのか？ https://moduleapps.com/mobile-
 marketing/9955rpt/\n【第3回の様子】アプリの改善ノウハウ
 をシェアするイベント「Growth Hack Talks by Repro #3」を開
 催しました！ https://repro.connpass.com/event/49598/\n【第4回の
 様子】男たちはどのように女子向けアプリを作るか？
 『C CHANNEL』『LAURIER PRESS』登壇、Growth Hack Talks #4レポー
 ト https://mag.app-liv.jp/archive/80634\n【第5回の様子】少子高
 齢化も追い風!?Omiai、with、Poiboyら恋の嵐起こすマッチ
 ングアプリのグロース戦略\nhttps://markezine.jp/article/detail
 /27358\n【第6回の様子】マンガボックス、comico、コミッ
 クエス、マンガZEROのグロースハックの裏側を聞いてき
 た\nhttps://xera.jp/entry/ght6\n【第7回の様子】【100名に増枠
 ！】Growth Hack Talks #7不動産テック×アプリ特集 ~SUUMO\,ス
 ペースマーケットほか 業界注目のテックベンチャーが
 登壇！~\nhttps://repro.connpass.com/event/70387/\n【第8回の様子
 】【最先端事例】マッチングアプリのグロースハック
 のノウハウをシェアするイベントを開催しました。\nht
 tps://match-app.jp/all/27705\n【第9回の様子】LINEマンガ・GANMA
 !など人気マンガアプリのマネタイズ戦略とは。Growth Ha
 ck Talks 9レポート\nhttps://mag.app-liv.jp/archive/84675\n【第10回
 の様子】Growth Hack Talks 10 動画メディアアプリ特集 イベ
 ントレポート\nhttps://growthhackjournal.com/eventreport-ght10/\n【
 第11回の様子】Growth Hack Talks 11 女性向けメディアアプ
 リ特集\nhttps://growthhackjournal.com/eventreport-ght11-1/\n【第12
 回の様子】Growth Hack Talks 12 Fintechアプリ特集\nhttps://goodw
 ay.co.jp/fip/htdocs/jogbg6au0-3242/\n\n\nnote執筆枠について\n\n当
 日の様子を個人もしくは会社のnoteに書いてくださる方
 を募集しております！「note執筆枠」よりご応募くださ
 い。\n\nブログ執筆枠での参加条件\n\n\nnote等のブログ
 にイベントレポートを書いて下さい。\nイベント開催
 日から2週間以内の投稿にご協力をお願いいたします。
 \n投稿されましたら、記事公開の旨と記事URLを「media@re
 pro.io」 までご連絡いただくか、Twitterアカウント「グ
 ロースハックジャーナルby Repro」にメンションくださ
 い。\n\n\ntwitter実況枠について\n\nイベント参加中また
 参加後にハッシュタグ「#acrew」を付けてtwitterで実況し
 てくださる方を募集しております！「twitter実況枠」よ
 りご応募ください。\n\n持ち物、注意事項など\n\n\n受付
 時の本人確認のため名刺を2枚お持ちください。1枚は
 頂戴いたします。\n会場には電源をご用意していない
 ため、PCなどの機器は充電してからお越し下さい。\nイ
 ベントの模様に関してはメディアにて記事化させてい
 ただく場合がございますので予めご了承下さい。\n代
 理店の方や、営業目的の方のご参加は固くお断りして
 おります。当日いらしても入場できませんのでお気を
 付けください。\n\n\n運営元の連絡先\n\nRepro株式会社\n\n
 \n担当者名：伊藤 直樹\nEmail: info@repro.io\n
LOCATION:Repro株式会社 イベントスペース 東京都渋谷区代
 々木1-36-4全理連ビル4F
URL:https://techplay.jp/event/740548?utm_medium=referral&utm_source=ics&utm
 _campaign=ics
END:VEVENT
END:VCALENDAR
