BEGIN:VCALENDAR
VERSION:2.0
PRODID:-//https://techplay.jp//JP
CALSCALE:GREGORIAN
METHOD:PUBLISH
X-WR-CALDESC:7月Aidemy Meetup！-Beer Night!-
X-WR-CALNAME:7月Aidemy Meetup！-Beer Night!-
X-WR-TIMEZONE:Asia/Tokyo
BEGIN:VTIMEZONE
TZID:Asia/Tokyo
BEGIN:STANDARD
DTSTART:19700101T000000
TZOFFSETFROM:+0900
TZOFFSETTO:+0900
TZNAME:JST
END:STANDARD
END:VTIMEZONE
BEGIN:VEVENT
UID:740630@techplay.jp
SUMMARY:7月Aidemy Meetup！-Beer Night!-
DTSTART;TZID=Asia/Tokyo:20190725T193000
DTEND;TZID=Asia/Tokyo:20190725T213000
DTSTAMP:20260421T063336Z
CREATED:20190708T141807Z
DESCRIPTION:イベント詳細はこちら\nhttps://techplay.jp/event/74063
 0?utm_medium=referral&utm_source=ics&utm_campaign=ics\n\n【開催趣旨
 】\nAI人材の育成やAI組織の支援サービスを提供するア
 イデミーは、創業2年未満で 利用者3万人を突破しユー
 ザー数No.1のサービスにまで成長しました。現在はtoCの
 領域だけでなくtoBのサービスにも力を入れており、急
 成長をつづけています。\nアイデミーについて https://ai
 demy.net/company\nそんなアイデミー、社員はまだ十数名し
 かいないスタートアップなのです。\n毎月開催のAidemy M
 eetupでは、アイデミーメンバーのご紹介をしたり、ス
 タートアップならではの仕事についてのお話をしたり
 、エンジニア勢のLT会をしたり…としているのですが
 。。。\n7月の！Meetupは！ なんとビアバーを貸し切って
 開催しまーす！\n6月回で初めて開催したのですが、大
 好評だったので7月回もBeer Bar TORさんでの開催です♪\n
 東京大学の中にあるオフィスにて弊社について少しご
 紹介したあと、 お店に移動してちょっとした職種紹介
 を行います。\nもちろん、お酒が飲めなくても大丈夫
 。ソフトドリンク、カクテル、クラフトビールなど各
 種揃っています。\nAIに興味がある方、 スタートアッ
 プに興味がある方、 アイデミーについて知りたい方、
  アイデミー社員と喋ってみたい方、 「なんか気にな
 る」という方まで！\nお酒と軽食をご用意してお待ち
 していますので、ぜひお気軽に参加してください！\n
 メンバー一同、お待ちしております！\n【開催日時】\n
 2019/7/25(木) 19:30-21:30 途中退出可能です。\n(今回は移動
 が入りますので、途中参加をご希望の方は事前にお時
 間をお知らせください）\n【対象となる方】\n・AIに興
 味がある方\n・スタートアップに興味がある方\n・アイ
 デミーについて知りたい方\n・アイデミー社員と喋っ
 てみたい方\n・美味しいビールが飲みたい方\n・「なん
 か気になる」という方\n【場所】\n株式会社アイデミー
 　〒113-0033 東京都文京区本郷７丁目３−１ 東京大学ア
 ントレプレナープラザ 302号室\n最初の会場は304号室と
 なります\n↓移動して\nBeer Bar TOR　〒113-0034 東京都文京
 区湯島４丁目５−２\nHP: http://beerbartor.com/ \nTwitter: @beerb
 artor\n【タイムライン】\n時間  コンテンツ\n19:30　開場\
 n19:40　開始\n19:45　アイデミー代表による会社説明 ＠
 オフィス\n20:00　移動\n20:10　懇親・歓談 ＠Beer Bar TOR\n21
 :30　終了　　\n【代表プロフィール】\n代表取締役CEO \n
 石川 聡彦\n2017年東京大学工学部卒。研究・実務でデー
 タ解析に従事した経験を活かし、Aidemyの企画・開発を
 主導。\n早稲田大学リーディング理工学博士プログラ
 ムでは、AIプログラミング実践授業の講師も担当。\n著
 書に『人工知能プログラミングのための数学がわかる
 本』（2018年/KADOKAWA）\n【参考URL】\nCEO　石川 聡彦\nhttps
 ://www.wantedly.com/companies/aidemy/post_articles/161154\nhttps://style.
 nikkei.com/article/DGXMZO36306910Q8A011C1000000?channel=DF130920160876&nr
 a\nhttps://www.careerwake.jp/interview/vol-41
LOCATION:東京大学アントレプレナープラザ304 〒113-0033東京
 都文京区本郷7-3-1（東京大学アントレプレナープラザ
 ）
URL:https://techplay.jp/event/740630?utm_medium=referral&utm_source=ics&utm
 _campaign=ics
END:VEVENT
END:VCALENDAR
