BEGIN:VCALENDAR
VERSION:2.0
PRODID:-//https://techplay.jp//JP
CALSCALE:GREGORIAN
METHOD:PUBLISH
X-WR-CALDESC:Go 1.13 Release Party in Tokyo
X-WR-CALNAME:Go 1.13 Release Party in Tokyo
X-WR-TIMEZONE:Asia/Tokyo
BEGIN:VTIMEZONE
TZID:Asia/Tokyo
BEGIN:STANDARD
DTSTART:19700101T000000
TZOFFSETFROM:+0900
TZOFFSETTO:+0900
TZNAME:JST
END:STANDARD
END:VTIMEZONE
BEGIN:VEVENT
UID:740908@techplay.jp
SUMMARY:Go 1.13 Release Party in Tokyo
DTSTART;TZID=Asia/Tokyo:20190823T193000
DTEND;TZID=Asia/Tokyo:20190823T220000
DTSTAMP:20260425T105232Z
CREATED:20190710T062241Z
DESCRIPTION:イベント詳細はこちら\nhttps://techplay.jp/event/74090
 8?utm_medium=referral&utm_source=ics&utm_campaign=ics\n\nLet's celebrate 
 the release of Go 1.13. We will hold this event at Mercari Tokyo Office. 
 We're looking forward to celebrating it with you.\nIf you want to give a 
 presentation\, let @tenntenn or other organizers know it.\nConnecting oth
 er venues\nWe have a plan to connect other venues around Japan.\nIf you c
 an provide a place for the release party\, please contact @tenntenn :)\n\
 nOkayama: https://okayamago.connpass.com/event/139882/\nFukuoka: https://
 fukuokago.connpass.com/event/139929/\nOsaka: https://umedago.connpass.com
 /event/140197/\nSendai: https://techplay.jp/event/742699\nOkinawa: https:
 //okinawa-go.doorkeeper.jp/events/95414\n\nTime table\n\n\n\nTime\nConten
 t\n\n\n\n\n19:00 - 19:30\nOpen\n\n\n19:30 - 19:40\nWhat's new Go1.13? by 
 tenntenn\n\n\n19:40 - 20:00\nGopherCon 2019 Report by knsh14\n\n\n20:00 -
  20:20\nWhat's new sync.Pool in Go1.13 by huydx\n\n\n20:20 - 20:30\nBreak
 \n\n\n20:30 - 20:50\nGenerics in Go by linyows (Fukuoka.go)\n\n\n20:50 - 
 21:00\ntesting.B.ReportMetric by ymotongpoo\n\n\n21:00 - 21:10\nhttp clie
 nt rewriteについて by shibu_jp\n\n\n21:10 - 21:40\nAfter Party\n\n\n\
 nReception\nThe event reception would be located on LL floor of Roppoingi
  Hills Mori Tower.\nAt the reception\, you should get a sticker which is 
 required to pass the security gate.\nPlease prepare your reception number
  in advance of it.\nSponsors\n\nMercari\, Inc.\n
LOCATION:株式会社メルカリ 東京都港区六本木6-10-1 (六本木
 ヒルズ森タワー18F)
URL:https://techplay.jp/event/740908?utm_medium=referral&utm_source=ics&utm
 _campaign=ics
END:VEVENT
END:VCALENDAR
