BEGIN:VCALENDAR
VERSION:2.0
PRODID:-//https://techplay.jp//JP
CALSCALE:GREGORIAN
METHOD:PUBLISH
X-WR-CALDESC:企業がライブ配信する時代！無料ウェビナー
X-WR-CALNAME:企業がライブ配信する時代！無料ウェビナー
X-WR-TIMEZONE:Asia/Tokyo
BEGIN:VTIMEZONE
TZID:Asia/Tokyo
BEGIN:STANDARD
DTSTART:19700101T000000
TZOFFSETFROM:+0900
TZOFFSETTO:+0900
TZNAME:JST
END:STANDARD
END:VTIMEZONE
BEGIN:VEVENT
UID:741001@techplay.jp
SUMMARY:企業がライブ配信する時代！無料ウェビナー
DTSTART;TZID=Asia/Tokyo:20190726T150000
DTEND;TZID=Asia/Tokyo:20190726T163000
DTSTAMP:20260422T221733Z
CREATED:20190711T012947Z
DESCRIPTION:イベント詳細はこちら\nhttps://techplay.jp/event/74100
 1?utm_medium=referral&utm_source=ics&utm_campaign=ics\n\n企業がライ
 ブ配信する時代！無料ウェビナー\n\n概要\n7/26 (金) 15:00
  配信開始！無料ウェビナー「企業がライブ配信する時
 代！」近年アメリカでは、社員やエンドユーザーに向
 けてダイレクトに情報を伝える目的で、ライブ配信を
 活用する企業が急激に増えています。日本企業はどう
 でしょう。ソーシャルメディア時代の情報発信に上手
 く対応できているのでしょうか？映像を通してコミュ
 ニティへ情報発信する必要性は？アメリカライブ配信
 事業の先鋭を行くモビオンがアメリカのトレンドを紹
 介し、IBM Watson Mediaを活用した企業向けライブ配信の可
 能性をご説明します。ライブ配信のご視聴はこちらか
 ら！　https://www.mobeonlive.com/\n\nタイムスケジュール\n時
 間内容15:00～配信開始約20分ライブ配信：アメリカのト
 レンドと実例約20分日本のライブ配信のいまとこれか
 ら約20分バーチャルキャラクタープラットフォーム Vmee
 tsのご紹介約20分IBM Watson Media：プロダクト紹介とデモ
 ンストレーション〜16:30クロージング※ 当日予告なく
 時間配分・内容が変更になる可能性がございます。\n\n
 登壇者\n\n    \n        \n        \n            瀧石大志\n        
     MOBEON\, GENERAL MANAGER\n            米国のチャップマン大
 学を卒業後、数々の日米の映像コンテンツ制作に参加
 。Mobeon入社後は、OTT技術と映像クリエイティブのノウ
 ハウを活かしたソーシャルメディア•コンテンツをプ
 ロデュース。OTTエヴァンジェリスト、ライブ配信テク
 ニカルディレクター、CGプロデューサー、映像ディレ
 クターと活動は多岐に渡る。\n        \n    \n    \n        \n
         \n            Mark Alamares\n            MOBEON\, CEO\n          
   映画、テレビ、ビデオゲームなど、様々なプラット
 フォーム向けのコンテンツを開発。2014年ITメディアカ
 ンパニーMobeonの設立。以降、多くの企業のメディアコ
 ンサルタントとライブイベントを手掛ける。日本のオ
 タクカルチャーの造詣も深い。\n        \n    \n    \n       
  \n        \n            ノダ タケオ\n            ライブメディ
 アクリエイター\n            ソーシャルメディアとライ
 ブ配信・動画メディアが専門のクリエイター。記事連
 載「ライブ配信メディア完全解剖(ASCII.jp)」\n        \n   
  \n    \n        \n        \n            橋本善久\n            時空
 テクノロジーズ\, CEO\n            東京大学工学部卒。セ
 ガでゲームディレクターや技術ディレクター、スクウ
 ェア・エニックスにてCTOを務め、家庭用ゲームやゲー
 ムエンジン開発を数多く行う。2014年より独立し、現在
 は時空テクノロジーズCEO、リブゼント・イノベーショ
 ンズCEO、ライフイズテックCTOを兼務。代表作「ソニッ
 ク・ワールドアドベンチャー」「FINAL FANTASY１４」「デ
 ィズニー プログラミング学習教材 テクノロジア魔法
 学校」\n        \n    \n\n参加対象\n\n    最先端の企業向け
 ライブ動画配信にご興味をお持ちの皆様\n    基本的に
 はどなたさまでもお楽しみいただける内容となってお
 ります！\n\n持ち物\nウェビナーのみの実施ですので、
 会場や受付などなく、持ち物は不要です。\n\n参加費\n
 無料\n\nハッシュタグ\n#IBM #IBM Cloud Video #Mobeon #Ustream #ラ
 イブ配信 #ウェビナー
LOCATION:ウェビナーとしての開催のため、実会場はござい
 ません。
URL:https://techplay.jp/event/741001?utm_medium=referral&utm_source=ics&utm
 _campaign=ics
END:VEVENT
END:VCALENDAR
