BEGIN:VCALENDAR
VERSION:2.0
PRODID:-//https://techplay.jp//JP
CALSCALE:GREGORIAN
METHOD:PUBLISH
X-WR-CALDESC:【リスティング広告】代理店に丸投げで大丈
 夫？自分でチェックできる改善ノウハウセミナー【参
 加費無料】
X-WR-CALNAME:【リスティング広告】代理店に丸投げで大丈
 夫？自分でチェックできる改善ノウハウセミナー【参
 加費無料】
X-WR-TIMEZONE:Asia/Tokyo
BEGIN:VTIMEZONE
TZID:Asia/Tokyo
BEGIN:STANDARD
DTSTART:19700101T000000
TZOFFSETFROM:+0900
TZOFFSETTO:+0900
TZNAME:JST
END:STANDARD
END:VTIMEZONE
BEGIN:VEVENT
UID:741084@techplay.jp
SUMMARY:【リスティング広告】代理店に丸投げで大丈夫？
 自分でチェックできる改善ノウハウセミナー【参加費
 無料】
DTSTART;TZID=Asia/Tokyo:20190801T163000
DTEND;TZID=Asia/Tokyo:20190801T180000
DTSTAMP:20260425T013020Z
CREATED:20190712T004843Z
DESCRIPTION:イベント詳細はこちら\nhttps://techplay.jp/event/74108
 4?utm_medium=referral&utm_source=ics&utm_campaign=ics\n\n【リスティ
 ング広告】代理店に丸投げで大丈夫？自分でチェック
 できる改善ノウハウセミナー【参加費無料】=============
 ====================================日時：2019年8月1日（木）16
 ：30～18：00（受付16：00～）場所：貸会議室・レンタル
 スペース ルームス　水道橋　第3会議室　　　東京都
 千代田区 神田三崎町3-4-10 庄司ビル5F　　　最寄駅：JR
 水道橋駅　西口改札から徒歩2分定員：10名　※最低1名
 様以上で開催講師：株式会社hunny　PPCコンサルタント
 　佐藤光太郎=================================================概要
 本ページをご覧の皆様は、リスティング広告の運用に
 おいて、下記のようなお悩みをお持ちではないでしょ
 うか？・現状の広告の成果・パフォーマンスには不満
 だが、どのように改善していくのがいいのかわからな
 い・代理店から毎月レポートをもらってはいるものの
 、実際にどのように運用されているか、ベストな運用
 方法になっているのかわからない・広告運用の基礎と
 なる考え方がわからないから、どの数値を見て判断す
 べきなのかわからない・代理店から報告されている数
 字が正しいのかどうか確認する方法がない...etc累計300
 社を超えるリスティング広告の相談／アカウントを拝
 見させていただいておりますが、「古い推奨設定がそ
 のまま残っている...」「この項目、設定してないの？
 」といった基本的なミス／情報のアップデート不足が
 見受けられることが多々あります。何事にも言えるこ
 とですが、リスティング広告で成果を出すには、まず
 は「基本的な設定」をしっかりと行うことが必須の条
 件です。そこで、本セミナーでは、・リスティング広
 告で成果を出すための基本的な考え方・広告運用、基
 本となる「4つの要素」・自分のアカウントはどうなの
 ？リスティング広告アカウントのセルフチェック方法
 の流れでご説明。ベースとなる基本的な考え方をご説
 明した上で、見落としがちだけど重要なポイント／設
 定方法をご自身でチェックし、改善に繋げて頂けるよ
 うなノウハウお伝えいたします。本セミナーは「距離
 感の近いセミナー」を目指しており、少人数での開催
 とさせていただいておりますので、説明をお聞きいた
 だく中で気になったことや、自社に照らし合わせた場
 合など、気兼ねなくご質問いただけるようになってい
 ます。代理店に運用を依頼されている企業様はもちろ
 ん、自社で運用している企業様でもご参加いただけま
 すので、お気軽にお申込みください。タイムスケジュ
 ール時間内容16:00受付開始16:30～1部：リスティング広
 告 解説セミナー（60分）17:30～2部：質疑応答・名刺交
 換会（最大30分）18:00イベント終了～お越し下さりあり
 がとうございました～※ 当日予告なく時間配分・内容
 が変更になる可能性がございます。登壇者株式会社hunn
 y　PPCコンサルタント　佐藤光太郎（さとうこうたろう
 ）早稲田大学院卒業在学中より複数企業のマーケティ
 ング支援に携わる。リスティング広告運用を中心にと
 して、クライアントの成果改善に貢献。数十万円 / 月
 の案件から数千万円 / 月の案件まで、toC、toBを問わず
 、様々な案件の運用経験を持つ。\n現在も同様にリス
 ティング広告の運用をメインとし活動。\n改善、運用
 だけでなく、ウェブサイトの分析から問題抽出等も手
 がける。\n・Google AdWords検索上級 保有参加対象◆こん
 な方におすすめ・リスティング広告運用を依頼してい
 るが、望むような効果が出ていない、とお悩みの方・
 広告運用で一定の効果は出ているものの、もっとでき
 ること／伸びしろがあるのではないか、とお考えの方
 ・マーケティング部門、運用型広告担当の方◆こんな
 ことがわかります・リスティング広告で成果を出すた
 めの基本的な考え方・広告運用、基本となる「4つの要
 素」・リスティング広告アカウントのセルフチェック
 方法※お申込者多数の場合は、抽選とさせていただき
 ます。※弊社と事業上の競合関係にあたる企業様のご
 参加はお断りしております。あらかじめご了承くださ
 い。持ち物・お名刺・筆記用具参加費無料
LOCATION:貸会議室・レンタルスペース ルームス　水道橋
 　第3会議室 東京都千代田区 神田三崎町3-4-10 庄司ビル
 5F　最寄駅：JR水道橋駅　西口改札から徒歩2分
URL:https://techplay.jp/event/741084?utm_medium=referral&utm_source=ics&utm
 _campaign=ics
END:VEVENT
END:VCALENDAR
