BEGIN:VCALENDAR
VERSION:2.0
PRODID:-//https://techplay.jp//JP
CALSCALE:GREGORIAN
METHOD:PUBLISH
X-WR-CALDESC:悩めるディレクター集合！クリエイティブの
 ​キャリアについて考える  Director HUB #1
X-WR-CALNAME:悩めるディレクター集合！クリエイティブの
 ​キャリアについて考える  Director HUB #1
X-WR-TIMEZONE:Asia/Tokyo
BEGIN:VTIMEZONE
TZID:Asia/Tokyo
BEGIN:STANDARD
DTSTART:19700101T000000
TZOFFSETFROM:+0900
TZOFFSETTO:+0900
TZNAME:JST
END:STANDARD
END:VTIMEZONE
BEGIN:VEVENT
UID:741117@techplay.jp
SUMMARY:悩めるディレクター集合！クリエイティブの​キ
 ャリアについて考える  Director HUB #1
DTSTART;TZID=Asia/Tokyo:20190725T190000
DTEND;TZID=Asia/Tokyo:20190725T210000
DTSTAMP:20260422T225447Z
CREATED:20190712T061740Z
DESCRIPTION:イベント詳細はこちら\nhttps://techplay.jp/event/74111
 7?utm_medium=referral&utm_source=ics&utm_campaign=ics\n\n\nイベント
 主旨\n人生100年、老後の蓄えは2000万……人生やキャリ
 アに関する話題が多い昨今ですが、ふと考える人も多
 いはず。\n「ディレクターとしての自分のキャリアっ
 て、これからどうしたらいいんだろう？」\n答えが出
 にくい悩みだけど、皆で悩めば怖くない。話を聞いて
 、悩んで、少しでもスッキリし​よう​​！\nそんな
 「クリエイティブのキャリアを考える」勉強会です。\
 n当日は様々な事例を挙げながら、どんな選択肢・スキ
 ルセットが必要になるのかをご紹介します。\nこんな
 かたにオススメ\n\n受託型ディレクターとしてのキャリ
 アについて考えたい\n周囲にキャリアのモデルがいな
 くて困ってる\nディレクター​​の人脈をつくりたい\n
 むしろ人生について考えたい\nぶっちゃけ人生が迷子
 である\nそんなことより​ピザ食べたい\n\n開催概要\n\n
 日時　： 7月25日（木）19:00\n会場　：株式会社オロ〒15
 3-0063　東京都目黒区目黒3-9-1 目黒須田ビル 4F受付（目
 黒駅より徒歩13分程度）\n持物　：御名刺\n対象　：デ
 ィレクター or クリエイティブ職のかた\n参加費：無料\
 n定員　：​5～​10名前後\n\nタイムテーブル\n18:40　受
 付開始　※受付で御名刺を頂戴致します\n19:00　スター
 ト\n\nディレクターのキャリアについて\n​ディレクタ
 ー経験を積んだ先のキャリアアップ\n今後求められる
 ディレクターのスキル​ ​etc\n\n20:00　ピザパーティー
 （任意参加）\n21:00　終了予定\nスピーカー紹介\n株式
 会社オロ　IA／UXデザイナー　高橋一成\n中途入社で​
 オロ​9年目。\nキャリアは、デザイナー　→　ディレ
 クター　→　IA／UXデザイナー。\nディレクター業務は
 もちろんのこと、プロジェクトによってはIAやプロデ
 ューサーを担当している。\nWeb業界のスタートがデザ
 イナーだったため、数多いディレクター陣の中でも群
 を抜いて精緻なワイヤーフレームを書く。ときにはワ
 イヤーフレーム段階でクライアントにデザインと勘違
 いさせてしまい、デザインOKをいただくことも（実話
 ）。\n最近はボードゲームにはまっており、同僚とoRo
 ボードゲーム部を立ち上げ。\nだが部活予算は使わず
 、自費でボードゲームを買い集めている。\n株式会社
 オロ　ディレクター　城本大地\n中途入社で​オロ​3
 年目​。\nキャリアは、​Webの何でも屋​（？）​​ 
 → フロントエンドエンジニア → ディレクター\n基本
 どんなディレクションでもやるスタンスだが、システ
 ム開発ディレクションやCMSスペシャリストとしてCMS設
 計、導入支援などを担当する事が多い。\n過去の会社
 で組んでいたディレクターのディレクションに疑問を
 持ったこと、人数も少なかったこともあり、自分から
 客先に出たことがディレクターになったきっかけ。\n
 最近はプロジェクトマネジメント、チームマネジメン
 トを勉強中。\n休日は子供と色々な公園へ遊びに行き
 、お気に入りのすべり台を探している。\nDirector HUB​
 とは？​\nディレクターのディレクターによるディレ
 クターのためのイベント。\nディレクターが集い、繋
 がり、知見のシェアをする​場。\nスピーカーも参加
 者もお酒を飲みながら話すゆるーい会。テーマは都度
 色々。\n
LOCATION:株式会社オロ 東京本社 東京都目黒区目黒3-9-1 (目
 黒須田ビル)
URL:https://techplay.jp/event/741117?utm_medium=referral&utm_source=ics&utm
 _campaign=ics
END:VEVENT
END:VCALENDAR
