BEGIN:VCALENDAR
VERSION:2.0
PRODID:-//https://techplay.jp//JP
CALSCALE:GREGORIAN
METHOD:PUBLISH
X-WR-CALDESC:JMRX 技術勉強会 #5
X-WR-CALNAME:JMRX 技術勉強会 #5
X-WR-TIMEZONE:Asia/Tokyo
BEGIN:VTIMEZONE
TZID:Asia/Tokyo
BEGIN:STANDARD
DTSTART:19700101T000000
TZOFFSETFROM:+0900
TZOFFSETTO:+0900
TZNAME:JST
END:STANDARD
END:VTIMEZONE
BEGIN:VEVENT
UID:741227@techplay.jp
SUMMARY:JMRX 技術勉強会 #5
DTSTART;TZID=Asia/Tokyo:20190724T190000
DTEND;TZID=Asia/Tokyo:20190724T210000
DTSTAMP:20260423T082349Z
CREATED:20190712T141715Z
DESCRIPTION:イベント詳細はこちら\nhttps://techplay.jp/event/74122
 7?utm_medium=referral&utm_source=ics&utm_campaign=ics\n\n概要\nPython\,
  Rでのデータ分析・統計解析や、JavaScriptを用いたExcel
 制御などを学びたいマーケティングリサーチャーほか
 希望者のための勉強会  \n参加をご希望される方は、本
 ページ（connpass）もしくはFacebookにてご登録をお願いい
 たします。\nFacebookグループ  \n第4回 イベント要領\nテ
 ーマ：Excel Javascript API\n講演者（予定）：\n株式会社ア
 ンド・ディ　佐藤哲也他（プログラミング担当者によ
 る発表等を含む場合あり）\n講演内容：\nExcelといえば
 リサーチャーのみならず全ビジネスマンの必須ツール
 ですが、Excel2016より導入されたExcel JavaScript APIにより
 、JavaScriptでExcel上での各種処理がおこなようになった
 ことはあまり知られておらず、Web上の情報リソースも
 限定されています。特に、Excel2019（バージョン1.9）と
 なった現在では、JavaScriptによりExcelを制御できる範囲
 がチャートオブジェクト等急速に拡大してきており、
 その実務での可能性について注目が集まっています。\
 nこれまでExcel上での処理を自動化するための言語とし
 ては、VBAしかありませんでしたが、VBAはその言語仕様
 や開発環境上の制約が厳しく、モダンな開発手法が適
 用できないなどの問題があります。一方JavaScriptは既存
 のWeb開発の中心的言語であることから、ExcelとWebを架
 橋する利用方法や開発方法が可能になるなど、その影
 響は大きいと考えられます。\n今回はVBAでできること
 との比較を含めて、Excel JavaScript APIを導入で得られる
 メリットや現状な課題などを広く共有できるようにお
 話する予定です。\n講演者（佐藤哲也）について：\n株
 ）アンド・ディ 代表取締役／株）ルグラン CTO（最高
 技術責任者）\nアンド・ディでは、マーケティングリ
 サーチ分野のAI／IT技術活用事業を、またルグランでは
 天候マーケティングアプリケーション（TNQL.jp）の開発
 を中心に担当している。元静岡大学大学院情報学研究
 科准教授。2007年より大学発ベンチャー「株）デザイン
 ルール」を設立し、産学連携を実施。2014年４月より大
 学を退職し事業活動に専念。専門は社会情報学、ネッ
 ト選挙、意思決定支援システム。東京工業大学大学院
 助手当時の1999年よりネット選挙関連アプリケーション
 の研究開発を開始。2001年参院選にて日本初の有権者の
 投票支援(ボートマッチ)システムの実証実験。2007年に
 は日本初の本格的な選挙予測市場システム「sangi.in」
 及び「shuugi.in」の開発運用を開始し、2009年衆院選の民
 主党の獲得議席309議席を的中させて話題となる。\n\n主
 催：株式会社アンド・ディ\n日時：2019年7月24日（水）\
 n\n受付　：18:45 ~ 19:00\n勉強会：19:00 ~ 21:00\n\n会場：株
 式会社マーケティングアプリケーションズ\n　　　東
 京都千代田区麹町3丁目3-6 麹町フロントビル10階\n会費
 ：無料\n持ち物：\n\nノートPC\n名刺1枚（初めてご参加
 の方）  \n\n※Facebookにて参加登録が済んでいる方は、co
 nnpassでのお申し込みは不要です。\n過去の勉強会\n第4
 回 7月3日（水）\n\nhttps://connpass.com/event/135398/\n資料: http
 s://hackmd.io/@AvWKpQTARl-uwEhmOAb9vg/rku5glcgr#/\n構造化を目指し
 たFA回答に基づく意味ネットワーク分析手法とその自
 動処理化（自然言語処理）\n\n第3回 6月12日（水）\n\nhtt
 ps://connpass.com/event/133731/\n資料: https://hackmd.io/@AvWKpQTARl-uw
 EhmOAb9vg/BJWZ1UMpV#/\nプログラミングとは for リサーチャー
 \n\n第2回 5月8日（水）\n\n資料: https://hackmd.io/p/r1sBWmgh4#/\
 n各参加者がPythonで実現したいことを発表\n\n第1回 4月17
 日（水）\n\n資料: https://hackmd.io/p/BkFnLLEcE#/\nアンド・デ
 ィ佐藤による講演\n自己紹介\nプログラミングを学ぶ上
 で必要な心構え\nなぜリサーチャーがPythonを学ぶ必要
 があるのか\n\n\nJupyter Notebook 環境構築\n
LOCATION:株式会社マーケティングアプリケーションズ 東
 京都千代田区麹町3丁目3-6 (麹町フロントビル10階)
URL:https://techplay.jp/event/741227?utm_medium=referral&utm_source=ics&utm
 _campaign=ics
END:VEVENT
END:VCALENDAR
