BEGIN:VCALENDAR
VERSION:2.0
PRODID:-//https://techplay.jp//JP
CALSCALE:GREGORIAN
METHOD:PUBLISH
X-WR-CALDESC:SBクラウド てっくないと #1
X-WR-CALNAME:SBクラウド てっくないと #1
X-WR-TIMEZONE:Asia/Tokyo
BEGIN:VTIMEZONE
TZID:Asia/Tokyo
BEGIN:STANDARD
DTSTART:19700101T000000
TZOFFSETFROM:+0900
TZOFFSETTO:+0900
TZNAME:JST
END:STANDARD
END:VTIMEZONE
BEGIN:VEVENT
UID:741265@techplay.jp
SUMMARY:SBクラウド てっくないと #1
DTSTART;TZID=Asia/Tokyo:20190726T190000
DTEND;TZID=Asia/Tokyo:20190726T210000
DTSTAMP:20260421T220750Z
CREATED:20190712T234248Z
DESCRIPTION:イベント詳細はこちら\nhttps://techplay.jp/event/74126
 5?utm_medium=referral&utm_source=ics&utm_campaign=ics\n\nSBクラウド
 のエンジニアが主催するAlibaba Cloud勉強会です。\nAlibaba
  Cloudに興味あるけど触ったことない方や、Alibaba Cloudの
 勉強ってどうやるのという方向けにAlibaba Cloudの良さを
 伝えたいという想いで開催しております。\n開場から1
 時間ほどSBクラウドのエンジニアがAlibaba Cloudについて
 も質問を受け付けますのでお気軽にご相談ください！
 ！\n今回のテーマ\n今回は初回となります。\n初回はの
 テーマは「Alibaba Cloudのデータ分析」となります。\nデ
 ータ分析といっても様々な手法がありますが、今回は
 以下のような内容を予定しています。\n\n\nリアルタイ
 ムログ分析\nAlibaba Cloud上で手軽に構築できるリアルタ
 イムログ分析基盤「RealtimeCompute+ElasticSearch」について
 。\nリアルタイムログ分析についての紹介と環境構築
 を実施するデモを行います。\n「RealtimeCompute+ElasticSearch
 」のメリットとユースケースについても説明します。\
 n\n\nデータ分析基盤デザインパターン\nAlibaba Cloud上で
 実現可能なデータ分析のパターンを簡単に紹介します
 。\n\n\n開催概要\n開催日時\n7月26日（金）　開場18:00　
 開始19:00\n参加費無料\nお申込締切 7月25日（木）17:00\n
 申込締切後、入館用のQRコードを参加者の皆様にお送
 りします。\nそちらのQRコードを印刷、または、スマホ
 などに表示できる準備をしてご来場下さい。\nタイム
 スケジュール\n\n\n\n時間\n内容\n登壇者\n\n\n\n\n18:00\n開
 場・エンジニア相談会\n\n\n\n19:00\nデータ分析基盤デザ
 インパターン紹介\n土屋\n\n\n19:20\nリアルタイムログ分
 析紹介\n謝\n\n\n19:50\n休憩\n\n\n\n20:00\nリアルタイムログ
 分析環境構築デモ\n謝\n\n\n20:50\n質疑応答\n\n\n\n21:00\n終
 了\n\n\n\n\n発表者紹介\n土屋健斗\nSBクラウド 技術統括
 部 技術部 テクニカルコンサル課\n業務では、Alibaba Clou
 d ビッグデータ系の技術サポートを実施中。\n群馬県出
 身の27歳\n謝洋\nSBクラウド 技術統括部 技術部 テクニ
 カルコンサル課\n業務では、Alibaba Cloud ビッグデータ系
 の技術サポートを実施中。\n中国山東省出身の30歳 あ
 だ名は「シャア」\n会場へのアクセス\n会場\n〒105-7303 
 東京都港区東新橋1-9-1 東京汐留ビルディング\nhttps://yah
 oo.jp/xvvfq3\n\n申込締切後、メールにて、入館用のQRコー
 ドを参加者の皆様にお送りします。\n入館用QRコードを
 印刷、または、スマホなどに表示できる準備をしてご
 来場下さい。\nビル1階の受付にてQRコードを提示して
 入館下さい。\n11階までエレベーターで上がってくださ
 い。\n11階のエレベーターを降りたら、左の奥の方に進
 んでいって貰うと一番奥にA-00会議室がございます。\n\
 n交通のご案内\n最寄駅\nゆりかもめ線「汐留駅」（徒
 歩1分）\n都営大江戸線「汐留駅」（徒歩3分）\nJR線・
 東京メトロ銀座線「新橋駅」（徒歩13分）\n都営浅草線
 「新橋駅」（徒歩10分）  \n注意事項\n\n受付時間は 18:00
 〜19:00 です。なるべく開始時間（19:00）までにお越し
 ください。20:00以降は受付を終了します。  \n応募者多
 数の場合は、先着順とさせていただきます。予めご了
 承ください。  \n当日の様子のお写真をウェブサイトや
 SNSで公開する可能性がございます。撮影不可の場合は
 、受付などでお伝えください。  \nエンジニア向けのイ
 ベントとなっております。  \n過度な集客・勧誘を伴う
 行為、イベントの趣旨・目的から逸脱した行為は禁止
 しています（もし気分を害された方がいらっしゃいま
 したら、すみやかにスタッフまでお声がけください）
 。  \n\n会場は禁煙となっております。  \n\n\nご参加い
 ただく際にご記入いただく会社名、お名前、メールア
 ドレスは、ソフトバンク社屋への入館に際しセキュリ
 ティ上必要な情報となります。\n こちらの情報を元に
 したソフトバンクおよびSBクラウドからの連絡などは
 ございません。\n\n
LOCATION:Softbank 11F A00会議室 東京都港区東新橋1-9-1(東京汐
 留ビルディング)
URL:https://techplay.jp/event/741265?utm_medium=referral&utm_source=ics&utm
 _campaign=ics
END:VEVENT
END:VCALENDAR
