BEGIN:VCALENDAR
VERSION:2.0
PRODID:-//https://techplay.jp//JP
CALSCALE:GREGORIAN
METHOD:PUBLISH
X-WR-CALDESC:【開催中止】「新米プロダクトオーナーのお
 悩み相談室」 #agileteamjp
X-WR-CALNAME:【開催中止】「新米プロダクトオーナーのお
 悩み相談室」 #agileteamjp
X-WR-TIMEZONE:Asia/Tokyo
BEGIN:VTIMEZONE
TZID:Asia/Tokyo
BEGIN:STANDARD
DTSTART:19700101T000000
TZOFFSETFROM:+0900
TZOFFSETTO:+0900
TZNAME:JST
END:STANDARD
END:VTIMEZONE
BEGIN:VEVENT
UID:741284@techplay.jp
SUMMARY:【開催中止】「新米プロダクトオーナーのお悩み
 相談室」 #agileteamjp
DTSTART;TZID=Asia/Tokyo:20190726T193000
DTEND;TZID=Asia/Tokyo:20190726T210000
DTSTAMP:20260421T063124Z
CREATED:20190713T060024Z
DESCRIPTION:イベント詳細はこちら\nhttps://techplay.jp/event/74128
 4?utm_medium=referral&utm_source=ics&utm_campaign=ics\n\n開催中止の
 お知らせ\n\n今回のイベントは応募が少なかったため中
 止とさせていただきました。\n\n次回開催予定のイベン
 トは 「新米スクラムマスターのお悩み相談室」  - ア
 ジャイルチームを支える会 となりますのでぜひ参加い
 ただければと思います。\n\n今月のテーマは、アジャイ
 ル開発における「新米プロダクトオーナー」です！\n\n
 テーマについての疑問点・悩み事を持ち寄り、相談員
 と参加者とで対話をしながら解決していきましょう！\
 n\nぜひ悩みごとや疑問点をお持ち寄り下さい。\n\n(例)\
 n\n\nPOとして大事にすることとは？\nストーリーの優先
 度のつけ方がわからない\nストーリーの粒度はどのく
 らいにしたらいいの？\nいつリリースできるか見えな
 い\nPOがレビューしづらいものはストーリーにしない方
 がよいか？\nスクラムマスターとの役割の棲み分けが
 わからない\nチームにPMやディレクターがいるのですが
 、これって正しいスクラムですか？\nプロダクトオー
 ナーはエンジニア経験者がよいですか？\n\n\n上記以外
 のスクラムマスターの疑問点や悩み事でももちろんか
 まいません！\n\n参加される方で既に実践を始められて
 いる方は、\nご自身の現場での様々なロールや責務が
 どのようなものかを確認の上、参加頂けますと幸いで
 す。\n\n参加者へのお願い\n\n\n本相談室はアジャイル開
 発の初心者に向けたもののため、アジャイル開発の経
 験が豊富な方の参加はご遠慮いただいております\n\n\n
 今回の相談員\n\n飯田 意己\n\n\n株式会社クラウドワー
 クスでエンジニア、スクラムマスター、プロダクトオ
 ーナーを経て現在はマネジメントの仕事をしています
 。現場のチームビルディングから部署を超えた会社全
 体の改善など、アジャイルな組織づくりを推進してい
 ます。\n\n松元 健\n\n\nエンジニアとして、より創発的
 な開発のあり方を探求するうちにアジャイルに出会い
 、以降様々なレベルでの実践者となりました。適応的
 な人材や組織作りのために、スクラムの実践や適応に
 関する組織展開や、支援チームのリードなども行って
 いました。現在はフリーのスクラムマスターとして、
 多様な形態で個人やチーム、組織や経営まで幅広く実
 践や適応の支援をしています。\n書籍「Scrum Boot Camp The 
 Book」レビュアー、「ジョイ・インク 役職も部署もな
 い全員主役のマネジメント」翻訳レビュアー\n\n山口 
 鉄平\n\n\n組込みシステムのソフトウェア開発をおこな
 っていたときに、アジャイル開発を知り、それ以降自
 身の開発および開発改善の業務においてアジャイル開
 発を利用するようになりました。現在は、WEBシステム
 開発におけるアジャイル開発やテスト自動化などの開
 発改善、組織改善を仕事にしています。また、それら
 と並行して、ソフトウェア開発に関係する様々なイベ
 ントの企画、運営や発表など社外活動もおこなってい
 ます。共訳として、「Fearless Change アジャイルに効く 
 アイデアを組織に広めるための48のパターン」(丸善出
 版)があります。\n\n相談員は決定次第、随時追加しま
 す。\n\nアジェンダ\n\n\n\n時間\n内容\n\n\n\n19:20-19:30\n受
 付\n\n\n19:30-19:40\nオープニング\n\n\n19:40-21:00\n相談会\n\n\
 n\n諸注意\n\n\n会場の都合上、受付時間内（19:20-19:30）
 にお越し下さい\n受付は6Fですので、直接6Fまでお越し
 下さい\n\n\nTwitter\n\n#agileteamjp
LOCATION:株式会社クラウドワークス 東京都渋谷区恵比寿4-
 20-3 恵比寿ガーデンプレイスタワー6階
URL:https://techplay.jp/event/741284?utm_medium=referral&utm_source=ics&utm
 _campaign=ics
END:VEVENT
END:VCALENDAR
