BEGIN:VCALENDAR
VERSION:2.0
PRODID:-//https://techplay.jp//JP
CALSCALE:GREGORIAN
METHOD:PUBLISH
X-WR-CALDESC:シニアプログラミングもくもく会＠愛知県8月
 【毎月第１火定期】
X-WR-CALNAME:シニアプログラミングもくもく会＠愛知県8月
 【毎月第１火定期】
X-WR-TIMEZONE:Asia/Tokyo
BEGIN:VTIMEZONE
TZID:Asia/Tokyo
BEGIN:STANDARD
DTSTART:19700101T000000
TZOFFSETFROM:+0900
TZOFFSETTO:+0900
TZNAME:JST
END:STANDARD
END:VTIMEZONE
BEGIN:VEVENT
UID:741310@techplay.jp
SUMMARY:シニアプログラミングもくもく会＠愛知県8月【毎
 月第１火定期】
DTSTART;TZID=Asia/Tokyo:20190806T190000
DTEND;TZID=Asia/Tokyo:20190806T210000
DTSTAMP:20260425T021526Z
CREATED:20190713T121907Z
DESCRIPTION:イベント詳細はこちら\nhttps://techplay.jp/event/74131
 0?utm_medium=referral&utm_source=ics&utm_campaign=ics\n\n続シニアハ
 ッカソン！　もくもく会-愛知【毎月第１火曜日定期】
 ！\n\n概要\n\n2018年7月29日（日）にCode for JAPAN小泉氏や
 世界最高齢アプリ開発者の若宮氏をお招きし、愛知県
 で「シニアプログラミングハッカソン」を実施しまし
 た。\n\nこのもくもく会では、シニアの方を中心に実際
 に\n「アプリ」や「モノ」をつくりあげるための作り
 込み会です。\n\n各自で『つくりたいもの』に向けて一
 直線で作り込んでいくことを実施していきます。\n毎
 月第１火曜日に定例で実施してまいります。\nぜひ、
 お時間をつくっていただければ幸いです。\n\n\n\n\nタイ
 ムスケジュール\n\n\n\n\n  時間\n  内容\n\n\n\n\n  18:45〜\n  
 受付開始\n\n\n  19:00〜20:45\n  作り込み/もくもく会/伴走
 支援アリ！\n\n\n  20:45〜20:55\n  お片付け\n\n\n  20:55～21:00
 \n  次回開催案内\n\n\n  21:00\n  解散\n\n\n\n\n※ 当日予告
 なく時間配分・内容が変更になる可能性がございます
 。\n\n参加対象\n\n*ITやIoTに興味がある方\n\n*プログラミ
 ングに挑戦してみたい方\n\n*孫と一緒にプログラミン
 グで語れるようになりたい方\n\n*孫に自分がつくった
 プログラミングを自慢したい方\n\n*2020年プログラミン
 グが授業化されるにあたり、孫にプ\nログラミングを
 教えたい方\n\n*定年退職を迎え、新しい生き方や新し
 いことに挑戦したい方\n\n*電子工作を楽しみたい方\n\n*
 世界最高齢のアプリ開発者の称号を更新したい方\n\n*
 なにかつくりたい！って考えているシニアの方\n\n※ 
 リクルーティング、勧誘など、採用目的でのイベント
 参加はお断りしております。\n※ 飲食のみを目的とし
 たご応募・ご来場はご遠慮ください。\n※ 欠席される
 場合は、お手数ですが速やかにキャンセル処理をお願
 い致します。\n\n持ち物\n\n可能ならばノートパソコン
 、タブレット等\n\n日時・主催\n\n日時：2019年8月6日(火)
  19:00〜21:00\n※毎月第1火曜日定期\n\n場所：Connected base A
 SOVIVA\n名古屋市東区泉一丁目21番27号 泉ファーストスク
 エア9階\nhttps://asoviva-sk.com/\n\n主催：Code for AICHI、シニ
 アプログラミングネットワーク\n\n共催：名工大白松研
 \n\n問い合わせ先： code4aichi@gmail.com\n\n参加費\n\n500円\n\n
 ハッシュタグ\n\n#techplayjp\n#c4a\n#codeforaichi\n#seniorhackthon\n
 #senior\n#mokumoku\n
LOCATION:Connected base ASOVIVA 名古屋市東区泉一丁目21番27号 
 泉ファーストスクエア9階
URL:https://techplay.jp/event/741310?utm_medium=referral&utm_source=ics&utm
 _campaign=ics
END:VEVENT
END:VCALENDAR
