BEGIN:VCALENDAR
VERSION:2.0
PRODID:-//https://techplay.jp//JP
CALSCALE:GREGORIAN
METHOD:PUBLISH
X-WR-CALDESC:【どなたでも参加OK】わいわい会～2019/07/27～
X-WR-CALNAME:【どなたでも参加OK】わいわい会～2019/07/27～
X-WR-TIMEZONE:Asia/Tokyo
BEGIN:VTIMEZONE
TZID:Asia/Tokyo
BEGIN:STANDARD
DTSTART:19700101T000000
TZOFFSETFROM:+0900
TZOFFSETTO:+0900
TZNAME:JST
END:STANDARD
END:VTIMEZONE
BEGIN:VEVENT
UID:741313@techplay.jp
SUMMARY:【どなたでも参加OK】わいわい会～2019/07/27～
DTSTART;TZID=Asia/Tokyo:20190727T100000
DTEND;TZID=Asia/Tokyo:20190727T130000
DTSTAMP:20260419T123952Z
CREATED:20190713T132046Z
DESCRIPTION:イベント詳細はこちら\nhttps://techplay.jp/event/74131
 3?utm_medium=referral&utm_source=ics&utm_campaign=ics\n\nどなたでも
 参加OKわいわい会～2019/07/27～\n\n概要\n☆わいわい会と
 は☆どこかに集まって、各自もくもくと勉強したり作
 業したり本を読んだりするだけの会「もくもく会」を
 雑談・質問もOKにした会のことです。シーン…とし過
 ぎるより、適度にわいわいしながら、刺激のある環境
 で作業や仕事を捗らせたい。IT業界でも、横のつなが
 りを持ちたい。どんな方でも気軽に参加できる場所を
 作りたい。という想いで始めました。ですので、勉強
 でも、仕事でも、読書でも、手芸でも、何にでも使っ
 てください。「家ではどうも仕事や勉強に集中できな
 い、さぼってしまいがち」とか「他の人が作業してる
 のを見ると自分もやんなきゃなんないような気がする
 」とか「一人でタスクに向かう気の重さを人と集まる
 ことで紛らわせたい」とか「わいわい話したいなぁ」
 「どうせなら、読書ついでに知り合いが増えたらいい
 な」とかそういう方にお薦めです。真剣に作業するも
 くもくスペースと、ちょっとワイワイしながらやるス
 ペースを作るので、コワーキングスペース的な使い方
 でもOKですし、雑談しながらでも大丈夫です。【日時
 】７月27日(土) 10:00～13:00※途中参加・途中退室自由【
 参加費】1\,500円※各コースをわいわい会込みでお申し
 込みの方は【わいわい会フリー】チケットでお申し込
 みください。【場所】レンタルスペース松本※電源あ
 り※Wi-Fi ありません。【参加講師】※話しかけてOK！Ex
 celコース講師・SEコース講師・VBAコース講師など都内
 でITスキル講座を開講している『＋IT（プラスアイティ
 ―）』の講師もいます。スキルや仕事について質問し
 てもらうのも大歓迎です。※個別で対応中の時もあり
 ますので、受付スタッフにご相談ください。【持ち物
 】・ご自分の作業・勉強に必要なもの・飲み物・お菓
 子等（食事はご遠慮ください）【注意事項】大声で騒
 ぐ、ナンパ・勧誘行為など、参加者の迷惑になると判
 断した場合は退室していただく場合がございますので
 、ご了承ください。☆『＋IT』とは☆SEやIT事務職のメ
 ンバーが集まって、都内を中心に、ITスキル講座を定
 期開催しています。目的は、IT技術の習得によって、
 収入UPや仕事の能率UPを実現する人を増やすことです。
 会社や業界関係なく横のつながりを創り、楽しく学び
 合えるコミュニティができるといいなと考えています
 。・Excel講座・SE体験講座・JAVA講座・VBA講座https://plus-i
 nfo-tech.com/８月以降も各種ショートセミナーを開催して
 おります！
LOCATION:レンタルスペース松本 東京都品川区北品川2-19-4
URL:https://techplay.jp/event/741313?utm_medium=referral&utm_source=ics&utm
 _campaign=ics
END:VEVENT
END:VCALENDAR
