BEGIN:VCALENDAR
VERSION:2.0
PRODID:-//https://techplay.jp//JP
CALSCALE:GREGORIAN
METHOD:PUBLISH
X-WR-CALDESC:[海老江数理科学勉強会] 深層学習(Goodfellow)読
 書会3
X-WR-CALNAME:[海老江数理科学勉強会] 深層学習(Goodfellow)読
 書会3
X-WR-TIMEZONE:Asia/Tokyo
BEGIN:VTIMEZONE
TZID:Asia/Tokyo
BEGIN:STANDARD
DTSTART:19700101T000000
TZOFFSETFROM:+0900
TZOFFSETTO:+0900
TZNAME:JST
END:STANDARD
END:VTIMEZONE
BEGIN:VEVENT
UID:741342@techplay.jp
SUMMARY:[海老江数理科学勉強会] 深層学習(Goodfellow)読書会3
DTSTART;TZID=Asia/Tokyo:20190802T193000
DTEND;TZID=Asia/Tokyo:20190802T203000
DTSTAMP:20260423T123840Z
CREATED:20190713T141932Z
DESCRIPTION:イベント詳細はこちら\nhttps://techplay.jp/event/74134
 2?utm_medium=referral&utm_source=ics&utm_campaign=ics\n\n深層学習テ
 キストの決定版!!\nGoodfellow\, BengioとCourvilleによる「深
 層学習」は深層学習に関する決定的テキストです。本
 読書会は深層学習のより深い理解を目指して、本書を
 通じて深層学習の理論と実践的手法を学びます。著者
 のGoodfellowは画像生成技法として広く使われているGAN(Ge
 nerative Adversarial Network)の考案者です。Bengioは「深層学
 習の父」と呼ばれ、2018年のチューリング賞を受賞しま
 した。\n\n英語オンラインテキスト\n日本語訳\n英語原
 書\n\n目次\n\n応用数学と機械学習の基礎\n深層ネットワ
 ーク：現代的な実践\n深層学習の研究\n\n今回はPart Iの4
 .3.1節 Beyond the Gradient: Jacobian and Hessian Matrices から読ん
 でいく予定です。\n会場環境\n\nテーブル、イス\n電源\n
 Wi-Fi\nホワイトボード\nプロジェクター\nコンビニ徒歩1
 分\n\n料金\n\n一般     1000円\n学生     500円\n高校生以下
 無料\n\n数学デーin大阪\n海老江数理科学勉強会は数学
 デーin大阪の併設イベントです。\n参加者は数字デーin
 大阪に自由に参加することができます。\n主催\n大阪分
 散技術コミュニティー(DTC)\nHP\nTwitter\n場所\nJR海老江駅
 、阪神電車野田阪神駅、地下鉄千日前線野田阪神駅、
 から徒歩5分\nJR野田駅は最寄り駅ではないので注意。\n
 https://goo.gl/maps/QVb8nkJyR9o
LOCATION:大阪分散技術コミュニティ 大阪府大阪市福島区
 海老江２丁目８−２９ 2F
URL:https://techplay.jp/event/741342?utm_medium=referral&utm_source=ics&utm
 _campaign=ics
END:VEVENT
END:VCALENDAR
