BEGIN:VCALENDAR
VERSION:2.0
PRODID:-//https://techplay.jp//JP
CALSCALE:GREGORIAN
METHOD:PUBLISH
X-WR-CALDESC:8/3【非公式】Progateもくもく会inNara　vol.14
X-WR-CALNAME:8/3【非公式】Progateもくもく会inNara　vol.14
X-WR-TIMEZONE:Asia/Tokyo
BEGIN:VTIMEZONE
TZID:Asia/Tokyo
BEGIN:STANDARD
DTSTART:19700101T000000
TZOFFSETFROM:+0900
TZOFFSETTO:+0900
TZNAME:JST
END:STANDARD
END:VTIMEZONE
BEGIN:VEVENT
UID:741378@techplay.jp
SUMMARY:8/3【非公式】Progateもくもく会inNara　vol.14
DTSTART;TZID=Asia/Tokyo:20190803T100000
DTEND;TZID=Asia/Tokyo:20190803T180000
DTSTAMP:20260424T171507Z
CREATED:20190714T062327Z
DESCRIPTION:イベント詳細はこちら\nhttps://techplay.jp/event/74137
 8?utm_medium=referral&utm_source=ics&utm_campaign=ics\n\nイベント概
 要\n\nこんにちは！主催のゆきたです‍\nこのイベント
 はProgateユーザー＆OB・OGによる、プログラミングをも
 くもく勉強するため会です。これからProgateを始める方
 から玄人？までレベルを問わずご参加いただけます。P
 rogateのユーザー登録から始めるもよし、一度学習した
 コースを復習するもよし、新しいコースにチャレンジ
 するもよし、みんなの「？」を解決するもよし、自分
 のペースで学習を進めてください。また、すでにProgate
 を卒業してしまった方でも各自が勉強したいテーマで
 もくもく会参加可能です！\n・一人でもくもくするの
 は寂しい\n・一緒にプログラミングを勉強する仲間と
 繋がりたい \n・始めたばかりでよくわからない\n・誰
 か教えて欲しい\n少しでも該当する方はぜひご参加く
 ださい！\n学生でも、社会人でも、社会人お休み中で
 も、フリーランスでもOK\n途中参加OK　途中退席OK\n奈良
 県外からの参加もOK（ご無理のない範囲で）\n日　時：
 8/3(土) 10:00~18:00もくもく会（昼食：12:00～13:00）\n会場
 利用料（ビジター利用）：¥500 （2時間利用枠）、¥1\,0
 00（2時間を超えて利用枠）\n※入場する際にコワーキ
 ングスペース受付へ利用申し込みの上、利用料をお支
 払いください。\n※コワーキングスペースへは、きら
 っ都なら１F店舗スペース中程にある階段から２Fへお
 上りください。\n専用のSlackがありますので興味のある
 方、参加される方はSlackへもご参加ください。\nリモー
 ト参加枠の方はSlackの登録が必須になります\n→非公式
 Progateもくもく会 in Nara 専用Slackワークスペースに登録\
 n※ 会場に電源あります。Wi-Fi環境あります。パスワー
 ドは当日会場でお知らせします。\n※ 館内への飲食物
 （匂いの強いもの除く）の持ち込みは可能です。ゴミ
 箱はありませんのでゴミは全て持ち帰りとなります。\
 nもくもくルール\n\nみんなで気持ちよく実りあるもく
 もくにするために守って欲しいルールです！ご協力く
 ださい。\n・その日の目標や課題を設定して宣言する
 →Slack #あっともくもく会チャンネルへどうぞ\n・他の
 人のもくもくは邪魔しない\n・「質問！」や「誰か教
 えて！」はSlack #あっともくもく会チャンネルから\n・
 セールスやスカウトなどの勧誘および営業活動、ハラ
 スメント行為などは禁止\n・少しでも良いので最後に
 進捗を報告→Slack #あっともくもく会チャンネルへ\n・
 進捗はみんなでリアクション\n・SNSへの投稿は自由で
 すが、写真・動画投稿時の顔出し可否の確認など、プ
 ライバシーへのご配慮をお願いいたします。\n※円滑
 な進行・コミュニケーションのため開催中はSlackアプ
 リを起動しておいてください。\nタイムテーブル\n\n※ 
 タイムテーブルは変更になる可能性があります。\n\n  \
 n    \n      時間\n      スケジュール\n    \n  \n  \n    \n      
 10:00 - 12:00\n      開場＆もくもく(午前の部)\n    \n    \n   
    12:00 - 13:00\n      お昼休憩\n    \n    \n      13:00 - 18:00\n  
     もくもく（午後の部）\n    \n  \n\n\n会場へのアクセ
 ス\n\n近鉄奈良駅が最寄駅になります。\nhttps://goo.gl/maps
 /ggoqYsNnrxP2 \n※ 参加者専用の駐車場はありません。車
 で来られる場合は近隣の有料駐車場をご利用ください
 。\n注意・連絡事項\n\n申し込み後、都合が悪くなった
 場合は必ずキャンセルの手続きをお願いします。\nも
 くもくルールにご協力いただけない方、および迷惑行
 為が確認された該当者は即刻退場いただくとともに、
 次回以降のイベントへの参加をお断りします。\n主催\n
 \nゆきた\nTwitte @yukita_jp\nBlog https://creatase.info/
LOCATION:NARA EGG 奈良県奈良市橋本町３−１（きらっ都・奈
 良２F）
URL:https://techplay.jp/event/741378?utm_medium=referral&utm_source=ics&utm
 _campaign=ics
END:VEVENT
END:VCALENDAR
