BEGIN:VCALENDAR
VERSION:2.0
PRODID:-//https://techplay.jp//JP
CALSCALE:GREGORIAN
METHOD:PUBLISH
X-WR-CALDESC:【体験会#3】ブロックチェーンアプリ開発集中
 講座 : Javascriptでブロックチェーンを作る!
X-WR-CALNAME:【体験会#3】ブロックチェーンアプリ開発集中
 講座 : Javascriptでブロックチェーンを作る!
X-WR-TIMEZONE:Asia/Tokyo
BEGIN:VTIMEZONE
TZID:Asia/Tokyo
BEGIN:STANDARD
DTSTART:19700101T000000
TZOFFSETFROM:+0900
TZOFFSETTO:+0900
TZNAME:JST
END:STANDARD
END:VTIMEZONE
BEGIN:VEVENT
UID:741569@techplay.jp
SUMMARY:【体験会#3】ブロックチェーンアプリ開発集中講
 座 : Javascriptでブロックチェーンを作る!
DTSTART;TZID=Asia/Tokyo:20190724T190000
DTEND;TZID=Asia/Tokyo:20190724T210000
DTSTAMP:20260422T055620Z
CREATED:20190716T061706Z
DESCRIPTION:イベント詳細はこちら\nhttps://techplay.jp/event/74156
 9?utm_medium=referral&utm_source=ics&utm_campaign=ics\n\nブロックチ
 ェーンアプリ開発集中講座とは\n「ブロックチェーン
 アプリ開発に興味あるけどなにから始めたらいいのか
 よくわからない...」\n「開発を始めてみたけど挫折し
 てしまった...」\n「技術的な話が複雑でよくわからな
 い...」\nこんな課題を感じたことはありませんか？\nブ
 ロックチェーンアプリ開発集中講座では、充実した講
 義と強力な講師陣によるサポートにより”1ヶ月”でブ
 ロックチェーンエンジニアになる未来を提供します！\
 nブロックチェーンは既存の技術の組み合わせでできて
 いますが、その一つ一つの要素が一般のエンジニアに
 馴染みの薄いものとなっています。\n結果的に、「な
 んとなくキーワードとなる単語は理解したけど、結局
 よくわからない」という状態になってしまいます。\n
 そこで、本講座を受講することで、網羅的にブロック
 チェーン技術を理解し、実際のアプリケーションを作
 ることで、どこでも通用する知識と経験を得ることが
 できます。\nまた、修了者には修了証明トークンを発
 行しておりますので、本講義を受講した証がブロック
 チェーンに記録されます。\n詳しくはこちらからご覧
 ください！\n体験会ではなにをしますか？\nブロックチ
 ェーンアプリ開発集中講座の第1週目のコンテンツの一
 部を体験します。\nエンジニアに馴染み深いJavascriptを
 用いて、「簡単なブロックチェーンを作成するハンズ
 オン」を行います。\n本講座では、実際に手を動かし
 てブロックチェーンに対する理解を深めていく形とな
 っておりますので、講義を聞くだけではわからないブ
 ロックチェーン技術の仕組みが理解できるようになっ
 ています。\n体験会は複数回開催していますので、日
 程の合う日にちでご参加ください。\n【体験会#1】ブロ
 ックチェーンアプリ開発集中講座 : Javascriptでブロック
 チェーンを作る!\n【体験会#2】ブロックチェーンアプ
 リ開発集中講座 : Javascriptでブロックチェーンを作る!\n
 【体験会#3】ブロックチェーンアプリ開発集中講座 : Ja
 vascriptでブロックチェーンを作る!\nこんな人におすす
 めです！\n\nブロックチェーンに興味があるけど、講座
 の雰囲気が知りたい\nブロックチェーンに興味がある
 エンジニアや学生\n業務で使いたいが、よくわからな
 くて困っている技術系の方\n新しい技術が好きなエン
 ジニア\n時間効率よく学びたいエンジニア\n\nタイムス
 ケジュール\n\n\n\n時間\n内容\n\n\n\n\n19:00-\n開場\n\n\n19:15-
 19:30\nブロックチェーンアプリ開発集中講座の説明\n\n\n
 19:30-20:30\nJavascriptでブロックチェーンを作るハンズオ
 ン\n\n\n20:30-21:00\n質問・解散\n\n\n\n持ち物\n\nPC\n充電器\n
 \n会場\nJRゲートタワー27階 名古屋大学オープンイノベ
 ーション拠点OICX\n15階からオフィスビルの方へ向かっ
 ていただきますと、27階まで昇れるエレベータがござ
 いますのでそちらを使用してください。\nハンズオン
 資料\nhttps://qiita.com/YuasaJunki/items/c18e06dc9a5970813c38#comment-9
 1a624debdf8dfbf2305
LOCATION:名古屋大学オープンイノベーション拠点 愛知県
 名古屋市中村区名駅１丁目1-3 JRゲートタワー27F 2702 名
 古屋大学オープンイノベーション拠点
URL:https://techplay.jp/event/741569?utm_medium=referral&utm_source=ics&utm
 _campaign=ics
END:VEVENT
END:VCALENDAR
