BEGIN:VCALENDAR
VERSION:2.0
PRODID:-//https://techplay.jp//JP
CALSCALE:GREGORIAN
METHOD:PUBLISH
X-WR-CALDESC:【京都】LINE Developer Meetup #56
X-WR-CALNAME:【京都】LINE Developer Meetup #56
X-WR-TIMEZONE:Asia/Tokyo
BEGIN:VTIMEZONE
TZID:Asia/Tokyo
BEGIN:STANDARD
DTSTART:19700101T000000
TZOFFSETFROM:+0900
TZOFFSETTO:+0900
TZNAME:JST
END:STANDARD
END:VTIMEZONE
BEGIN:VEVENT
UID:741573@techplay.jp
SUMMARY:【京都】LINE Developer Meetup #56
DTSTART;TZID=Asia/Tokyo:20190725T193000
DTEND;TZID=Asia/Tokyo:20190725T214500
DTSTAMP:20260420T222700Z
CREATED:20190716T061806Z
DESCRIPTION:イベント詳細はこちら\nhttps://techplay.jp/event/74157
 3?utm_medium=referral&utm_source=ics&utm_campaign=ics\n\nLINE Developer M
 eetup in Kyoto #56\nLINEが定期的に開催する技術者向けミー
 トアップ「LINE Developer Meetup」、56回目となる今回はLINE 
 Kyotoにて開催いたします。\n今回のテーマは「LINEのサ
 ーバーサイド開発事例」です。\n開演前にはハッピー
 アワーとして、お飲み物を片手にLINEエンジニアとカジ
 ュアルに交流できる時間も設けております。セッショ
 ンのあとは懇親会もございますので、是非ご参加くだ
 さい。\n※ 現在エンジニアの方、またはエンジニア志
 望の学生など基本的にプログラミングに関わっている
 みなさまを対象としております。\n※ 参加が難しくな
 った場合は他の方に参加していただけるよう早めのキ
 ャンセルをお願いします。\n日時\n2019年7月25日（木）19
 :30〜21:30\n※開場は19:00～\n場所\nLINE Kyotoオフィス\n京都
 府京都市下京区 麸屋町西入る立売東町28番地 SAKIZOPLAZA 
 B1F\n※地下１Fまでお越しください。 受付にてconnpassの
 ユーザIDもしくは受付番号を確認致します。\n予定\n\n\n
 \n時間\nコンテンツ\n登壇者\n\n\n\n\n19:00\n開場\n\n\n\n19:30\
 n乾杯\nエンジニアリングマネジャー御代田\n\n\n19:35\n音
 声認識におけるサーバサイド開発  ※日本語\nLINE KYOTO 
 市村（shuta_ichimura）\n\n\n19:55\nInfra@LINE ※日本語/英語\nLI
 NE KYOTO Chris （sfiera）\n\n\n20:15\n小休憩\n\n\n\n20:25\nLIFFの
 説明と裏側の話 ※日本語/英語\nLINE KYOTO Adam（amillerchip
 ）\n\n\n20:45\n懇親会\n参加者・登壇者・弊社エンジニア
 との懇親\n\n\n21:45\nCLOSE\n―\n\n\n\n※セッションは日本語
 /英語での進行となります。\n※内容・順番は変更の可
 能性があります。\n※参加費無料。軽食をご用意しま
 す。\nSushi&Beerの簡単な軽食をご準備いたします。また
 、懇親会を行いますので、ぜひ弊社社員だけでなくご
 参加のエンジニアの皆さんとご交流ください
LOCATION:LINE KYOTO ラボスペース 京都府京都市下京区四条通
 麸屋町西入る立売東町28番地
URL:https://techplay.jp/event/741573?utm_medium=referral&utm_source=ics&utm
 _campaign=ics
END:VEVENT
END:VCALENDAR
