BEGIN:VCALENDAR
VERSION:2.0
PRODID:-//https://techplay.jp//JP
CALSCALE:GREGORIAN
METHOD:PUBLISH
X-WR-CALDESC:JavaScriptの基礎構文だけでゲームを作れること
 を知ってもらう勉強会
X-WR-CALNAME:JavaScriptの基礎構文だけでゲームを作れること
 を知ってもらう勉強会
X-WR-TIMEZONE:Asia/Tokyo
BEGIN:VTIMEZONE
TZID:Asia/Tokyo
BEGIN:STANDARD
DTSTART:19700101T000000
TZOFFSETFROM:+0900
TZOFFSETTO:+0900
TZNAME:JST
END:STANDARD
END:VTIMEZONE
BEGIN:VEVENT
UID:741681@techplay.jp
SUMMARY:JavaScriptの基礎構文だけでゲームを作れることを知
 ってもらう勉強会
DTSTART;TZID=Asia/Tokyo:20190730T194500
DTEND;TZID=Asia/Tokyo:20190730T220000
DTSTAMP:20260421T204425Z
CREATED:20190716T141908Z
DESCRIPTION:イベント詳細はこちら\nhttps://techplay.jp/event/74168
 1?utm_medium=referral&utm_source=ics&utm_campaign=ics\n\n必ずお読み
 ください\n対象者 & 参加条件 (必須の知識)\n参加条件 (
 必須の知識)\n\nJavaScriptでの変数・関数・配列の定義を
 ご存知の方\nJavaScriptでの if / For などの基本構文の書き
 方をご存知の方\nHTML/CSSの基本的な知識をお持ちの方\n\
 n対象者\n\nJavaScriptを勉強中の方\nJavaScriptで簡易なゲー
 ムを作ってみたい方\nJavaScriptを勉強中だけど、いまい
 ちどのように動かせばいいのかわかっていない方\n\n(
 必須) 事前準備を必ずお願いします！！\n\nテキストエ
 ディターのインストール (Atom以外でも問題ありません
 ） \n   Atom \n\nJavaScriptのDOM操作と、標準的な関数の組み
 合わせだけで簡単なゲームを作る\nあまりプログラミ
 ングに馴染みのない人にとっては、JavaScriptは複雑そう
 に見えるかもしれません。\nしかし、基本的な構文を
 抑えさえすれば簡単にゲームを作成することができま
 す。  \n一番お手軽にプログラミングを体験でき、かつ
 、達成感を味わうことができる言語です。  \nそれを体
 験してもらうために「JavaScriptのDOM操作と、標準的な関
 数の組み合わせだけで簡単なゲームを作る」をゴール
 に勉強会を開催します\nこのイベントで学べること\n\nD
 OM(Document Object Model)って？\nid\, class\, tag それぞれによ
 るDOMを指定する方法\nイベントってなに？\nイベントの
 登録 (onclick、onmouseoverなど)ってどうやるの？\nevent.targe
 tとは？クリックされた対象を取得する\nどんなイベン
 トがあるの？\nランダムで画像を変えてみよう\n簡易ゲ
 ーム（もぐらたたき）をJavaScriptで作成してみよう\n(時
 間があれば）もう一つゲームをJavaScriptで作成してみよ
 う\n\n\n設備\n\n会場に電源、wifiのご用意がございます
 。\nPCは持ち込みです。電源ケーブルとご持参ください
 。\n\nX-HACKについて\n世の中のプログラマーの数を増や
 すために、勉強会を開催中です。\n詳しくはこちらを
 ご覧ください。\nSNS\n\n\n主催者Twitter: 松田信介\n\n\nLINE@
 \nこちらでプログラミング学習のサポートやカリキュ
 ラムの質問を受け付けています\n登録して質問して見
 てください\n\n\n
LOCATION:Impact HUB Tokyo  東京都目黒区目黒２丁目１１−３
URL:https://techplay.jp/event/741681?utm_medium=referral&utm_source=ics&utm
 _campaign=ics
END:VEVENT
END:VCALENDAR
