BEGIN:VCALENDAR
VERSION:2.0
PRODID:-//https://techplay.jp//JP
CALSCALE:GREGORIAN
METHOD:PUBLISH
X-WR-CALDESC:[非公式] Unite Tokyo 2019 Eve2 LT Fes
X-WR-CALNAME:[非公式] Unite Tokyo 2019 Eve2 LT Fes
X-WR-TIMEZONE:Asia/Tokyo
BEGIN:VTIMEZONE
TZID:Asia/Tokyo
BEGIN:STANDARD
DTSTART:19700101T000000
TZOFFSETFROM:+0900
TZOFFSETTO:+0900
TZNAME:JST
END:STANDARD
END:VTIMEZONE
BEGIN:VEVENT
UID:741797@techplay.jp
SUMMARY:[非公式] Unite Tokyo 2019 Eve2 LT Fes
DTSTART;TZID=Asia/Tokyo:20190923T140000
DTEND;TZID=Asia/Tokyo:20190923T193000
DTSTAMP:20260425T201422Z
CREATED:20190717T062653Z
DESCRIPTION:イベント詳細はこちら\nhttps://techplay.jp/event/74179
 7?utm_medium=referral&utm_source=ics&utm_campaign=ics\n\n当イベント
 の紹介\n今年もUnityの年に一度の祭典 UniteTokyo2019 が開
 催されます！\n今回は UniteTokyo を更に盛り上げるべく G
 otanda.unity / Roppongi.unity / UnityXXX完全に理解した勉強会 
 合同でLT大会を実施しようと考え "Unite Tokyo 2019 Eve2 LT Fe
 s" というイベント (以後 "UniteEve2" と表記) を立ち上げ
 ました。  \nこの機会が、より多くの人の学びやプレゼ
 ンスの向上に繋がりますと幸いです。\n大事なお願い\n
 UniteEve2 は UniteTokyo2019 の 非公式 前々夜祭となります。
 \n当イベントに関するお問い合わせは主催の 青木とと@
 lycoris102 までお願い致します。\n(Unity Technologies Japan様
 へのお問い合わせはご遠慮ください)\n会場\n株式会社
 メルカリ ( 東京都港区六本木6-10-1 六本木ヒルズ森タワ
 ー18F )\n六本木ヒルズ森タワーのLL階にある 専用受付カ
 ウンター にて、受付票のご提示をお願いします。\n入
 館証を発行するので、お持ちになって18Fのイベント会
 場までお越しください。  \n参加者向けの開場は13:20 で
 す。受付は 14:00 で締め切ります。  \n申し込み枠の紹
 介\n=============\n追記(2019/09/13)\n一般枠の定員を 70名 => 10
 0名に増枠しました。\nまた地方枠/学生枠を申し込み状
 況に合わせた形で調整を行わせていただきました。\n==
 ===========  \n概要\n\n[通常] 一般参加枠: どなたでも登録
 可能な参加枠です\n[通常] LT枠: どなたでも登録なLT枠
 です\n[通常] 学生参加枠: 学生が優先参加可能な参加枠
 です。学生以外は登録しないでください\n[通常] 作品
 展示枠: 休憩時間/懇親会で作品を展示したい人向けの
 枠です\n[一都三県外優先] 一般参加枠: 一都三県以外を
 活動拠点とする人向けの参加枠です\n[一都三県外優先]
  LT枠: 一都三県以外を活動拠点とする人向けのLT枠です
 \n\nLT枠\n持ち時間 8分 のLT (ライトニングトーク) を行
 っていただく枠です。\nGotanda.unity の 登壇者ガイドラ
 イン に沿って行いますので希望者は事前にご確認お願
 いします。  \n作品展示枠\n懇親会と並行して展示会を
 行います。\nUnity製アプリを展示することが可能です。
 \n展示スペースと電源を提供予定です。\n機材等は原則
 持参していただいていますが、難しい場合はご相談く
 ださい。\n一都三県外優先枠\nUniteTokyoの開催に伴い遠
 方からお越しになる方とも交流したいと考えています
 。\n今回は一都三県 (東京/千葉/埼玉/神奈川) 外と定義
 させていただきました。\n一都三県外にお住まいの方
 はこちらの枠にて優先的に参加いただけます。\n大変
 かと思いますが、この機会に参加をご検討いただけま
 すと幸いです。\nタイムスケジュール\n以下のタイムス
 ケジュールは予告なく変更となることがございます。\
 n=============\n追記(2019/08/23)\n今回、定員枠を超えるLTの
 申し込みを頂きました。\n運営メンバーで相談し、現
 時点でLT枠に登録してある人全員が参加できるように
 枠を調整しました。\nそれに伴い、タイムスケジュー
 ルを調整しました。\n=============  \n\n\n\n時間\n内容\n発
 表者\n\n\n\n\n13:20~\n受付開始\n\n\n\n14:00~\nイントロダクシ
 ョン\n\n\n\n14:15~\nLT #1 MagicOnion入門\nとりすーぷ\n\n\n\nLT #
 2 Oculus GoでLAMさんのキャラを7+1体同時に出そうとした
 話（仮）\nオークマネコ\n\n\n\nLT #3 Unityサウンド本振り
 返り 単著ができるまで\nichijo\n\n\n\nLT #4 Unity Shader Graph
 で魔法陣を作ってみた\nhenteko\n\n\n\nLT #5 okinawa.unityの話\
 n山田 周平\n\n\n15:05~\n小休憩(10min)\n\n\n\n15:15~\nLT #6 LWRP+Sh
 aderGraphで石を綺麗に魅せる方法\nnotargs\n\n\n\nLT #7 Unity Re
 corder v2 の紹介\nTAN-Y\n\n\n\nLT #8 たのしいUnsafeUtility\nmao\n\
 n\n\nLT #9 マップゲーム SDK 競合の話\nじぬ\n\n\n\nLT #10 画
 像処理から始めるコンピュートシェーダー\nsotan\n\n\n16:
 05~\n休憩(20min)\n\n\n\n16:25~\nLT #11 Unityを使ってXboxOne向け
 に気軽に軽率にゲームを作ってリリースする話\nsagawa@k
 obitostudio\n\n\n\nLT #12 Firebase Dynamic Linksを使ってみた話\nha
 cha\n\n\n\nLT #13 Zenject Example ~Contextの分割編~\nいも\n\n\n\nLT
  #14 ピアノが弾けない私が自分の為に"VRピアノ練習ソ
 フト"を作る話\n紺色\n\n\n\nLT #15 人類からコーディング
 をなくしたい ~ノーコーディングフレームワークつく
 ってみた~\nmattak\n\n\n17:15~\n小休憩(10min)\n\n\n\n17:25~\nLT #16
  「War Of Zodiac」開発話~Unity初仕事でアウトゲームのUI全
 て一人で製作した話~ (仮)\n荻野雄季\n\n\n\nLT #17 改造apk
 （MOD）はどうやって作られるのか~Unityにおけるチート
 手法を紹介~\nyukiarrr\n\n\n\nLT #18 UnityでOAuth認証~ブラウザ
 からUnity製iOS/Androidアプリを起動してみた~\n小林拓\n\n\n
 \nLT #19 モチ上ガールの操作が分かるようにチュートリ
 アルを作ってみた\nmumiさん\n\n\n18:05~\nクロージング/懇
 親会準備\n\n\n\n18:15~\n懇親会\n\n\n\n19:30~\n解散\n\n\n\n\n作
 品展示紹介\n\n\n\n名前\n作品名\nデバイス\n\n\n\n\nfunyamora
 \nぺこぺこモグモグSOS\nスマホ or タブレット\n\n\nAless\nB
 uild&Escape!!\nPC\n\n\nnkjzm\nモバイル版『千本桜』\nスマホ +
  ディスプレイ\n\n\neiicsa\nUTS2本 展示\n書籍\n\n\nshigusa\nエ
 スケープダンジョン！\nスマホ\n\n\nKENTO\n安全教育VR ～(
 株)ナノ・メディアの取り組み～\nOculusQuest\n\n\nなっつ
 ー\nVスタンプ\niPad\n\n\nN-Kbys_FCEI\nMillion Shells\nPS Vita\n\n\nm
 onicanicman\nMIMI-KAKE\nPC\n\n\nナナキ\n「Santa simulator」VR猪鹿
 蝶より\nOculusQuest + 専用コントローラー\n\n\n\nスポンサ
 ー\nUniteEve2は次のスポンサー各社様にご協力頂いてお
 ります。\n\n株式会社メルカリ様 (会場提供)\nワンダー
 プラネット株式会社様 (懇親会費用提供)\n株式会社キ
 ッズスター様 (懇親会費用提供)\nKLab株式会社 (エナド
 リ提供)\n\n諸注意\n\n会場ではWi-Fiを使用できます。\n会
 場では電源を提供できかねます。PC等をご使用になる
 場合、事前の充電にご協力ください。\n都合が悪くな
 った場合は早めのキャンセル処理をお願いします。\n
 体調不良や緊急の業務等、やむを得ない場合をのぞき
 、当日キャンセルは控えてください。\nスムーズな運
 営のため、以下に該当する方はご参加をお断りする場
 合がございます。予めご了承ください。\n反社会的勢
 力に属する方\n飲食のみが目的と見られる方\n保険/投
 資用不動産/宗教/ネットワークビジネス等の勧誘が目
 的と見られる方\n主催者判断で不適切だと判断した方\n
 \n\n\nFAQ\nQ. UniteEve2はなんと読む？\nA.「ユナイトイブイ
 ブ」と読みます (イブイブという英語表現は存在せず
 造語となります....!!)\nQ. UniteEve2の参加にUniteTokyo2019の
 チケットは必要？\nA. 不要です。UniteTokyo2019に参加しな
 い/できない方の参加も歓迎します。
LOCATION:株式会社メルカリ 18F 東京都港区六本木6-10-1(六本
 木ヒルズ森タワー18F)
URL:https://techplay.jp/event/741797?utm_medium=referral&utm_source=ics&utm
 _campaign=ics
END:VEVENT
END:VCALENDAR
