BEGIN:VCALENDAR
VERSION:2.0
PRODID:-//https://techplay.jp//JP
CALSCALE:GREGORIAN
METHOD:PUBLISH
X-WR-CALDESC:LeSS Study LeSS本読書会 第6回
X-WR-CALNAME:LeSS Study LeSS本読書会 第6回
X-WR-TIMEZONE:Asia/Tokyo
BEGIN:VTIMEZONE
TZID:Asia/Tokyo
BEGIN:STANDARD
DTSTART:19700101T000000
TZOFFSETFROM:+0900
TZOFFSETTO:+0900
TZNAME:JST
END:STANDARD
END:VTIMEZONE
BEGIN:VEVENT
UID:741814@techplay.jp
SUMMARY:LeSS Study LeSS本読書会 第6回
DTSTART;TZID=Asia/Tokyo:20190730T193000
DTEND;TZID=Asia/Tokyo:20190730T213000
DTSTAMP:20260424T013058Z
CREATED:20190717T140010Z
DESCRIPTION:イベント詳細はこちら\nhttps://techplay.jp/event/74181
 4?utm_medium=referral&utm_source=ics&utm_campaign=ics\n\n開催概要\n\n
 昨今、大規模なアジャイル開発のフレームワークがい
 くつか出てきています。その中のひとつである、Large-S
 cale Scrum ( http://less.works/ ) を理解し実践に結び付けられ
 たらと考え、このコミュニティを作成しました。\n\n今
 回から読書会\n\n『大規模スクラム Learge-Scale Scrum(LeSS)
 』が出版されました。\nそこで、進め方を変え、読書
 会として進めていきます。\n\n進め方\n\n担当者がまと
 めた部分を発表するスタイルで行います。書籍は持っ
 ていた方がよいですが、無くても参加出来ます。ビア
 バッシュ形式で楽しく盛り上がりましょう！\n\n会場の
 ご注意\n\n会場はご厚意でグロースエクスパートナーズ
 株式会社さんにご協力いただいております。\n21時以降
 はビルの入り口が閉まっています。時間どおりにお越
 しください。\n\n・最寄り駅/アクセス方法\n　・所在地
 \n　　・〒160-0023 東京都新宿区西新宿7-21-1 新宿ロイヤ
 ルビル3階\n　・アクセス\n　　◆JR・小田急線・京王線
 \n　「新宿」駅　西口より徒歩9分\n\n　　◆東京メトロ
 丸ノ内線\n　「西新宿」駅　C12出口より徒歩2分\n\n　　
 ◆都営地下鉄大江戸線\n　「都庁前」駅　A1出口より徒
 歩6分\n\n　会場（G's LounGe）の入り口はCanDo(100円ショッ
 プ)とエフワン(紳士服店)の間です。 \n　エレベーター
 で3階へ直接お越しください。エレベーターを降りて正
 面が会場です。\n\nhttps://www.gxp.co.jp/images/company/img_accessm
 ap.gif\n```\n\nご不明な点などあれば、DoorKeeperのお問い合
 わせでご連絡ください。\n\n章とボリューム\n\n\n\n章\n
 ページ数\n担当\nステータス\n\n\n\n1 LeSS でもっと多く\n2
 ページ\n木村\nDone\n\n\n2 LeSS\n\n\n\n\n\n2.1 LeSS\n9ページ\n松
 元さん\nDone\n\n\n2.2 LeSSフレームワーク\n20ページ\n松元
 さん\nDone\n\n\n2.3 Less Hugeフレームワーク\n17ページ\n\n\n\n
 \n\n第I 部LeSS の構造\n\n\n\n章\nページ数\n担当\nステータ
 ス\n\n\n\n3 導入\n22ページ\nいとうさん\nDone\n\n\n4 顧客価
 値を中心に組織されたチーム\n33ページ\n林田さん\nDoing
 \n\n\n5 マネジメント\n18ページ\nさいとうさん\n\n\n\n6 ス
 クラムマスター\n19ページ\n\n\n\n\n\n第II 部LeSS のプロダ
 クト\n\n\n\n章\nページ数\n担当\nステータス\n\n\n\n7 プロ
 ダクト\n14ページ\n\n\n\n\n8 プロダクトオーナー\n25ペー
 ジ\n\n\n\n\n9 プロダクトバックログ\n28ページ\n\n\n\n\n10 DO
 NEの定義\n13ページ\n\n\n\n\n\n第III 部LeSS スプリント\n\n\n\
 n章\nページ数\n担当\nステータス\n\n\n\n11 プロダクトバ
 ックログリファインメント\n25ページ\n\n\n\n\n12 スプリ
 ントプランニング\n9ページ\n\n\n\n\n13 調整と統合\n27ペ
 ージ\n\n\n\n\n14 レビューとレトロスペクティブ\n13ペー
 ジ\n\n\n\n\n\n第IV 部More or LeSS\n\n\n\n章\nページ数\n担当\n
 ステータス\n\n\n\n15 次は何をすべきか?\n6ページ\n\n\n\n\n
 \n今回の予定 (変わる可能性があります。)\n\n\n第4章 顧
 客価値を中心に組織されたチーム 林田さん\n第5章 マ
 ネジメント さいとうさん\n\n\nタイムテーブル\n\n\n19:00 
 開場\n19:30 本編開始\n21:30 終了\n\n\n22時まで撤収します
 。\n\nあくまで予定です\n\n参考\n\n\nディスカッション
 グループ\n\n\nhttps://www.facebook.com/groups/less.study/\n\n\n\nLarg
 e-Scale Scrum\nCopyright © 2014 The LeSS Company B.V. All Rights Reserve
 d.
LOCATION:グロースエクスパートナーズ株式会社 イベント
 スペース「G's LounGe」 〒160-0023 東京都新宿区西新宿7-21-
 1 新宿ロイヤルビル3階
URL:https://techplay.jp/event/741814?utm_medium=referral&utm_source=ics&utm
 _campaign=ics
END:VEVENT
END:VCALENDAR
