BEGIN:VCALENDAR
VERSION:2.0
PRODID:-//https://techplay.jp//JP
CALSCALE:GREGORIAN
METHOD:PUBLISH
X-WR-CALDESC:Dojo 夏休み - 人気の入門講座を集めてみました
X-WR-CALNAME:Dojo 夏休み - 人気の入門講座を集めてみました
X-WR-TIMEZONE:Asia/Tokyo
BEGIN:VTIMEZONE
TZID:Asia/Tokyo
BEGIN:STANDARD
DTSTART:19700101T000000
TZOFFSETFROM:+0900
TZOFFSETTO:+0900
TZNAME:JST
END:STANDARD
END:VTIMEZONE
BEGIN:VEVENT
UID:741927@techplay.jp
SUMMARY:Dojo 夏休み - 人気の入門講座を集めてみました
DTSTART;TZID=Asia/Tokyo:20190731T143000
DTEND;TZID=Asia/Tokyo:20190731T180000
DTSTAMP:20260425T103830Z
CREATED:20190718T061440Z
DESCRIPTION:イベント詳細はこちら\nhttps://techplay.jp/event/74192
 7?utm_medium=referral&utm_source=ics&utm_campaign=ics\n\n概要\n夏は
 学習の季節！\nIBM Cloud、IoT そして AI (機械学習) の基礎
 知識を学んで、この夏、新しい開発の世界に触れてみ
 ませんか？\nIBM Cloud + IoT デモについて\n全ての基本と
 なる、IBM Cloud の概要を学んでいただきます。\nまた身
 近なセンサー類を活用する IoT (Internet of Things) に関し
 て、親しみ易い IoT ロボットである TJBot Zero のデモを
 通じて、その楽しさを学んでいただきます。\n※ TJBot Z
 ero に興味をお持ちの参加者には、別途開催されます TJ
 Bot イベントをご紹介します\n機械学習について\n機械
 学習に興味のある初心者の方を対象に、実際にWatson Sud
 ioを使用して簡単に機械学習を体験していただくハン
 ズオン・セミナーです。\nまずは機械学習とAIの概要を
 説明し、概要を理解します。\n次にWatson　Sudioを使用し
 て簡単に機械学習のモデルを作成するハンズオンにト
 ライします。\n\nハンズオン実施にあたり、PCをご持参
 ください。\nまた事前準備をお願いします。\n前提条件
 \n\n\nIBM Cloud アカウントを取得していることが参加条件
 の1つになります。お持ちでない方は以下のURLより取得
 を事前にお願いいたします。\n\n\nIBM Cloudアカウント作
 成は以下のURLからお願いします：\n    https://ibm.biz/BdzMAX
 \n\n\n取得方法のガイドはこちら(動画):　https://youtu.be/Kr
 n1jQ4iy_s?t=44 \n   (動画は https://ibm.biz/BdzMAX にアクセス後
 の部分から開始するようになっています。\n   アカウ
 ント作成のURLは動画のものではなく https://ibm.biz/BdzMAX 
 からお願いいたします）\n\n\n\n\n当日はワークショップ
 で使用する ノートPCをご持参 ください。\n\n\n参加前に
 事前準備の実施をお願いします。\n\n\n事前準備\nFirefox 
 またはChromeの導入: どちらも未導入の場合はどちらか
 一つを導入お願いします。\n\n\nFirefox \n\nFirefox のダウ
 ンロードページから、Firefoxをインストールしてくださ
 い\n\n\n\nChrome\n\nChromeのダウンロードページから、Chrome
 をインストールしてください\n\n\n\n資料リンク\nhttps://s
 peakerdeck.com/kyokonishito/ml-handson-with-watson-studio-2019-06-26\nタ
 イムテーブル\n受付は14:00より、IBM箱崎事業所1階の総
 合受付横のイベント受付にて手続きをお願いいたしま
 す。入館証をお受け取りのうえ会議室までお越しくだ
 さい。\n社員の方は8階の #811 会議室に直接お越しくだ
 さい。\n\n\n\n時間\n内容\n発表者\n\n\n\n\n14:00-14:30\n開場\n
 \n\n\n14:30-15:30(60分)\nオープニングIBM Cloud 入門\n日本IBM 
 加藤 典子\n\n\n15:30-16:00(30分)\nIoT 入門TJBot Zero デモ\n日
 本IBM 加藤 典子\n\n\n16:00-16:15\n休憩\n\n\n\n16:15-16:45(30分)\n
 機械学習&AI入門\n日本IBM 西戸 京子\n\n\n16:45-18:00(75分 休
 憩含む)\nWatson Studioで機械学習ハンズオン\n日本IBM 西戸
  京子\n\n\n18:00-18:30\nクローズ\n\n\n\n\n※ タイムテーブル
 は変更になる可能性があります。予めご了承下さい\n
 講師\n加藤典子\n\n日本アイ・ビー・エム株式会社\nデ
 ジタルビジネスグループ\nデベロッパー・アドボカシ
 ー事業部\nDeveloper Advocate\n日本IBMにてNotes/Dominoのアプリ
 ケーション開発・保守に従事。主にマーケティングと
 営業支援システムを担当。2016年よりDigital Sales部門(非
 対面営業)のビジネス・オペレーションを経験。2019年1
 月より現職。\n\n西戸 京子\n\n日本アイ・ビー・エム株
 式会社\nデジタルビジネスグループ\nデベロッパー・ア
 ドボカシー事業部\nDeveloper Advocate\n日本IBMにて主にIBMの
 社内システム開発・保守に従事 。要件定義から保守ま
 で、開発者・PM・アーキテクトとして日本、AP各国の生
 産管理システムや購買システム、IT資産管理システム 
 等、幅広く経験。2018年4月より現職。\n
LOCATION:IBM箱崎事業所 東京都中央区日本橋箱崎町19-21
URL:https://techplay.jp/event/741927?utm_medium=referral&utm_source=ics&utm
 _campaign=ics
END:VEVENT
END:VCALENDAR
