BEGIN:VCALENDAR
VERSION:2.0
PRODID:-//https://techplay.jp//JP
CALSCALE:GREGORIAN
METHOD:PUBLISH
X-WR-CALDESC:【懇親会あり】認証のことを、知らないと許
 されない事態が突然きた。
X-WR-CALNAME:【懇親会あり】認証のことを、知らないと許
 されない事態が突然きた。
X-WR-TIMEZONE:Asia/Tokyo
BEGIN:VTIMEZONE
TZID:Asia/Tokyo
BEGIN:STANDARD
DTSTART:19700101T000000
TZOFFSETFROM:+0900
TZOFFSETTO:+0900
TZNAME:JST
END:STANDARD
END:VTIMEZONE
BEGIN:VEVENT
UID:741941@techplay.jp
SUMMARY:【懇親会あり】認証のことを、知らないと許され
 ない事態が突然きた。
DTSTART;TZID=Asia/Tokyo:20190807T170000
DTEND;TZID=Asia/Tokyo:20190807T193000
DTSTAMP:20260426T021553Z
CREATED:20190718T062543Z
DESCRIPTION:イベント詳細はこちら\nhttps://techplay.jp/event/74194
 1?utm_medium=referral&utm_source=ics&utm_campaign=ics\n\nセミナー内
 容\n最近話題の「二要素認証」って何？二段階認証と
 何が違うの？\n認証という分かりにくいものを、わか
 りやすく、簡単に説明します。\n■「30分で”カンタン
 に”振り返る最新動向」\n昨年から今年にかけて、不
 正ログインや二要素(/二段階)認証に関するニュースが
 多々ありました。\n”リストアタック”や”ダークウ
 ェブ”などの聞き慣れない単語も取り扱われる事が増
 えてきていますので、これらを説明を交え、簡単に振
 り返ります。\n(スピーカー：株式会社ISAO 山田)\n■「
 認証のことを、知らないと許されない事態が突然きた
 。今更聞けない認証の世界。 」\n認証について知らな
 いでは済まされない事態が突然来ました。二要素認証
 と二段階認証の違いや、これだけ知っていれば今の時
 代を乗り越える認証の最新知識を、認証技術の発明家
 であり、認証の寄稿を多数している認証サービスのプ
 ロダクトオーナーが直接解説します。\n(スピーカー：
 株式会社ISAO 前澤）\nこんな方にオススメ\n・経営企画
 や経営者の方\n・セキュリティや認証は自分に関係な
 いと思っていたが、最近のニュースを見る限りそうも
 言っていられないぞ！？と危機感をお持ちの方\n・認
 証について知りたいけど技術的な難しいことは分から
 ないという方\n・二段階認証と二要素認証の違いを知
 りたい方\n登壇者紹介\n\n(株)ISAO　山田 晃義\nガジェッ
 ト/アングラテックマニア\nダークウェブやTorネットワ
 ークにも初期から興味を持ち、ウォッチしています。\
 n元エンターテイメント業界担当、現在は認証技術や金
 融機関の担当営業をしています。\n・Mamoru PUSH Salesリー
 ダー\n・フィッシング対策協議会に参加\n\n\n(株)ISAO　
 前澤 俊樹 \n日々、闇が深い認証について情報収集を続
 け研究しています。\n日経フィンテックやQR決済につい
 てのムック本に認証に関しての記事を寄稿し認証の啓
 蒙活動をしています。\n認証技術の特許を保有してい
 る発明家でしかできない認証による労働生産性の上げ
 方や、セキュリティの話をします。\n・元課金代行業 
 責任者　・Mamoru シリーズ プロジェクトリーダー\n・プ
 ッシュ通知認証の特許発明　・QR認証の特許発明\n・フ
 ィッシング対策協議会に参加\n・産総研で生体認証の
 ワーキンググループに参加\nタイムテーブル (予告なく
 変更になる場合がございます)\n\n\n\n時間\n内容\nスピー
 カー\n\n\n\n\n16:30\n開場・受付開始\n-\n\n\n17:00\nはじめに\
 n-\n\n\n17:10\n「30分で”カンタンに”振り返る最新動向
 」\n株式会社ISAO 山田 晃義\n\n\n17:45\n休憩\n\n\n\n17:55\n「
 認証のことを、知らないと許されない事態が突然きた
 。今更聞けない認証の世界。 」\n株式会社ISAO 前澤 俊
 樹\n\n\n18:30\n懇親会　（社内ツアー含む）\n\n\n\n19:30\n完
 全撤収\n-\n\n\n\n持ち物・事前準備\n\n名刺（2枚）\n専用
 スマホアプリのダウンロード\n\n懇親会の際、弊社のQR
 決済アプリケーション「Mamoru Biz」を使って飲み物のご
 注文を承ります（すべて無料）。\n事前に下記手順に
 従ってアプリのダウンロード、プライバシーポリシー
 の同意を完了していただけると幸いです。\n①下記URL
 のリンクより、「Mamoru Biz」アプリをダウンロード\nhttp
 s://mamoru-secure.com/pay/?gclid=EAIaIQobChMI0qutz5zd3QIVlgQqCh2viASiEAAY
 ASAAEgJw8vD_BwE\n②下記URLのリンクより、E-mailアドレスと
 氏名を記入し「Mamoru Biz」に登録する。\nhttps://pay.mamoru-
 secure.com/pub/user/create?key=ee39df7a5b8bcc40bd7ea293fcf4e51713323cdc&h
 l=jp\n③画面上に表示されたQRコードをMamoru Bizアプリで
 読み取る\n※ダウンロードできない、ご不明点がある
 等の場合は、当日受付でもご説明させていただきます
 。\n軽食・お飲み物\nバーカウンターにて、軽食とお飲
 み物（アルコール・ソフトドリンク）をご用意してお
 ります。\n注意事項\n\n公共の交通機関でお越しくださ
 い。\n人材紹介もしくは転職や就職の斡旋、勧誘を目
 的としたご参加はご遠慮ください。\n弊社オウンドメ
 ディア等に掲載するため、当日の様子は写真を撮らせ
 ていただくことがあります。撮影と掲載可能性につい
 て、予めご了承をお願いいたします。\n\n株式会社ISAO
 について\n東京・秋葉原にあるIT企業、株式会社ISAO(http
 s://www.isao.co.jp/) 。 ”世界のシゴトをたのしくするビジ
 ョナリーカンパニー”を中長期ビジョンに掲げていま
 す。 日本初のバリフラットモデルを導入し、管理職０
 （ゼロ）、階層０（ナシ）、 チーム力∞（無限大）の
 組織運営をおこなっています。
LOCATION:株式会社ISAO 東京都台東区浅草橋5-20-8(CSタワー 7F)
URL:https://techplay.jp/event/741941?utm_medium=referral&utm_source=ics&utm
 _campaign=ics
END:VEVENT
END:VCALENDAR
