BEGIN:VCALENDAR
VERSION:2.0
PRODID:-//https://techplay.jp//JP
CALSCALE:GREGORIAN
METHOD:PUBLISH
X-WR-CALDESC:【超入門】Javaプログラミング体験会 in 港区
X-WR-CALNAME:【超入門】Javaプログラミング体験会 in 港区
X-WR-TIMEZONE:Asia/Tokyo
BEGIN:VTIMEZONE
TZID:Asia/Tokyo
BEGIN:STANDARD
DTSTART:19700101T000000
TZOFFSETFROM:+0900
TZOFFSETTO:+0900
TZNAME:JST
END:STANDARD
END:VTIMEZONE
BEGIN:VEVENT
UID:741969@techplay.jp
SUMMARY:【超入門】Javaプログラミング体験会 in 港区
DTSTART;TZID=Asia/Tokyo:20190804T130000
DTEND;TZID=Asia/Tokyo:20190804T150000
DTSTAMP:20260424T014506Z
CREATED:20190718T100220Z
DESCRIPTION:イベント詳細はこちら\nhttps://techplay.jp/event/74196
 9?utm_medium=referral&utm_source=ics&utm_campaign=ics\n\n【超入門】J
 ava プログラミング体験会 in 港区\n\n概要\n☆あなたに 
 “できる楽しさ”　“わかる嬉しさ“を「IT」でプラ
 スする☆「プログラミング言語を取得したいけど、自
 分だけでプログラムを書く自信がない」という方のた
 めの体験会です。PCN子ども向けプログラミング教室お
 よび＋IT(プラスアイティー)というITスキルアップ講座
 を行っている団体の講師の方を迎えて、一緒に楽しみ
 ながらJavaプログラミングの基礎を学んでいきます。【
 こんな人が対象】この講座は、これからプログラミン
 グを学びたい方向けの内容となって、プログラミング
 を全くやったことがない方でもできる内容になってお
 ります。具体的には、以下に当てはまるような方を対
 象としております。・IT系の企業への就職を考えてい
 る大学生の方・スキルアップのためにプログラミング
 を身に着けた方がいいなぁ、と感じている方・プログ
 ラミングのことを何となく分かっていた方がいいなぁ
 、と考えている営業、事務、デザイナーの方・プログ
 ラミングに興味があるけど、何から始めていいかわか
 らない方・プログラミング言語を習得してスキルアッ
 プ(転職)したい方・Java言語に興味がある方・ものづく
 りが好きで、新しいことをやってみたい、やっている
 方。・プログラムを学び始めた人同士で交流したい方
 ・ITの勉強会に興味があるが、人見知りでなかなか参
 加できなかった方【講義の内容】「Javaプログラミング
 の体験」をすることを目的としています。予定してい
 る内容は以下のとおりです。■講義（30分程度）○ プ
 ログラミングとは？○ なぜ今Javaを身に付ける必要が
 あるのか？■ ワークショップ（60分程度）○ Hello World
 ○ 入力・出力・変数○ 条件分岐○ さいころ・おみく
 じ作成■ 懇親会（30分程度 ※任意参加）【講師につい
 て】齋藤正寛(さいとうまさひろ) 　IT実務経験歴5年茨
 城大学工学部卒業後、某メガベンチャーに入社。一身
 上の都合で、入社4ヶ月で退社するが、その後、日立系
 、野総系、住商系とSIerで経験を積み、現在は、Javaの
 フリーランスSEとして独立。趣味で、WEB系制作活動も
 しており、2018年は6本のホームページをリリースする
 。小林 悟(こばやしさとる) 　IT実務経験歴7年大学卒業
 後、文系からIT企業に入社。実務を通してスキルと経
 験を身に付け、現在はフリーランスSEとして勤務中。--
 ---------------------------------------------【イベント詳細】■
 日時8月4日 (日) 13:00～15:00 （12:30開場）■人数6〜10人く
 らいでやります。※他サイトでも告知しているので、
 サイト上の参加者数とは不一致となる可能性が高いで
 す。■参加費2000円※レンタルPCを500円で貸し出しでき
 ます♪■必要なものPC■会場カラメル・浜松町会議室
 東京都港区浜松町2丁目2-15 浜松町ダイヤハイツ802■ア
 クセスJR山手線 浜松町駅 徒歩2分JR京浜東北線 浜松町
 駅 徒歩2分都営浅草線 大門駅 徒歩1分都営大江戸線 大
 門駅 徒歩1分『＋IT』とはSEやIT事務職のメンバーが集
 まって、都内を中心に、ITスキル講座を定期開催して
 います。目的は、IT技術の習得によって、収入UPや仕事
 の能率UPを実現する人を増やすことです。会社や業界
 関係なく横のつながりを創り、楽しく学び合えるコミ
 ュニティができるといいなと考えています。・Excel講
 座・SE体験講座・JAVA講座・VBA講座8月以降も各種ショー
 トセミナーを開催しております！
LOCATION:カラメル・浜松町会議室/浜松町ダイヤハイツ802 
 東京都港区浜松町2-2-5 浜松町ダイヤハイツ802
URL:https://techplay.jp/event/741969?utm_medium=referral&utm_source=ics&utm
 _campaign=ics
END:VEVENT
END:VCALENDAR
