BEGIN:VCALENDAR
VERSION:2.0
PRODID:-//https://techplay.jp//JP
CALSCALE:GREGORIAN
METHOD:PUBLISH
X-WR-CALDESC:【増枠】Mix Leap Study #48 - 第2回 フォント勉強会
X-WR-CALNAME:【増枠】Mix Leap Study #48 - 第2回 フォント勉強会
X-WR-TIMEZONE:Asia/Tokyo
BEGIN:VTIMEZONE
TZID:Asia/Tokyo
BEGIN:STANDARD
DTSTART:19700101T000000
TZOFFSETFROM:+0900
TZOFFSETTO:+0900
TZNAME:JST
END:STANDARD
END:VTIMEZONE
BEGIN:VEVENT
UID:742027@techplay.jp
SUMMARY:【増枠】Mix Leap Study #48 - 第2回 フォント勉強会
DTSTART;TZID=Asia/Tokyo:20190808T190000
DTEND;TZID=Asia/Tokyo:20190808T213000
DTSTAMP:20260424T035314Z
CREATED:20190718T142623Z
DESCRIPTION:イベント詳細はこちら\nhttps://techplay.jp/event/74202
 7?utm_medium=referral&utm_source=ics&utm_campaign=ics\n\n開催日時\n20
 19/8/8（木）\n　18:30　受付開始\n　19:00　開始\n場所\nヤ
 フー株式会社 大阪グランフロントオフィス\n大阪府大
 阪市北区大深町4-20 グランフロント大阪 タワーA 37階\n1
 ）1階、または2階のシャトルエレベーターで9階オフィ
 スロビーまで上がって下さい\n2）Dバンクのエレベータ
 ーで37階に上がり受付エリアまでお越しください\nイベ
 ントについて\n「Mix Leap Study」とは、様々なヤフーの独
 自技術や業界の最先端テクノロジーに触れていただき
 、関西圏のクリエイター（エンジニア・デザイナー）
 の成長を目的にした、ヤフー大阪オフィスで開催され
 る勉強会です。\nITに興味のある学生やIT企業で働く社
 会人が集まってお互いに発信しあうことで、人と情報
 の交差点となることを目指しています。\n今回のテー
 マ\n今回のMix Leap Studyは「第2回 フォント勉強会」を開
 催します！\n昨年、モリサワフォントでおなじみ株式
 会社モリサワさんをお招きし開催した「フォント勉強
 会」の第2弾です。\nモリサワのデザイナーやエンジニ
 アの方から、前回以上に「ディープなフォントの世界
 」についてお話いただきます。\n普段からフォントを
 よく利用するデザイナーの方はもちろん、フォントに
 興味のある方なら誰でもお楽しみいただけるイベント
 です！\nタイムテーブル\n※登壇者は調整中です。\n\n\n
 \n時間\n内容\nスピーカー\n\n\n\n\n18:30 - 19:00\n受付\n\n\n\n1
 9:00 - 19:05\n「Mix Leap Study について」\n中嶋 道太郎（ヤ
 フー株式会社）\n\n\n19:05 - 19:25\n「文字を並べる」\n田
 葉井 大（株式会社モリサワ）\n\n\n19:25 - 19:45\n「Clarimo
 ファミリーと開発中書体の紹介」\n吉村 淳美（株式会
 社モリサワ）\n\n\n19:45 - 19:55\n休憩\n\n\n\n19:55 - 20:15\n「
 文字コード is なに？」\n小室 貴史（株式会社モリサワ
 ）\n\n\n20:15 - 20:30\n質疑応答\n\n\n\n20:30 - 21:30\n「懇親会
 」\n\n\n\n\n※進行上、終了時間が多少前後することがあ
 ります\n登壇者情報\nスピーカー：田葉井 大（株式会
 社モリサワ）\n大阪経済大学卒 2010年モリサワ入社。201
 0年入社より現在まで営業部に所属。\n\n  \n    タイトル
 \n    文字を並べる\n  \n  \n    \n              \n概
 要\n              \n    文字は並べることで、文
 章として「伝える」役割を果たします。そして、その
 文章は並べ方(組版)によって色々なイメージに変化し
 ます。その組版の基礎を少しだけご紹介致します。\n  
 \n\nスピーカー：吉村 淳美（株式会社モリサワ）\n愛知
 県立芸術大学デザイン・工芸科卒業。\nタイプデザイ
 ナーとして2015年にモリサワ文研株式会社に入社\n2018年
 より株式会社モリサワフォントデザイン部に在籍。\n20
 16年からClarimoなどの開発に携わる。19年から和文の開
 発にも従事。\n\n  \n    タイトル\n    Clarimoファミリーと
 開発中書体の紹介\n  \n  \n    \n              \n概
 要\n              \n    昨年度リリースされた、C
 larimoファミリーについてご紹介します。\nClarimoファミ
 リーは、欧文・アラビア文字・デーヴァナーガリー文
 字・タイ文字と幅広く展開されており今年度リリース
 を予定しているAP-UD新ゴの欧文もClarimoベースのデザイ
 ンに一新されます。\nまた、現在開発中の新書体もち
 らっとお見せします！\n  \n\nスピーカー：小室 貴史（
 株式会社モリサワ）\n株式会社モリサワのPF開発部所属
 。\nフィーチャーフォン向けの文字描画エンジンの開
 発やAndroidへの日本語フォントの組込みを行った後、201
 1年よりWebフォント配信システム「TypeSquare」を開発。
 現在は、モリサワのWebを利用したプロダクトのインフ
 ラやバックエンドなどクラウドを利用したサービスの
 取りまとめを行なっている。\n\n  \n    タイトル\n    文
 字コード is なに？\n  \n  \n    \n              \n
 概要\n              \n    日本人の文字コードの
 混乱は、Windowsのメモ帳から始まった…（個人の感想で
 す）。「文字コードとはなにか？」という疑問を解消
 できるように、文字コードという言葉が意味すること
 を解説します。\n  \n\n参加資格\nキャンセルポリシーに
 同意頂ける方。\n夜間のイベントのため、16歳以上の方
 のみ\n※16歳未満でも保護者同伴なら可\n懇親会\n当日
 、20:35 から同会場で懇親会を行います。\n軽食、飲み
 物をご用意しております。\n参加者同士や弊社社員と
 の交流の機会として、ぜひご活用ください。\n参加費\n
 無料\nキャンセルポリシー\n・予定が変更になり、都合
 がつかなくなった場合には、速やかに参加のキャンセ
 ルをお願い致します。\n・【お読みください】参加枠
 を確保しているにも関わらず不参加（ドタキャン）や
 、前日〜当日のキャンセルを頻繁にされる方は、参加
 を希望されている他の参加者を優先させて頂く場合が
 あります。 スケジュール都合がわからない状態で「と
 りあえず」お申込みいただくことはご遠慮願います。\
 n注意事項\n・会場内では運営スタッフによる写真や動
 画撮影が行われる予定です。\n・撮影された写真や動
 画はヤフー大阪の公式SNSアカウントや社内の活動報告
 資料などで掲載される場合がありますので、あらかじ
 めご了承ください。\n・SNS等への顔出しがNGな方は、受
 付時にお申し出ください。\n・セクシュアルハラスメ
 ント・パワーハラスメント・ストーカー等の他人への
 迷惑行為を行うことは禁止します。\n・ネットワーク
 ビジネス等、その対象を問わず販売、勧誘、あっせん
 等を行うこと。また、宗教活動または政治活動をする
 ことは禁止します。\n・その他、イベントの趣旨・目
 的と逸脱した行為、イベント内容に積極的に参加され
 てないと見受けられる行為、飲食を目的としていると
 見受けられる行為など、本来のイベント趣旨とは異な
 る行為があった場合、次回以降のイベント参加をお断
 りさせて頂きます。\nご質問・ご相談\n本イベントに関
 するご質問等はMix Leap事務局（ osk-mixleap@mail.yahoo.co.jp 
 ）までお願いします。
LOCATION:ヤフー株式会社 大阪グランフロントオフィス 大
 阪府大阪市北区大深町4-20 グランフロント大阪 タワーA
  37階
URL:https://techplay.jp/event/742027?utm_medium=referral&utm_source=ics&utm
 _campaign=ics
END:VEVENT
END:VCALENDAR
