BEGIN:VCALENDAR
VERSION:2.0
PRODID:-//https://techplay.jp//JP
CALSCALE:GREGORIAN
METHOD:PUBLISH
X-WR-CALDESC:〈8/3@札幌〉モブプログラミング&Java開発入門
X-WR-CALNAME:〈8/3@札幌〉モブプログラミング&Java開発入門
X-WR-TIMEZONE:Asia/Tokyo
BEGIN:VTIMEZONE
TZID:Asia/Tokyo
BEGIN:STANDARD
DTSTART:19700101T000000
TZOFFSETFROM:+0900
TZOFFSETTO:+0900
TZNAME:JST
END:STANDARD
END:VTIMEZONE
BEGIN:VEVENT
UID:742045@techplay.jp
SUMMARY:〈8/3@札幌〉モブプログラミング&Java開発入門
DTSTART;TZID=Asia/Tokyo:20190803T130000
DTEND;TZID=Asia/Tokyo:20190803T180000
DTSTAMP:20260423T113110Z
CREATED:20190719T002403Z
DESCRIPTION:イベント詳細はこちら\nhttps://techplay.jp/event/74204
 5?utm_medium=referral&utm_source=ics&utm_campaign=ics\n\n概要\n今回
 のJava Doでしょうでは、\n\nスクラムなどにも取り入れ
 られる手法として注目を浴びているモブプログラミン
 グ\n最近のJavaってどんな感じ？どうやってJavaで開発す
 るの？\n\nの内容を一石二鳥で体験することを狙った勉
 強会を開催します。\nモブプログラミング（モビング
 ）は、グループの中でタイピスト（1名）・モブ（複数
 人の助言役）の役割を交代しながら、グループ全員が
 同じ場所・同じ機材で一緒に同じプログラミングや開
 発作業に取りかかる手法です。全員が同じ内容を把握
 しながら進めることで、難しい課題を知恵を出し合っ
 て解決できる・知識・仕様・実装をつぶさに共有でき
 る、開発とレビューを両立できるといった利点があり
 ます。\n今回は、このモブプログラミングの形で、最
 近（8〜12、もしくは13）のJavaの文法や新機能を確かめ
 ながらコーディングをしたり、Spring Bootを使った簡単
 なWebアプリを作成してみるといった形で、モブプログ
 ラミングのやり方・最近のJava開発の進め方を体験的に
 学べる会にしたいと思います。\n\n初心者（この春から
 JavaやIT系に関わることになった学生・新入社員の方）\
 n経験者（Javaやその他言語での開発経験はあるけど、
 モブプログラミングなどモビング手法に興味がある方
 ）\nベテラン（両方経験あるよ、アシスタントでも良
 いよ、という方）\nそのほか、キーワードにグッとき
 た、という方\n\nといった方々の参加をどんどんお待ち
 しております。\n申し込み方法\n参加枠・アシスタント
 枠のどちらかにお申し込みください。\n参加枠\n\nJava・
 モビングの両方 or どちらかに経験・自信がない方の申
 し込みを想定しています。\n全く経験なしでも大丈夫
 ですので、ぜひお気軽に！\n\nアシスタント枠\n\n Java・
 モビングの両方の経験が多少ある方 or 片方に普段から
 利用経験がある方 を想定しています。\nアシスタント
 枠の方は当日、モビングの中でトレーナー（主にモビ
 ングでタイピストやモブへの助言を積極的に行う）的
 な振る舞いにできるだけご協力いただけますと助かり
 ます。\n高度なスキルが必要ということではありませ
 んので、普段仕事でJavaを使っている、モビングをやっ
 たことがある、というレベルで大丈夫です！\n\n全体ス
 ケジュール\n\n\n\n時間\n内容\n\n\n\n\n13:00\n開場\n\n\n13:20\n
 自己紹介\n\n\n13:30\n（講演・説明）モブプログラミング
 はいいぞ！：方法と実践事例スピーカー：山川広人（J
 ava Do / 公立千歳科学技術大学）\n\n\n13:50\nモビング(1) 
 準備（テーマ選択・グルーピング）\n\n\n14:00\nモビング
 (1) 取組開始\n\n\n15:30\nモビング(1) 進捗報告\n\n\n15:50\nモ
 ビング(2) 準備（テーマ選択・グルーピング）\n\n\n16:00\
 nモビング(2) 取組開始\n\n\n17:30\nモビング(2) 進捗確認\n\
 n\n17:50\nふりかえり\n\n\n\n(18時終了予定。終了後、撤収
 作業をお手伝いいただけますと助かります）\n持ち物\n
 モビングの最中に調査時間が入るかもしれませんので
 、ノートPCやタブレットがあると便利です。\n機材は運
 営側で極力用意しますが、万が一の際に、自分のPCを
 タイピスト用に使って良いよ！という方は、以下の仕
 様でご準備いただけると助かります。\n\nJava 12 or Java 11
  のインストール\nJava 12 は Oracle Open JDK を想定\nJava 11 
 は AdoptOpenJDK を想定（他のディストリビューションで
 もかまいません）\n\n\n下のIDEのうちどれか一つをイン
 ストール\nIntelliJ IDEA （※運用側環境の予定）\nEclipse ID
 E for Java EE Developers\nNetBeans\n\n\nHDMI用の出力アダプタ\n\n
 なお、会場のWi-Fiが利用できる予定ですが、テザリン
 グ環境をお持ちの方は念のためご準備いただけると助
 かります。\n会場\nビットスター株式会社さまのスペー
 スをお借りします。この場を借りてお礼を申し上げま
 す。\n最寄り駅は札幌市営地下鉄　東豊線「豊水すす
 きの」です。\n第3弘安ビルは、弘安ビル、リバーサイ
 ド第2弘安ビルの間の通路を直進し、突き当たりです。
 \n\n正面の自動扉が閉まっていますので、自動扉横の通
 用口（手動のガラス扉）からお入り下さい。\n\n諸注意
 \n\n会場や取組風景の記録写真を撮影する場合や、取材
 が行われる場合があります。\n記録写真は顔や表情が
 わからないよう加工した上で、広報・研究の目的でWeb
 等に掲載する場合があります。\n簡単なアンケートや
 質問へのご回答をお願いする場合がございます。\n勉
 強会の目的とは関係のない、勧誘・販売・宣伝等の行
 為は堅くお断りいたします。\n\n更新履歴\n\n2019-07-20 人
 数を15名（5人×3グループ＋アシスタント）に変更、持
 ち物に追加\n2019-07-19 アシスタント役の説明を追加\n2019
 -07-18 募集ページ公開\n
LOCATION:ビットスター株式会社 札幌本社(第三弘安ビル3F) 
 札幌市中央区南7条西1丁目21番地1(第三弘安ビル)
URL:https://techplay.jp/event/742045?utm_medium=referral&utm_source=ics&utm
 _campaign=ics
END:VEVENT
END:VCALENDAR
