BEGIN:VCALENDAR
VERSION:2.0
PRODID:-//https://techplay.jp//JP
CALSCALE:GREGORIAN
METHOD:PUBLISH
X-WR-CALDESC:【増枠】FROKAN x UIT #1
X-WR-CALNAME:【増枠】FROKAN x UIT #1
X-WR-TIMEZONE:Asia/Tokyo
BEGIN:VTIMEZONE
TZID:Asia/Tokyo
BEGIN:STANDARD
DTSTART:19700101T000000
TZOFFSETFROM:+0900
TZOFFSETTO:+0900
TZNAME:JST
END:STANDARD
END:VTIMEZONE
BEGIN:VEVENT
UID:742199@techplay.jp
SUMMARY:【増枠】FROKAN x UIT #1
DTSTART;TZID=Asia/Tokyo:20190927T190000
DTEND;TZID=Asia/Tokyo:20190927T213000
DTSTAMP:20260420T110934Z
CREATED:20190720T003028Z
DESCRIPTION:イベント詳細はこちら\nhttps://techplay.jp/event/74219
 9?utm_medium=referral&utm_source=ics&utm_campaign=ics\n\nイベント概
 要\nDeNA主催の「Frontend de KANPAI!」略して「FROKAN」と LINE
 株式会社主催の「UIT」\nUI 実装に最も近いフロントエ
 ンドエンジニアが主催してきた、両社イベント。\nこ
 の度、新しい勉強会のスタイルを実現するべく、コラ
 ボイベントを開催いたします！\n第1回は LINE株式会社
 のフロントエンドエンジニアを DeNA にお招きします。\
 nフロントエンドエンジニアは、様々な職種のチームメ
 ンバーとの、協調力が求められる職種です。\n最新技
 術だけではなく「コミュニケーション」や「仕事の進
 め方」など、\nどの様に事業にコミットしているのか
 、現場の生の声をお届けする予定です。\n2社共催なら
 ではの「差分」を楽しめる勉強会に、ふるってご参加
 ください。\nセッション予定\nDeNA・LINE株式会社より、
 各1名がトークセッションで登壇します。\nその後、パ
 ネルセッションではトークセッション登壇者を交え、
 開発現場ならではのあるある事例や\n現在の取り組み
 について、パネルセッションを合計5名(予定)でお届け
 します。\nトークセッション(FROKAN) 15分\n「CSS設計全盛
 期に学ぶフロントエンド設計」 DeNA @takepepe\nトークセ
 ッション(UIT) 15分\n「コンポーネントライブラリー大冒
 険」 LINE株式会社 @Alan Davalos\nパネルセッション(FROKAN x 
 UIT) 30分\n職種横断でよくある、仕事を進めるうえで直
 面した問題・克服した方法などをお届けする予定です
 。\nフロントエンド間のみならず、デザイナー・サー
 バーサイドエンジニアとの関わりで感じている課題感
 を、\nこれまでのキャリア経験から赤裸々にお伝えし
 ます。\n【司会・進行】\n\nLINE株式会社 @k2_wanko\n\n【パ
 ネラー】\n\nDeNA @takepepe\nDeNA @nanocloudx\nLINE株式会社 @azusa
 .tomita\nLINE株式会社 @miyoshi\n\nタイムテーブル\n\n\n\n時間
 \n内容\n\n\n\n\n19:00\n開場・受付開始\n\n\n19:30 - 19:35\n開演
 のご挨拶\n\n\n19:35\n乾杯！\n\n\n19:35 - 19:50\nトークセッシ
 ョン(FROKAN)\n\n\n19:50 - 20:05\nトークセッション(UIT)\n\n\n20:
 05 - 20:20\n休憩\n\n\n20:20 - 20:50\nパネルセッション(FROKAN x 
 UIT)\n\n\n20:50 - 21:30\n懇親会\n\n\n21:30\n終了\n\n\n\n※当イベ
 ントでは、軽食やドリンクを提供します。飲んで食べ
 ながら、近くにいる人と交流してみてください。スタ
 ッフもフロントエンドエンジニアが多いので、気軽に
 話しかけてください！\nその他\n持ち物\n\n受付票の番
 号（6ケタ）\nお名刺2枚（セキュリティの都合上）\n年
 齢確認ができる身分証\n\nご注意\n\nFROKAN x UIT は 立食形
 式 となっております。若干の座席はご用意いたします
 が、ご希望に添えない場合があります。予めご了承く
 ださい。\nイベントで提供するドリンクには、アルコ
 ールも含まれるため、未成年の方の参加はご遠慮くだ
 さい。\n受付時に年齢確認をさせて頂きます。当日は
 身分証をご持参くださいますようお願いいたします。\
 n\nこれまでの UIT\n\n\nこれまでの FROKAN\n\n
LOCATION:DeNA 渋谷ヒカリエ ※受付は11F 東京都渋谷区渋谷2-
 21-1 渋谷ヒカリエ
URL:https://techplay.jp/event/742199?utm_medium=referral&utm_source=ics&utm
 _campaign=ics
END:VEVENT
END:VCALENDAR
