BEGIN:VCALENDAR
VERSION:2.0
PRODID:-//https://techplay.jp//JP
CALSCALE:GREGORIAN
METHOD:PUBLISH
X-WR-CALDESC:kawasaki.rb #074
X-WR-CALNAME:kawasaki.rb #074
X-WR-TIMEZONE:Asia/Tokyo
BEGIN:VTIMEZONE
TZID:Asia/Tokyo
BEGIN:STANDARD
DTSTART:19700101T000000
TZOFFSETFROM:+0900
TZOFFSETTO:+0900
TZNAME:JST
END:STANDARD
END:VTIMEZONE
BEGIN:VEVENT
UID:742357@techplay.jp
SUMMARY:kawasaki.rb #074
DTSTART;TZID=Asia/Tokyo:20190724T191500
DTEND;TZID=Asia/Tokyo:20190724T210000
DTSTAMP:20260422T043005Z
CREATED:20190721T141712Z
DESCRIPTION:イベント詳細はこちら\nhttps://techplay.jp/event/74235
 7?utm_medium=referral&utm_source=ics&utm_campaign=ics\n\nKawasaki.rbは
 川崎周辺のRuby技術者たちが集まってRubyに関する何か
 をする地域Rubyistコミュニティです。\n\n過去のまとめ
 記事\nSlack\n\n注意事項をよくご確認ください。\n内容に
 ついて\n\n\n\n時間\n内容\n\n\n\n\n19:15~\n自己紹介\n\n\n19:30~
 \nパーフェクトRuby読書会(or もくもく)\n\n\n20:00~\nセッシ
 ョン\n\n\n21:00~\n希望者で懇親会\n\n\n\n\nセッションでは
 、参加者持ち寄りで気になること・話したいことをお
 持ちいただければと思います！\n  飛び込みも歓迎です
 し、事前にconnpassにコメントいただけると助かります
 ！\nパーフェクトRubyの読書会を30分ほどやります。参
 加希望者はお持ちください\n\n会場について\n会場の費
 用は当日の人数によって変わります。\n入室について\n
 \nJR改札階からミューザ川崎の2階に入り、まっすぐエ
 スカレーターを上った右手のフロアになります\nもし
 分からなければ、 @chezou宛まで#kwskrbのハッシュタグ付
 きでツイートするか、Slack、connpassでコメントしてくだ
 さい\n\n会場の詳細なフロア図は下記を参照ください\n\
 nその他\n\n電源はあります\nネットワークは会場のネッ
 トワークがあります\nゴミは各自でお持ち帰りくださ
 い\n\n連絡先\n\nSlack\nTwitter\nFacebookグループ\n\n過去のま
 とめ\n\nhttps://medium.com/kawasakirb\nhttp://kawasakirb.github.io/\n
LOCATION:ミューザ川崎 音楽工房 研修室3 神奈川県川崎市
 幸区大宮町１３１０ ミューザ川崎
URL:https://techplay.jp/event/742357?utm_medium=referral&utm_source=ics&utm
 _campaign=ics
END:VEVENT
END:VCALENDAR
