BEGIN:VCALENDAR
VERSION:2.0
PRODID:-//https://techplay.jp//JP
CALSCALE:GREGORIAN
METHOD:PUBLISH
X-WR-CALDESC:量子コンピュータとAIデジタルマーケティング
 【8/1午後】
X-WR-CALNAME:量子コンピュータとAIデジタルマーケティング
 【8/1午後】
X-WR-TIMEZONE:Asia/Tokyo
BEGIN:VTIMEZONE
TZID:Asia/Tokyo
BEGIN:STANDARD
DTSTART:19700101T000000
TZOFFSETFROM:+0900
TZOFFSETTO:+0900
TZNAME:JST
END:STANDARD
END:VTIMEZONE
BEGIN:VEVENT
UID:742398@techplay.jp
SUMMARY:量子コンピュータとAIデジタルマーケティング【8/
 1午後】
DTSTART;TZID=Asia/Tokyo:20190801T130000
DTEND;TZID=Asia/Tokyo:20190801T140000
DTSTAMP:20260422T085732Z
CREATED:20190722T003912Z
DESCRIPTION:イベント詳細はこちら\nhttps://techplay.jp/event/74239
 8?utm_medium=referral&utm_source=ics&utm_campaign=ics\n\nはじめに\n
 量子コンピュータとAI（機械学習）を応用し、将来的
 にビジネスがスケールする新しい手法を開発しました
 。実際にシステム化されたデジタルマーケティングの
 自動化によって、現在のパフォーマンスとすでに導入
 済みの実績紹介と将来的な発展の見込みを紹介します
 。\nダイナミック最適化\n今回MDR社が開発した手法は最
 適化と機械学習を応用し、業務プロセスの自動化を実
 現しました。PDCAのサイクルの自動化と評価をどのよう
 な手順で行い、その中で量子コンピュータがどのよう
 に活躍し、将来的にどのようにビジネスがスケールし
 ていくのかを紹介します。\nお名刺を持参ください\n当
 日担当者の挨拶がありますので、お名刺を頂けると幸
 いです。\n誰でも使えるクラウドシステム\n今回難しい
 量子コンピュータの仕組みを誰でも簡単に使えるよう
 にクラウドシステム化しました。難しい操作なくとい
 う難しいキーワードを意識せずに量子コンピュータの
 恩恵を受けることができます。\n運用方法\n最先端技術
 を使ってどのように運用や活用に応用できるかを確認
 します。\n・デジタルマーケティング概要\n・技術と活
 用方法の紹介\n・実績紹介\n・個別相談など\n対象\n・
 量子コンピュータの活用をみてみたい\n・コストを削
 減してマーケティングしたい\n・PoCを行いたい\n・実績
 を見たい\n日本語版\nhttps://join.slack.com/t/blueqat/shared_invit
 e/enQtNDA3NjU0MjM2NjEyLWU1MjJlNTM5NGNkNjk1NmYzYjU5NDliOTc5M2QwNDc1YmMyNzY
 zYjY3YmE2NGUxMTI1OTEyYTUwOWEyNmY4MWY
LOCATION:MDR株式会社 文京区本郷2-40-14-3F
URL:https://techplay.jp/event/742398?utm_medium=referral&utm_source=ics&utm
 _campaign=ics
END:VEVENT
END:VCALENDAR
