BEGIN:VCALENDAR
VERSION:2.0
PRODID:-//https://techplay.jp//JP
CALSCALE:GREGORIAN
METHOD:PUBLISH
X-WR-CALDESC:【Rails・初心者も歓迎】サーバーサイドもくも
 く会＠六本木
X-WR-CALNAME:【Rails・初心者も歓迎】サーバーサイドもくも
 く会＠六本木
X-WR-TIMEZONE:Asia/Tokyo
BEGIN:VTIMEZONE
TZID:Asia/Tokyo
BEGIN:STANDARD
DTSTART:19700101T000000
TZOFFSETFROM:+0900
TZOFFSETTO:+0900
TZNAME:JST
END:STANDARD
END:VTIMEZONE
BEGIN:VEVENT
UID:742468@techplay.jp
SUMMARY:【Rails・初心者も歓迎】サーバーサイドもくもく
 会＠六本木
DTSTART;TZID=Asia/Tokyo:20190801T190000
DTEND;TZID=Asia/Tokyo:20190801T213000
DTSTAMP:20260421T215054Z
CREATED:20190722T062458Z
DESCRIPTION:イベント詳細はこちら\nhttps://techplay.jp/event/74246
 8?utm_medium=referral&utm_source=ics&utm_campaign=ics\n\nサーバーサ
 イドエンジニア向けのもくもく会です。\nキッズライ
 ンのオフィスを開放しますので、もくもくと作業しま
 せんか？ \n\nPHPやJavaからRailsに転向するために勉強中\n
 Rubyの技術を高めたい、相談をしたい\n自分の開発案件
 を進めたい\n家だと集中できないので、もくもくでき
 る環境がほしい\nいつもと気分を変えて作業したい\n\n
 など、どんな目的でもOKです。お気軽にご参加くださ
 い。\nキッズライン社員がメンターをしますので、\nRai
 ls勉強中で相談しながら進めたい方も歓迎。\nもくもく
 した後お時間のある方はもぐもぐしながらお話しまし
 ょう。  \n参加資格\nRuby on Railsを使ってもくもくするテ
 ーマのある方\nRuby扱える方はもちろん、勉強中の方も
 歓迎！  \nタイムテーブル\n\n\n\n時間\n内容\n\n\n\n\n18:30-1
 9:00\n受付（もくもくし始めてOKです！）\n\n\n19:00-19:15\n
 自己紹介（集まった方から随時）　　簡単に自己紹介
 と本日の作業内容についてお話ください。\n\n\n19:15-20:3
 0\nもくもくタイム 　　キッズラインの社員がメンター
 になりますので、ご質問があればどうぞ。\n\n\n20:30-21:0
 0\n成果共有　　本日の成果についてお話できる範囲で
 共有しましょう。\n\n\n21:00-21:30\nもぐもぐタイム　　お
 時間大丈夫な方はもぐもぐしながら雑談でも！\n\n\n\n
 途中参加・途中退室OKです。\n場所\n株式会社キッズラ
 イン　六本木オフィス \n住所: 東京都港区六本木5-2-3　
 マガジンハウス六本木ビル7階\n六本木駅徒歩3分(日比
 谷線3番出口/大江戸線5番出口）です\n【道順】\n１、外
 苑東通り沿いを東京タワーの方面に進む\n２、タリー
 ズさん、セブンイレブンさんを右手に通過\n３、1階に
 三菱東京UFJ銀行のATMが入ったビルです。エレベーター
 で7階に上がりください。\n費用\n無料\n持ち物\n\nノー
 トパソコン\n電源ケーブル\n名刺（名刺交換したい方の
 み）\nFacebookアカウント（繋がりたい方のみ）\nTwitterア
 カウント（繋がりたい方のみ）\n\nお菓子・飲み物はご
 用意しますが、好みのものがあれば持参してください
 。\n※社内に自動販売機もあります。\n環境\n\nwifi\n電
 源\nホワイトボード\n
LOCATION:株式会社キッズライン六本木オフィス 東京都六
 本木5-2-3(マガジンハウス六本木ビル7階)
URL:https://techplay.jp/event/742468?utm_medium=referral&utm_source=ics&utm
 _campaign=ics
END:VEVENT
END:VCALENDAR
