BEGIN:VCALENDAR
VERSION:2.0
PRODID:-//https://techplay.jp//JP
CALSCALE:GREGORIAN
METHOD:PUBLISH
X-WR-CALDESC:【本日開催！】丸ノ内アナリティクス　バン
 ビーノ
X-WR-CALNAME:【本日開催！】丸ノ内アナリティクス　バン
 ビーノ
X-WR-TIMEZONE:Asia/Tokyo
BEGIN:VTIMEZONE
TZID:Asia/Tokyo
BEGIN:STANDARD
DTSTART:19700101T000000
TZOFFSETFROM:+0900
TZOFFSETTO:+0900
TZNAME:JST
END:STANDARD
END:VTIMEZONE
BEGIN:VEVENT
UID:742482@techplay.jp
SUMMARY:【本日開催！】丸ノ内アナリティクス　バンビー
 ノ
DTSTART;TZID=Asia/Tokyo:20190806T190000
DTEND;TZID=Asia/Tokyo:20190806T214500
DTSTAMP:20260423T233048Z
CREATED:20190722T062709Z
DESCRIPTION:イベント詳細はこちら\nhttps://techplay.jp/event/74248
 2?utm_medium=referral&utm_source=ics&utm_campaign=ics\n\n～プロフェ
 ッショナル・データサイエンティストの視点～\n～デ
 ータサイエンス利活用最前線Ⅱ～\n今回も、自社事業
 においてダイナミックなデータ利活用を推進されてい
 るご登壇者をお迎えして開催します。\nいつも通り、
 持って帰れる知見をたっぷりとお届けしながら、\nい
 つも通り、向上心あふれる和気藹々が生まれることと
 思います。\n皆様ふるってご参加くださいませ！\nご登
 壇者プロフィール＆ご登壇テーマ　（順不同）\n『LINE
 のデータ活用』\n◆LINE株式会社\nData Science and Engineering
 センター \n​Data Labs \n​Data Science1チーム  マネージャ
 ー\n牟田 博和　様\n2007年にソニー株式会社に入社し、
 半導体エンジニアとして勤務。\n2013年からは有限責任
 監査法人トーマツに入社し、データ分析を活用した経
 営コンサルティング業務に携わる。\n​2015年にLINE株式
 会社に入社。LINEおよびLINEファミリーサービスをグロ
 ースさせるためのデータ分析に関わる。\n2018年よりData
  Scienceチームのマネージャーとして、データ分析に関
 わる多数のプロジェクトマネジメント、データドリブ
 ンな文化の浸透、データ分析プラットフォームの企画
 、新規事業企画のサポートなどに従事。\n2019年より経
 営企画室を兼務。\n『金融機関の新たな挑戦～スマー
 トスタジアム・スマートイベント～』\n◆株式会社 み
 ずほフィナンシャルグループ /株式会社みずほ銀行 デ
 ジタルイノベーション部\n　データビジネスチーム　
 デジタルストラテジスト\n　株式会社 Blue Lab　デジタ
 ルストラテジスト \n​　​株式会社 ふくおかフィナン
 シャルグループ/株式会社福岡銀行　事業戦略部　副調
 査役\n横山 隆之　様\n2012年株式会社福岡銀行へ入行。
 福岡市内や福岡県外の店舗にて法人営業に従事。\n2018
 年デジタル戦略部（現在の事業戦略部）所属。\n現在
 、”みずほ”・Blue Labへ出向し、デジタルストラテジ
 ストとして、新規ビジネスやデータビジネスの創出に
 従事。\n『金融機関の新たな挑戦 ～J-Coin Payと千葉ロッ
 テマリーンズ～』\n◆株式会社みずほフィナンシャル
 グループ /株式会社みずほ銀行 デジタルイノベーショ
 ン部\n　データビジネスチーム 次長\n　株式会社 Blue La
 b　シニアデジタルストラテジスト\n多治見 和彦　様\n2
 001年4月　株式会社みずほフィナンシャルグループ入社
 ，みずほ第一フィナンシャルテクノロジー株式会社出
 向 \n2014年7月　みずほ第一フィナンシャルテクノロジ
 ー株式会社 金融工学第一部 副部長\n2016年11月　一般社
 団法人丸の内アナリティクス 理事就任\n2017年4月　株
 式会社フィナンシャルグループ デジタルイノベーショ
 ン部 IoT・ビッグデータビジネスチーム 次長 \n金融機
 関・事業会社向のリスク管理モデリングを中心に各種
 データ分析を経験後，現在は新規ビジネス部門におい
 て \nデータビジネスの創出に従事。  \nタイムテーブル
 \n\n\n\n時間\n講演内容\n\n\n\n\n18:30 ~\n開場\n\n\n19:00 ~ 19:10\
 n開会ご挨拶・イントロダクション\n\n\n19:10 ~ 21:10\n講演
 者様ご登壇\n\n\n21:10 ~ 21:15\n閉会ご挨拶・アンケート\n\n
 \n21:15 ~ 21:45\n懇親会（ドリンクとお菓子をご用意して
 います）\n\n\n21:45\n閉会\n\n\n\n※講演プログラムは、変
 更する可能性、前後する可能性もございますので、\n
 　予めご了承くださいますようお願い致します。 \n※
 受付時間は18時30分から19時30分頃とさせていただきま
 す。\n※懇親会のみの参加はご遠慮いただいておりま
 す。\n御願い\n※補欠枠（171名以降）となっておられる
 方におかれましては、立ち見でのご聴講となる場合が
 ございます。\n予めご了承を御願いします。\n※キャン
 セルをされる方は必ず開催日の3営業日前までにお知ら
 せください。\nご連絡が無く欠席をされた場合は、次
 回開催以降のご参加をお控え頂く場合もございます。\
 n持ち物\n\n筆記用具\n名刺\n\n【丸の内アナリティクス 
 バンビーノの趣旨】\nいつもは、大企業の分析部門は
 どうあるべきかをカタめに議論する 丸の内アナリティ
 クス が、\nこの日だけは、オープンなミートアップ形
 式で大いに語り合います。\n今回は、丸の内アナリテ
 ィクスの参画企業の方も交えて\n日本のビッグデータ
 の活性化や実務での分析事例について語って頂きます
 。\n【参加費】\n無料\n【分析勉強会 “丸の内アナリテ
 ィクス” 設立の背景】\n最近のビッグデータ社会の本
 格化に伴い、\nちまたではデータ分析の勉強会やデー
 タ環境構築のワークショップが増えてきました。\nし
 かしながら専門性の高い、技術寄り各論寄りの分析勉
 強会が多く、\n分析専門の学生やビジネスマン以外に
 とっては参加しにくいものになっています。\n一方で
 、数多ある入門講座は厳しいビジネス実務でのコミッ
 トメントに乏しく、\n現場の最前線で急速に進化を続
 けているデータサイエンスやデータ分析の\n生々しさ
 を捉えていないものが多くなっています。\nこれを解
 決したいという思いから 丸の内アナリティクス は始
 まりました。\n【大切にしたいこと】\n一、実務ベース
 の分析勉強会、事例共有会である\n一、他業種、他職
 種からエントリーできる敷居の低さとテーマの広さが
 ある\n一、仕事に繋がる場である\n【これまでの開催状
 況】\n丸の内アナリティクス Spin-out Meetup\n丸の内アナ
 リティクス バンビーノ #1\n丸の内アナリティクス バン
 ビーノ #2\n丸の内アナリティクス バンビーノ #3\n丸の
 内アナリティクス バンビーノ #4\n丸の内アナリティク
 ス バンビーノ #5\n丸の内アナリティクス バンビーノ #6
 \n丸の内アナリティクス バンビーノ #7\n丸の内アナリ
 ティクス バンビーノ #8\n丸の内アナリティクス バンビ
 ーノ #9\n丸の内アナリティクス バンビーノ #10\n丸の内
 アナリティクス バンビーノ #11\n丸の内アナリティクス
  バンビーノ #12\n丸の内アナリティクス バンビーノ #13\
 n丸の内アナリティクス バンビーノ #14\n丸の内アナリ
 ティクス バンビーノ #15\n丸ノ内アナリティクス バン
 ビーノ #16\n丸ノ内アナリティクス バンビーノ #17\n丸ノ
 内アナリティクス バンビーノ #18\n※内容は変更になる
 可能性がございます。\nその際はTwitterとFacebookメッセ
 ージ及びconnpassでご連絡させて頂きますので、御確認
 をお願い致します。
LOCATION:レバテック株式会社 東京都渋谷区渋谷2-21-1 渋谷
 ヒカリエ 17F
URL:https://techplay.jp/event/742482?utm_medium=referral&utm_source=ics&utm
 _campaign=ics
END:VEVENT
END:VCALENDAR
