BEGIN:VCALENDAR
VERSION:2.0
PRODID:-//https://techplay.jp//JP
CALSCALE:GREGORIAN
METHOD:PUBLISH
X-WR-CALDESC:【8月開催】「Androidアプリ開発体験」イベント
 ～未経験からプログラミングを仕事にするために～
X-WR-CALNAME:【8月開催】「Androidアプリ開発体験」イベント
 ～未経験からプログラミングを仕事にするために～
X-WR-TIMEZONE:Asia/Tokyo
BEGIN:VTIMEZONE
TZID:Asia/Tokyo
BEGIN:STANDARD
DTSTART:19700101T000000
TZOFFSETFROM:+0900
TZOFFSETTO:+0900
TZNAME:JST
END:STANDARD
END:VTIMEZONE
BEGIN:VEVENT
UID:742700@techplay.jp
SUMMARY:【8月開催】「Androidアプリ開発体験」イベント～
 未経験からプログラミングを仕事にするために～
DTSTART;TZID=Asia/Tokyo:20190809T190000
DTEND;TZID=Asia/Tokyo:20190829T210000
DTSTAMP:20260420T125514Z
CREATED:20190723T073951Z
DESCRIPTION:イベント詳細はこちら\nhttps://techplay.jp/event/74270
 0?utm_medium=referral&utm_source=ics&utm_campaign=ics\n\nイベント概
 要\n本イベントにご参加後、ご希望の方には無料プロ
 グラミングスクールAIP CollegeのJava講座を受講していた
 だき、IT業界での就職・転職のサポートまで行います
 。無料プログラミングスクール　AIP College｜アイピー
 カレッジJava講座 初級コース 詳細IT業界で仕事をした
 いけれどプログラミングは難しそうで何から手をつけ
 ていいかわからない…そんな初心者の方向けのJavaプロ
 グラミング体験イベントです。 　本格的なJavaプログ
 ラミング学習コースの受講前にプログラミングの楽し
 さを体感していただくことが可能です。イベントでは
 開発環境「Android Studio」を使用し、アプリケーション
 をカスタマイズしていきます。エミュレーター(擬似環
 境)や実機を用いて実際にアプリケーションの動きを確
 認しながら進めていきます。　アプリ開発体験イベン
 トのコンセプトは、「プログラミングに初めてチャレ
 ンジする生徒の皆さんが、プログラマーという仕事に
 面白い！を見つけて頂くこと」です。プログラマーが
 パソコンを使ってどのようにソフトを作っていくのか
 、実際に手を動かすことによって、より具体的なイメ
 ージをつかむことができます。　理系の方はもちろん
 、文系出身でパソコンに触れたことがない方にも丁寧
 に解説していきます。Androidアプリ開発をより身近に感
 じることができるイベントです。\n開催予定毎週木曜
 ・金曜の19時より開催しています。就業されている方
 も参加しやすい時間帯となっております。・8月9日（
 金）19：00～21：00・8月16日（金）19：00～21：00・8月22日
 （木）19：00～21：00・8月29日（木）19：00～21：00講師紹
 介Androidアプリ開発体験コース担当：新井　高志35年以
 上におよびIT業界に従事。システム構築時のユーザー
 業務の把握・分析からプロジェクト計画立案・構築そ
 して保守・運用までの全てを経験し、ユーザー教育、
 専門学校講師なども担当。詳しくはこちらのページを
 ご参照ください。AIP College 講師一覧開催場所\nAIP College
 ｜アイピーカレッジ［住所］〒163-0219東京都新宿区西
 新宿2-6-1 新宿住友ビル19F[最寄り駅]\n\nJR新宿駅　徒歩10
 分 道順詳細\n地下鉄丸の内線　西新宿駅　徒歩10分 道
 順詳細\n地下鉄大江戸線　都庁前駅　徒歩5分 道順詳細
 新宿住友ビルディングの19階につきましたら、\n「ジャ
 パニアス株式会社」と書いてある方向へお進みくださ
 い。こちらの入り口につきましたら、受付の電話で「1
 5」番か「16」番をコールしてください。お問い合わせ\
 nTEL：0800-800-0815（月～土 9:00～18:00）\n受講対象者\n\n申
 込時点で20～30歳の方※学生の方は、就職・転職を検討
 可能な卒業年度以上の方を対象としております。\n日
 本国籍の方\n関東圏内にお住まいの方※西新宿にある
 スクールに通学可能な方\nIT業界で就職・転職を目指し
 ている方\nJavaを学習したことがない方、学習を始めた
 ばかりの方\n\n持ち物\n筆記用具のみ（パソコンはこち
 らでご用意いたします。）\n\n参加費\n無料\n\nハッシュ
 タグ\n#aipcollege #アプリ開発体験をつけてシェアしてく
 ださい。
LOCATION:AIP College｜アイピーカレッジ 〒163-0219 東京都新宿
 区西新宿2-6-1 新宿住友ビル19階
URL:https://techplay.jp/event/742700?utm_medium=referral&utm_source=ics&utm
 _campaign=ics
END:VEVENT
END:VCALENDAR
