BEGIN:VCALENDAR
VERSION:2.0
PRODID:-//https://techplay.jp//JP
CALSCALE:GREGORIAN
METHOD:PUBLISH
X-WR-CALDESC:db tech showcase Tokyo 2019
X-WR-CALNAME:db tech showcase Tokyo 2019
X-WR-TIMEZONE:Asia/Tokyo
BEGIN:VTIMEZONE
TZID:Asia/Tokyo
BEGIN:STANDARD
DTSTART:19700101T000000
TZOFFSETFROM:+0900
TZOFFSETTO:+0900
TZNAME:JST
END:STANDARD
END:VTIMEZONE
BEGIN:VEVENT
UID:742794@techplay.jp
SUMMARY:db tech showcase Tokyo 2019
DTSTART;TZID=Asia/Tokyo:20190925T093000
DTEND;TZID=Asia/Tokyo:20190927T184000
DTSTAMP:20260424T132224Z
CREATED:20190724T054917Z
DESCRIPTION:イベント詳細はこちら\nhttps://techplay.jp/event/74279
 4?utm_medium=referral&utm_source=ics&utm_campaign=ics\n\n\n\nイベント
 レジストにてご登録受付中\n\n昨年 1400 名以上の方にご
 登録いただいた「db tech showcase Tokyo」今年は 9 月 25 日
 （水）～ 9 月 27 日（金）の 3 日間にわたり秋葉原UDXに
 て開催！\n 「Beyond data towards insight/データを超えて、Ins
 ightへ」\n\n\nイベント概要\n\n2011年から始まり、データ
 ベースに携わる技術者へ「学び」「気づき」「変化」
 を提供する、国内最大規模のデータベース技術カンフ
 ァレンスとしてご好評を頂いてきましたdb tech showcaseで
 すが、今年は、これまでのデータベースの技術セッシ
 ョンに、AI／機械学習、クラウド、IoTなどのセッショ
 ンを加え、データからInsightを発見するための技術カン
 ファレンスとしてパワーアップして実施いたしますの
 で、どうぞご期待ください。今年はイベントレジスト
 にてセッションごとに先着順でお申し込み頂くため、
 お早めにご登録下さい。\n\n\n\n\nRecommended\n\n同時通訳セ
 ッション  Oracle ACEによる海外の最新テクノロジートレ
 ンドを日本語で！\n豪華スピーカー3名による連日の基
 調講演\nランチセッションを含め、データベースからAI
 まで約100セッションを実施\n\n基調講演\n\n\n\nイベント
 サイト\n\n\ndb tech showcase Tokyo 2019ページ\ndb tech showcase Tok
 yo 2019 お申し込みページ\nSNSでも随時最新情報を更新し
 ています！\ndb tech showcaseページ(Facebook)\nインサイトテ
 クノロジー(Twitter)\n\n\n\n\n
LOCATION:秋葉原UDXカンファレンス 東京都千代田区外神田
 ４−１４−１
URL:https://techplay.jp/event/742794?utm_medium=referral&utm_source=ics&utm
 _campaign=ics
END:VEVENT
END:VCALENDAR
