BEGIN:VCALENDAR
VERSION:2.0
PRODID:-//https://techplay.jp//JP
CALSCALE:GREGORIAN
METHOD:PUBLISH
X-WR-CALDESC:【ハンズオン】【初心者向け】AzureとAzureStack
 を用いたIaaS\,PaaS\,FaaS体験
X-WR-CALNAME:【ハンズオン】【初心者向け】AzureとAzureStack
 を用いたIaaS\,PaaS\,FaaS体験
X-WR-TIMEZONE:Asia/Tokyo
BEGIN:VTIMEZONE
TZID:Asia/Tokyo
BEGIN:STANDARD
DTSTART:19700101T000000
TZOFFSETFROM:+0900
TZOFFSETTO:+0900
TZNAME:JST
END:STANDARD
END:VTIMEZONE
BEGIN:VEVENT
UID:742822@techplay.jp
SUMMARY:【ハンズオン】【初心者向け】AzureとAzureStackを用
 いたIaaS\,PaaS\,FaaS体験
DTSTART;TZID=Asia/Tokyo:20190801T133000
DTEND;TZID=Asia/Tokyo:20190801T173000
DTSTAMP:20260422T050157Z
CREATED:20190724T062014Z
DESCRIPTION:イベント詳細はこちら\nhttps://techplay.jp/event/74282
 2?utm_medium=referral&utm_source=ics&utm_campaign=ics\n\nハイブリッ
 ドクラウド研究会(HCCJP)　第1回ハンズオン\nこれまで勉
 強会やハイブリッドクラウドガイドライン作成と公開
 を中心に活動してきたHCCJPですが、参加者から要望の
 多かったハンズオン企画を開催します。\n今回のハン
 ズオンではAzureおよびAzure StackをもちいてIaaS\, PaaS\, FaaS
 の概要を体験してもらいます。\n下記のような方を主
 な対象として考えています。\n\nクラウド未体験の方\nA
 zure / Azure Stackをまだ活用できていない方\nAzure Stackに触
 ってみたい方\nクラウドを利用していたとしても仮想
 マシンをポータルから手作業で作成している方\n\nクラ
 ウド基盤を活用する方法を体験いただければと思いま
 す。\n初回の開催のため少々実験的な意味合いも強く
 なります。参加者の方にはご了承いただければと思い
 ます。\nハンズオンサポートはHCCJPの幹事企業関係者の
 方に限らずどなたでもボランティアとして参加いただ
 けます。サポートの方は実際のハンズオンには参加い
 ただかずサポートに専念して頂く形になりますのでそ
 の点はご了承ください。\nハンズオン参加者準備\nハン
 ズオンに参加される方は下記の準備をお願いいたしま
 す。\n\n各自ハンズオンに使えるNote PCをお持ちくださ
 い。\n自由に使えるAzureのサブスクリプションを1つ準
 備ください。Azure無料アカウントの利用も可能です。\n
 ※Wifiによるインターネット接続はMicrosoft様に提供いた
 だきますので用意は必要ありません。\n※Azure / Azure Sta
 ckに関する前提知識は特に必要ありません。\n\nアジェ
 ンダ\n\n\n\n開始時刻\n時間(分)\nセッション\nスピーカー
 \n\n\n\n\n13:00\n30\n開場・受付\n\n\n\n13:30\n15\n挨拶 / 会場フ
 ァシリティ説明HCCJP取り組み紹介と第1回ハンズオンに
 ついてHCCJPの活動の紹介とともに、今回の第1回ハンズ
 オンの位置づけ等に関して説明させていただきます。\
 n日本ビジネスシステムズ株式会社事業企画本部 ビジ
 ネスインキュベーション部(Microsoft MVP for Microsoft Azure)
 胡田 昌彦 氏\n\n\n13:45\n225\nハンズオン・サブスクリプ
 ション準備・仮想マシン展開 - ブラウザ・仮想マシン
 展開 - PowerShell・テンプレート展開・コンテナ基盤展開
 ・Webサイト作成・Teamsにメッセージ送信するWebサービ
 ス作成※適宜休憩を挟みながら進行します\n日本ビジ
 ネスシステムズ株式会社事業企画本部 ビジネスインキ
 ュベーション部(Microsoft MVP for Cloud and Datacenter Management)
 胡田 昌彦 氏\n\n\n17:30\n\nクロージング※時間は参加者
 の進捗によって多少前後します\n\n\n\n\n※タイムテーブ
 ルは予告なく変更する可能性がございます。ご了承く
 ださい。\nハイブリッドクラウド研究会について\nハイ
 ブリッドクラウド研究会は「日本における『ハイブリ
 ッドクラウド』の再定義」「新しい『ハイブリッドク
 ラウド』の導入促進」を目的として活動しています。
 現在までの活動のハイライトは下記です。\n\n「ハイブ
 リッドクラウドガイドライン」を作成し11月7日にVer. 1
 を公開しました。 \nマルチノードAzureStack + ExpressRoute + 
 Azureのハイブリッドクラウド環境を研究会用の検証環
 境として準備し利用申し込み可能となっています。パ
 ブリックAzureのサブスクリプションのみ用意いただけ
 れば1ヶ月間無償で利用可能です。\nFacebookグループに
 てディスカッションを行っております。\n\nその他の活
 動や詳細については下記公式Webサイトを是非御覧くだ
 さい。\n\nhttp://www.hccjp.org/\n\n主催\n\nハイブリッドクラ
 ウド研究会\n主幹事：日本ビジネスシステムズ株式会
 社\n幹事(50音順)：アバナード株式会社\, 株式会社イン
 ターネットイニシアティブ\, 株式会社インテック\, NTT
 コミュニケーションズ株式会社\, Dell EMC(デル株式会社 
 / EMCジャパン株式会社)\, 日商エレクトロニクス株式会
 社\, 日本ヒューレット・パッカード株式会社\, ファー
 ウェイ・ジャパン（華為技術日本株式会社）\, 株式会
 社ネットワールド\, 三井情報株式会社\, レノボ・エン
 タープライズ・ソリューションズ株式会社\n事務局：
 日本マイクロソフト株式会社\n\n\n
LOCATION:日本マイクロソフト株式会社 東京都 港区 港南 2-
 16-3 品川グランドセントラルタワー
URL:https://techplay.jp/event/742822?utm_medium=referral&utm_source=ics&utm
 _campaign=ics
END:VEVENT
END:VCALENDAR
