BEGIN:VCALENDAR
VERSION:2.0
PRODID:-//https://techplay.jp//JP
CALSCALE:GREGORIAN
METHOD:PUBLISH
X-WR-CALDESC:量子コンピュータとAIでのEC/ウェブサイト最適
 化【8/5午後】
X-WR-CALNAME:量子コンピュータとAIでのEC/ウェブサイト最適
 化【8/5午後】
X-WR-TIMEZONE:Asia/Tokyo
BEGIN:VTIMEZONE
TZID:Asia/Tokyo
BEGIN:STANDARD
DTSTART:19700101T000000
TZOFFSETFROM:+0900
TZOFFSETTO:+0900
TZNAME:JST
END:STANDARD
END:VTIMEZONE
BEGIN:VEVENT
UID:742896@techplay.jp
SUMMARY:量子コンピュータとAIでのEC/ウェブサイト最適化
 【8/5午後】
DTSTART;TZID=Asia/Tokyo:20190805T130000
DTEND;TZID=Asia/Tokyo:20190805T140000
DTSTAMP:20260424T095603Z
CREATED:20190724T142640Z
DESCRIPTION:イベント詳細はこちら\nhttps://techplay.jp/event/74289
 6?utm_medium=referral&utm_source=ics&utm_campaign=ics\n\nはじめに\n
 量子コンピュータとAI（機械学習）を応用し、将来的
 にビジネスがスケールする新しい手法を開発しました
 。実際にシステム化されたシステムの自動化によって
 、現在のパフォーマンスとすでに導入済みの実績紹介
 と将来的な発展の見込みを紹介します。\nダイナミッ
 ク最適化\n今回MDR社が開発した手法は最適化と機械学
 習を応用し、業務プロセスの自動化を実現しました。P
 DCAのサイクルの自動化と評価をどのような手順で行い
 、その中で量子コンピュータがどのように活躍し、将
 来的にどのようにビジネスがスケールしていくのかを
 紹介します。\nお名刺を持参ください\n当日担当者の挨
 拶がありますので、お名刺を頂けると幸いです。\n誰
 でも使えるクラウドシステム\n今回難しい量子コンピ
 ュータの仕組みを誰でも簡単に使えるようにクラウド
 システム化しました。難しい操作なくという難しいキ
 ーワードを意識せずに量子コンピュータの恩恵を受け
 ることができます。\n運用方法\n最先端技術を使ってど
 のように運用や活用に応用できるかを確認します。\n
 ・EC・ウェブサイト概要\n・技術と活用方法の紹介\n・
 実績紹介\n・個別相談など\n対象\n・量子コンピュータ
 の活用をみてみたい\n・コストを削減してマーケティ
 ングしたい\n・PoCを行いたい\n・実績を見たい\n日本語
 版\nhttps://join.slack.com/t/blueqat/shared_invite/enQtNDA3NjU0MjM2NjEyL
 WU1MjJlNTM5NGNkNjk1NmYzYjU5NDliOTc5M2QwNDc1YmMyNzYzYjY3YmE2NGUxMTI1OTEyYT
 UwOWEyNmY4MWY
LOCATION:MDR株式会社 文京区本郷2-40-14-3F
URL:https://techplay.jp/event/742896?utm_medium=referral&utm_source=ics&utm
 _campaign=ics
END:VEVENT
END:VCALENDAR
