BEGIN:VCALENDAR
VERSION:2.0
PRODID:-//https://techplay.jp//JP
CALSCALE:GREGORIAN
METHOD:PUBLISH
X-WR-CALDESC:【初心者歓迎】機械学習のための数学入門【
 関数・数列編】
X-WR-CALNAME:【初心者歓迎】機械学習のための数学入門【
 関数・数列編】
X-WR-TIMEZONE:Asia/Tokyo
BEGIN:VTIMEZONE
TZID:Asia/Tokyo
BEGIN:STANDARD
DTSTART:19700101T000000
TZOFFSETFROM:+0900
TZOFFSETTO:+0900
TZNAME:JST
END:STANDARD
END:VTIMEZONE
BEGIN:VEVENT
UID:743107@techplay.jp
SUMMARY:【初心者歓迎】機械学習のための数学入門【関数
 ・数列編】
DTSTART;TZID=Asia/Tokyo:20190813T190000
DTEND;TZID=Asia/Tokyo:20190813T220000
DTSTAMP:20260424T003700Z
CREATED:20190726T050843Z
DESCRIPTION:イベント詳細はこちら\nhttps://techplay.jp/event/74310
 7?utm_medium=referral&utm_source=ics&utm_campaign=ics\n\n【初心者歓
 迎】機械学習のための数学入門【関数・数列編】\n\n概
 要\n\n機械学習の理論を学ぶ上で、数学の基礎的な知識
 は欠かせません。そこで、機械学習を理解することに
 特化した数学基礎講座を開講いたします。\n\n講義内で
 は深層学習の本などでは当たり前のように出てくる概
 念や記号に的を絞ってわかりやすく解説いたします。
 具体的には、関数・微分・Σ・多変数関数・勾配降下
 法による最適化などが取り扱い内容です。\n\n「機械学
 習にこれから挑戦したい方」「一度勉強しようとした
 が、数学的なところでつまずいて、先に進めなかった
 方」などに、これから学習を進めていくきっかけとし
 て非常にオススメな内容となっております。\n\n※本講
 座は、動画復習対応講座でございます。受講した翌日
 から1週間、動画を公開いたします。聞き逃してしまっ
 た箇所の補填やより深い理解のためにお役立ていただ
 けると幸いです！\n\n※基本的な計算能力（中学レベル
 ）は本講座を受講するための前提知識とさせていただ
 きます。\n\n講座を通じて得られること\n\n・機械学習
 に使われている数学的な基礎知識の習得\n・関数・微
 分・Σ・多変数関数・勾配降下法への理解\n\nカリキュ
 ラム\n\n関数編\n\n関数とは\n関数の基本性質\n１変数関
 数\n多変数関数\n添え字付きの数（数列）\nΣ演算\n\n※
 各項目には演習問題を用意しておりますので、ノート
 とペンをご用意ください。\n※当日予告なく時間配分
 ・内容が変更になる可能性がございます。\n\n講座一覧
 のフローチャート\n\nどの講座から受講したら良いのか
 わからないというような方は、下記のフローチャート
 を参考にしていただければと思います。\n\n\n\n持ち物\n
 \n・パソコンやタブレットなど講義資料（PDF）を閲覧
 するのに適したデバイス\n・ノートとペン（演習問題
 を多数用意しております。）\n\nこんな人にオススメ\n\
 n・これから機械学習・ディープラーニングの動作メカ
 ニズムを理解したい方\n・数学的な基礎知識を身に付
 けたい方\n\n講師\n\n渡邉雅也\n経済ファイナンス時系列
 データに関する研究に従事。統計学、情報工学、最適
 化の理論などに精通。大手証券会社にて機械学習に関
 する技術を用いた分析を行った経験を活かし、kaggleな
 どのコンペティションにも参加。幅広いAI分野の講座
 の講師を務める。\n\n\n領収書について\n\n【Stripeで事前
 決済の方】\nクレジットカード会社が発行する明細を
 領収書の代わりとしてご利用ください。\n\n【Paypalの方
 】\n決済処理後にPaypalから送付されるメール内容、ま
 たはPaypalの取引履歴から該当項目を確認の上、「詳細
 」をご覧ください。それらが領収書の代わりとなりま
 す。また、クレジットカード会社発行の利用明細書も
 領収書としてご利用いただけます。\n\n【別途領収書発
 行が必要な方】\n別途発行手数料として1000円頂きます
 。必要な方は、以下のフォームよりご申請ください。
 領収書発行手数料と受講料金を合算した金額で発行い
 たします。\n全人類がわかる統計学 領収書発行フォー
 ム\n\n会場\n\n東京都台東区台東１丁目11番4号 誠心Oビル
  3階\n\nアクセス\n秋葉原駅より徒歩5分\nJR線をご利用の
 方は昭和通り改札、東京メトロ日比谷線をご利用の方
 は1番出口が最も近くなっております。\n\n受付・入場
 時間\n\n開始の15分前から\n\n※なるべく5分前までにお
 入りください。\n※途中参加も可能です。\n\nポータル
 サイト会員登録のお願い\n\n全人類がわかる統計学では
 、ポータルサイトを使って講座で扱う教材を受講者の
 皆様に共有いたします。\n初めて全人類がわかる統計
 学の講座に参加される方は、あらかじめこちらより会
 員登録をお願いいたします。\n\nお問い合わせ\n\n・メ
 ールでのお問い合わせは、info@to-kei.net　までご連絡く
 ださい。\n・こちらで⇨LINE＠からもお問い合わせいた
 だけます。（推奨）\n\n注意事項\n\n・リクルーティン
 グ、勧誘、採用活動など、目的に沿わない行為につき
 まして、主催者が相応しくないと判断した場合は即刻
 退出処分とします。全員が気持ちよく過ごすことが出
 来るよう、ご協力をお願い致します。\n・講座内で扱
 うコンテンツは全て「全人類がわかる統計学」に帰属
 しています。複製はご遠慮ください。\n・個人ブログ
 への講義コンテンツの掲載はご遠慮ください。\n・最
 小遂行人数は「3名」です。開催日の前日までにこの人
 数に達しない場合は中止となります。ただし、複数の
 媒体で募集を行っているので、本サイトの申込者数が
 最小遂行人数に達しない場合でも開催になる場合がご
 ざいます。もし、中止が決定した場合はその時点で「
 全額返金」し、登録しているメールアドレスにご連絡
 させていただきます。\n\n全人類がわかる統計学とは\n\
 n株式会社AVILENが運営するサービスです。統計学・機械
 学習の学習用サイト全人類がわかる統計学を運営、管
 理するほか、社会人向けのAI人材やデータサイエンテ
 ィスト育成のための教育事業を行なっております。\n
 統計学や機械学習を、出来るだけわかりやすく多くの
 人々に届けるということを目指して活動しています。\
 n
LOCATION:秋葉原駅徒歩5分 東京都台東区台東１丁目11番4号 
 誠心Oビル 3階
URL:https://techplay.jp/event/743107?utm_medium=referral&utm_source=ics&utm
 _campaign=ics
END:VEVENT
END:VCALENDAR
