BEGIN:VCALENDAR
VERSION:2.0
PRODID:-//https://techplay.jp//JP
CALSCALE:GREGORIAN
METHOD:PUBLISH
X-WR-CALDESC:【第1回 / 全4回】入門IoT電子工作ArduinoでLチカ
 から組込開発を理解しよう#0
X-WR-CALNAME:【第1回 / 全4回】入門IoT電子工作ArduinoでLチカ
 から組込開発を理解しよう#0
X-WR-TIMEZONE:Asia/Tokyo
BEGIN:VTIMEZONE
TZID:Asia/Tokyo
BEGIN:STANDARD
DTSTART:19700101T000000
TZOFFSETFROM:+0900
TZOFFSETTO:+0900
TZNAME:JST
END:STANDARD
END:VTIMEZONE
BEGIN:VEVENT
UID:743147@techplay.jp
SUMMARY:【第1回 / 全4回】入門IoT電子工作ArduinoでLチカから
 組込開発を理解しよう#0
DTSTART;TZID=Asia/Tokyo:20190804T150000
DTEND;TZID=Asia/Tokyo:20190804T173000
DTSTAMP:20260424T114824Z
CREATED:20190726T062748Z
DESCRIPTION:イベント詳細はこちら\nhttps://techplay.jp/event/74314
 7?utm_medium=referral&utm_source=ics&utm_campaign=ics\n\nMyDNS.JPユー
 ザー会関西支部紹介\nMyDNS.JPユーザー会関西支部では、
 サーバーについて主に勉強会を開くのが趣旨です。\n
 ただ昨今IoTの技術が活用例が出てきいます。\n例：\nPlu
 shCare:遠隔医療サービス\nhttps://www.plushcare.com/\nIoT自販機
 :防災支援サービス\nhttp://jaoc.jp/examples/\n自分で上記の
 ようなサービスを作ろうとした時、サーバーの構築技
 術だけでなく、末端の機械(カメラ、温度計など)を使
 用する組み込み技術も必要になってきます。そこで基
 礎的な技術の習得として\n「Arduino + Raspberry Pi(ラズパイ
 )の組み合わせでサーバー経由でカメラ映像を表示する
 」ができれば、サーバー構築と同時に組み込みに対し
 ても敷居を低く持てると思い今回企画してみました。\
 n本勉強会 - 電子工作シリーズについて\n「Arduino+Raspberr
 y Pi(ラズパイ)の組み合わせでサーバー経由でカメラ映
 像を表示する」\n一気にこの目標を達成するのは難し
 いので4回に分けて実施することにしました。\n第1回か
 ら第4回まで使用機材や学習することがつながっている
 ため、なるべく第1回 から参加することを推奨いたし
 ます。\n【第1回 / 全4回】入門IoT電子工作ArduinoでLチカ
 から組込開発を理解しよう  (2019/8/4に実施予定)\n【第2
 回 / 全4回】入門IoT電子工作 wifi+Arduinoのつながりを理
 解しよう  (8月中旬頃実施予定)\n↓ここからMyDNS.JPを利
 用します↓\n【第3回 / 全4回】入門IoT電子工作Raspberry Pi
 (ラズパイ)でサーバーを立ててみよう  (8月末頃実施予
 定)\n【第4回 / 全4回】入門IoT電子工作でカメラ映像を
 サーバー経由で表示してみよう  (9月上旬頃実施予定)\n
 今回は　【第1回 / 全4回】入門IoT電子工作ArduinoでLチカ
 から組込開発を理解しよう になります。\n日程につい
 て確定していないのは、第一回目で来てくださった方
 の都合に合わせて実施を考えているため、このような
 書き方になっております。\n第1回のカリキュラム\n①
 必要なソフト/ハードのセットアップ\n･道具(抵抗/LED/
 本体(UNO R3)/ブレットボード)の説明\n　　　\n②回路図
 の意味を理解する\n･なぜLEDと抵抗の組み合わせが必
 要か？\n③レジスターの理解をする\n･レジスターとは
 なんぞ？\n･データシートの見方\n･プログラムとレジ
 スターのつながり\n④ハードとソフトのつながりを理
 解する\n･②③でやった流れ全体を振り返って理解す
 る\n⑤実際にLチカしてみる\n使用機材\nこちらの機材に
 ついては参加費用（参加費用については希望される方
 は領収書発行させていただきます）\nに含まれるので
 、持ち帰りしていただけ、復習ができます！\nArduino UNO
  R3\n抵抗\nLED\nブレッドボード\nUSBケーブル\nブレッドボ
 ード 線\n持ち物\n・ノートパソコン\n※事前にArduino IDE
 はダウンロードしておいてください。下記リンクから
 いけます。\n(容量は105MBほど。おおよそ15分程でダウロ
 ードできるかと思います)\nhttps://www.arduino.cc/en/main/softwa
 re#toc1\n最低限の押さえてほしいこと\n・パソコンの基
 本操作\n開催場所\n大阪市北区曽根崎2丁目10-15 曽根崎
 センタービル4F 『底辺亭』\n底辺亭とは？\n2019年7月1日
 にオープンしたテックバーです。\n普通の勉強会とは
 違い、Barのカウンター越しに教えに行っちゃうスタイ
 ルです。飲みながら陽気に学ぶことが可能です。\n底
 辺亭公式サイト\n技術同人誌イベント「銭けっと」を
 始めとする産学イベントの拠点として活用する事を目
 的に起ち上げました。\n通常営業時間　18時~23時　\n※
 勉強会自身は17:30までになります。18:00以降は他のお客
 様が入ってくる可能性あります。\n※テック系イベン
 トや勉強会を支援する活動を行っています。\n※Wi-Fi・
 ホワイトボード・プロジェクター・プリンター・撮影
 ボックスあります。\n会場をお探しの方は是非弊店へ
 。
LOCATION:底辺亭 大阪市北区曽根崎2丁目10-15　4階
URL:https://techplay.jp/event/743147?utm_medium=referral&utm_source=ics&utm
 _campaign=ics
END:VEVENT
END:VCALENDAR
