BEGIN:VCALENDAR
VERSION:2.0
PRODID:-//https://techplay.jp//JP
CALSCALE:GREGORIAN
METHOD:PUBLISH
X-WR-CALDESC:Mobile Act OSAKA #11
X-WR-CALNAME:Mobile Act OSAKA #11
X-WR-TIMEZONE:Asia/Tokyo
BEGIN:VTIMEZONE
TZID:Asia/Tokyo
BEGIN:STANDARD
DTSTART:19700101T000000
TZOFFSETFROM:+0900
TZOFFSETTO:+0900
TZNAME:JST
END:STANDARD
END:VTIMEZONE
BEGIN:VEVENT
UID:743267@techplay.jp
SUMMARY:Mobile Act OSAKA #11
DTSTART;TZID=Asia/Tokyo:20190920T184000
DTEND;TZID=Asia/Tokyo:20190920T213000
DTSTAMP:20260420T011733Z
CREATED:20190726T143224Z
DESCRIPTION:イベント詳細はこちら\nhttps://techplay.jp/event/74326
 7?utm_medium=referral&utm_source=ics&utm_campaign=ics\n\n開催概要\nMo
 bile Act OSAKA はフェンリル大阪メンバーが開催するモバ
 イルアプリ開発勉強会です。\nモバイルアプリ開発関
 連の情報共有や参加者同士の交流を目的として開催し
 ています。どうぞよろしくお願いします。\n運営など
 についてのお問合わせは Twitter: @mobile_act にお願いしま
 す。\n登壇者募集\n登壇者を募集します。\n発表内容は
 、iOS / Android アプリ開発はもちろん、Web、デザイン、
 テスト、開発手法、スマートガジェット、IoT、など幅
 広く募集しますので、お気軽にお申し込みください。
 発表時間は10分間です（質疑応答は懇親会でおこなっ
 ていただくことを想定しています）。\n登壇者は抽選
 で決めさせていただきます。なお、登壇枠の抽選で外
 れて補欠となった場合でも、そのままオーディエンス
 としてご参加いただけます。\n会場\nOsaka Innovation Hub（
 大阪イノベーションハブ） : グランフロント大阪 北館
 7F\n会場へのアクセス方法は、大阪イノベーションハブ
 のサイトをご覧ください : アクセス – OSAKA INNOVATION HUB
 \nタイムテーブル\n\n\n\n時間\n内容\n登壇者（敬称略）\n
 \n\n\n\n18:10\n開場・受付開始\n-\n\n\n18:40\n挨拶\nフェンリ
 ルスタッフ ＆ 大阪イノベーションハブスタッフ\n\n\n18
 :50\n登壇1\nKeihan 「Cloud Firestoreを利用した地理空間検索
 実践」\n\n\n19:00\n登壇2\nfukumoto 「もうすぐハロウィン　
 トリック（高負荷）を回避するためのトリート（負荷
 分散）」\n\n\n19:10\n登壇3\nitok 「iOS 13対応ではまった話
 」\n\n\n19:20\n登壇4\nusami-k 「SwiftyMathで遊ぶ」\n\n\n19:30\n
 登壇5\nai 「はじめてみようAccessibility」\n\n\n19:40\n登壇6\
 nチンペイ 「モバイルアプリでの Feature Flag の導入」\n\
 n\n19:50\n登壇7\nmeil 「GitHub ActionsのActionを作る」\n\n\n20:00
 \n登壇8\ntemoki 「Ruby on Rails + Cloud Firestore のハイブリッ
 ド構成で構築するリアルタイム・チャット機能」\n\n\n2
 0:10\n懇親会\n-\n\n\n21:20\n懇親会終了\n-\n\n\n21:30\n撤収\n-\n
 \n\n\n懇親会\n懇親会では、食べ物と飲み物をフェンリ
 ル株式会社から提供いたします。\n会場は21:30に完全撤
 収となっておりますので、ご協力よろしくお願いしま
 す。\n個人情報のご提供のお願い\n参加登録時のアンケ
 ートで、皆さまの個人情報（氏名・所属・メールアド
 レス）のご記入をお願いしております。必須項目とは
 しておりませんが、ご協力いただけますと幸いです。\
 nこの個人情報は、大阪イノベーションハブからのイベ
 ントなどの案内に使用されます。フェンリルはこの個
 人情報を保管・使用いたしません。
LOCATION:Osaka Innovation Hub (大阪イノベーションハブ) 大阪市
 北区大深町3番1号 (グランフロント大阪 ナレッジキャ
 ピタルタワーC 7階)
URL:https://techplay.jp/event/743267?utm_medium=referral&utm_source=ics&utm
 _campaign=ics
END:VEVENT
END:VCALENDAR
