BEGIN:VCALENDAR
VERSION:2.0
PRODID:-//https://techplay.jp//JP
CALSCALE:GREGORIAN
METHOD:PUBLISH
X-WR-CALDESC:[秋葉原] 超初心者向けPython入門会  時系列デー
 タのスクレイピングと活用 (初心者大歓迎！)
X-WR-CALNAME:[秋葉原] 超初心者向けPython入門会  時系列デー
 タのスクレイピングと活用 (初心者大歓迎！)
X-WR-TIMEZONE:Asia/Tokyo
BEGIN:VTIMEZONE
TZID:Asia/Tokyo
BEGIN:STANDARD
DTSTART:19700101T000000
TZOFFSETFROM:+0900
TZOFFSETTO:+0900
TZNAME:JST
END:STANDARD
END:VTIMEZONE
BEGIN:VEVENT
UID:743430@techplay.jp
SUMMARY:[秋葉原] 超初心者向けPython入門会  時系列データ
 のスクレイピングと活用 (初心者大歓迎！)
DTSTART;TZID=Asia/Tokyo:20190804T183000
DTEND;TZID=Asia/Tokyo:20190804T203000
DTSTAMP:20260425T015233Z
CREATED:20190728T142635Z
DESCRIPTION:イベント詳細はこちら\nhttps://techplay.jp/event/74343
 0?utm_medium=referral&utm_source=ics&utm_campaign=ics\n\nゼロから始
 めるエンジニアリング入門\n学生や初学者の方を対象
 に下記の内容を扱っていきます。\n・Linux  \n・SQL  \n・
 ネットワーク  \n・JavaScript  \n・Git  \n・リーダブルコー
 ドの輪読  \n・アプリ開発の初歩(iOS/Android)  \n・Webプロ
 グラミングの基礎  \n・Pythonによる自動化    \nこの会に
 ついて\nプログラミング初学者向けにHello WorldやPythonの
 解説からはじめ  \nファイル名の変更や表計算のデータ
 更新といった日常的に発生する作業をPythonで処理でき
 るようになることを\n目標に勉強会を進めていきます
 。\n今回は時系列データのスクレイピングと活用を扱
 います。\n本勉強会は初心者向け勉強会であり、熟練
 者の方を対象としておりません。 \nハンズオン形式で
 進めます。\nスケジュール\n\n\n\n時間\n内容\n\n\n\n\n18:00\
 n開場\n\n\n18:30\nこの会について\n\n\n18:40 ~ 20:30\n Python入
 門会 ~時系列データ スクレイピング編~  Python開発環境 
 ~Google colabの簡単な使い方スクレイピング基礎 ~Beautifuls
 oupについて~時系列データの解析\n\n\n\nスケジュールが
 変更される場合があります。ご了承ください。\n参考
 図書\n「面倒なことはPythonにやらせよう」\n「科学技術
 計算のためのPython入門 ――開発基礎、必須ライブラリ
 、高速化」\n 「Fluent Python ―Pythonicな思考とコーディン
 グ手法」 \n参加費\n1\,000円（会場費）\nコワーキングス
 ペース利用料金としていただいております。  \n同スペ
 ースの月額会員の方であればお支払いは不要です。\n
 持ち物\n実装される方はPCとgoogleアカウントをご準備く
 ださい\nSlack\nhttps://now-examples-slackin-mswfphbzab.now.sh/\n情報
 共有にSlackを使用します。事前に登録をお願いします
 。   \n(#pythonというchannelです)\n開催場所\n\nコワーキン
 グスペース秋葉原 Weeyble（ウィーブル)\nhttps://weeyble.com/
  \n東京都千代田区神田須田町２丁目１９−２３(野村第
 ３ビル４階)\n秋葉原駅電気街口または中央改札口より
 徒歩3分。 都営新宿線 岩本町駅徒歩3分、銀座線 神田
 駅6番出口徒歩2分\n\n電源、Wi-Fiあります!\n一緒に勉強
 会の運営してくださる方募集してます。\n\n▼秋葉原駅
 から会場までの行き方はこちら！▼\nhttps://weeyble.com/acc
 ess/
LOCATION:コワーキングスペース秋葉原Weeyble 東京都千代田
 区神田須田町２丁目１９−２３ (野村第３ビル ４階)
URL:https://techplay.jp/event/743430?utm_medium=referral&utm_source=ics&utm
 _campaign=ics
END:VEVENT
END:VCALENDAR
