BEGIN:VCALENDAR
VERSION:2.0
PRODID:-//https://techplay.jp//JP
CALSCALE:GREGORIAN
METHOD:PUBLISH
X-WR-CALDESC:GAN（敵対的生成ネットワーク）勉強会#1
X-WR-CALNAME:GAN（敵対的生成ネットワーク）勉強会#1
X-WR-TIMEZONE:Asia/Tokyo
BEGIN:VTIMEZONE
TZID:Asia/Tokyo
BEGIN:STANDARD
DTSTART:19700101T000000
TZOFFSETFROM:+0900
TZOFFSETTO:+0900
TZNAME:JST
END:STANDARD
END:VTIMEZONE
BEGIN:VEVENT
UID:743597@techplay.jp
SUMMARY:GAN（敵対的生成ネットワーク）勉強会#1
DTSTART;TZID=Asia/Tokyo:20190804T133000
DTEND;TZID=Asia/Tokyo:20190804T150000
DTSTAMP:20260424T042924Z
CREATED:20190729T142808Z
DESCRIPTION:イベント詳細はこちら\nhttps://techplay.jp/event/74359
 7?utm_medium=referral&utm_source=ics&utm_campaign=ics\n\n開催趣旨\n
 本勉強会では、初心者の方にもわかりやすいよう機械
 学習の発展の流れから辿り、GAN（敵対的生成ネットワ
 ーク）へと至った流れを追いかけたうえで、それらで
 できそうなこと・解決できる課題などについて参加者
 の皆様と検討を深めたいと思います。\nご興味がおあ
 りの方は、ぜひご参加くださいませ。\n内容\n1.機械学
 習とDeep Learningの業務活用  　\n2.業務における創造性  \
 n3.Deep LearningとGAN   \n\n対象者\n機械学習やデータ分析・
 活用によって新しいことを始めたい方\n発表者\n河原　
 弘宜　氏\n参加者同士の質問・情報交換\n※ Scribble Osaka
  Lab（SOL）のSlackワークスペースで、参加者同士の質問
 ・情報共有用チャンネルを設けております。参加ご希
 望の方は、申込みフォームで招待リンク送り先のEmail
 アドレスをお教えください。\nその他\nソレイユデータ
 道場については、公式HPやFacebookページをご参照くださ
 い。\n公式HP：http://www.soleildatadojo.com\nFacebookページ：htt
 ps://www.facebook.com/soleildatadojo/
LOCATION:Scribble Osaka Lab（大阪メトロ御堂筋線「淀屋橋」駅
 より徒歩４分） 大阪市北区西天満２−５−３（堂島深
 川ビル３階）
URL:https://techplay.jp/event/743597?utm_medium=referral&utm_source=ics&utm
 _campaign=ics
END:VEVENT
END:VCALENDAR
