BEGIN:VCALENDAR
VERSION:2.0
PRODID:-//https://techplay.jp//JP
CALSCALE:GREGORIAN
METHOD:PUBLISH
X-WR-CALDESC:Firebase Meetup #14 Firestore for iOS Day @Google
X-WR-CALNAME:Firebase Meetup #14 Firestore for iOS Day @Google
X-WR-TIMEZONE:Asia/Tokyo
BEGIN:VTIMEZONE
TZID:Asia/Tokyo
BEGIN:STANDARD
DTSTART:19700101T000000
TZOFFSETFROM:+0900
TZOFFSETTO:+0900
TZNAME:JST
END:STANDARD
END:VTIMEZONE
BEGIN:VEVENT
UID:743646@techplay.jp
SUMMARY:Firebase Meetup #14 Firestore for iOS Day @Google
DTSTART;TZID=Asia/Tokyo:20190913T190000
DTEND;TZID=Asia/Tokyo:20190913T220000
DTSTAMP:20260424T101851Z
CREATED:20190729T143252Z
DESCRIPTION:イベント詳細はこちら\nhttps://techplay.jp/event/74364
 6?utm_medium=referral&utm_source=ics&utm_campaign=ics\n\n\n今回はFireb
 ase TeamからiOS SDKの開発をしているMorgan ChenがCloud Firestor
 eとアプリの設計についてトークしてくれます。\nFirebas
 e Japan User Groupはすべてのユーザーを対象に広く開催し
 ていますが、今回は日頃iOSアプリの開発をしている方
 を対象に開催します。\nコミュニティのSlackがあるので
 、参加されていない方は参加お願いします！\nhttps://fir
 ebase.asia/join\n募集枠について\n\n\n\n枠\n説明\n\n\n\n\n一般
 \n\n\n\nスタッフ\n運営やイベントをサポートしたい方を
 募集します。主にイベントの写真撮影や、懇親会の手
 伝いです。既にスタッフの人で参加される方も新たに
 スタッフとして参加されたい方もこの枠で登録をお願
 いします。 Slackで連絡をしていますので、FJUG Slackに参
 加をお願いします。\n\n\n\nSchedule\n\n\n\n時間\n内容\nスピ
 ーカー\n\n\n\n\n19:00 - 20:00\n開場/受付 （受付は20:00まで
 ）\n-\n\n\n19:30 - 19:35\nコミュニティ説明、会場説明\n\n\n\
 n19:35 - 20:05\nApp Architecture with Cloud Firestore\nMorgan Chen\n\n\n2
 0:10 - 20:40\nCombine Cloud Firestore with SwiftUI\nDaiki Matsudate\n\n\n
 20:45 - 21:15\nAsk Firebase\n\n\n\n21:15 - 22:00\nAfter Party\n\n\n\n\nTa
 lks\nApp Architecture with Cloud Firestore by Morgan Chen\nExplore effect
 ive methods for creating robust\, testable applications with Cloud Firest
 ore. In this session we'll go over how to implement popular UI patterns w
 ith Firestore and discuss strategies for reducing app complexity to avoid
  bugs when handling realtime updates.\n（トークは全編英語です
 が、必要に応じて通訳を入れます）\nCombine Cloud Firestore
  with SwiftUI by Daiki Matsudate\nReactive Programming is good for using 
 with Firestore. Combine is the official reactive framework Apple released
  on WWDC 19\, also can be UI binding with SwiftUI. In this talk\, I'd lik
 e to talk about how to combine your SwiftUI with Firestore\, and processi
 ng values over time.\n(Spoken by Japanese\, and written by English)\n会
 場\nGoogle Japan 六本木オフィス\n当日の入場\n六本木ヒル
 ズ森タワーに臨時受付が設置されます。臨時受付は、
 六本木ヒルズ森タワー LL 階（2 階）となります。詳し
 くは下記ページをご覧ください。（※ 六本木アカデミ
 ーヒルズではありませんのでご注意ください）\nhttp://w
 ww.mori.co.jp/company/about_us/access.html\n受付にて登録したお
 名前を伝えて、入館シールを受け取ってください。 入
 館シール受け取り後は、案内に従い会場まで移動して
 ください。\n受付時間（19:00から20:00まで）以外は入場
 はできませんのでご了承ください。\n会場諸注意\n会場
 内は禁煙です。 会場内では無線LANがご利用できます。
  \n会場内はコンセントがほとんどありません。PCをご
 利用の方は十分に充電してきてください。\nイベント
 の様子を撮影・録画し、ブログやSNSなどで公開するこ
 とがあります。その際、来場者の姿も公開されること
 があることをご了承ください。\n配信について\n本イベ
 ントではYouTubeでの配信が予定されています。配信URLは
  #FJUG のハッシュタグをつけてTwitterでお知らせする予
 定です。\nもしくは配信チャンネルが決まっているの
 でそちらを事前にチャンネル登録しておいてください
 。\nFirebase Japan User Group - YouTube\nなお、機材トラブルで
 配信が中止になる可能性もあるのでご容赦ください。\
 n注意事項\n\nナレッジの共有、参加者同士の交流を目
 的としない参加はお断りしております。\n参加目的が
 不適切だと判断される場合、運営側で参加をキャンセ
 ルさせていただきます。\n
LOCATION:Google Japan 東京都港区六本木６丁目１０−１
URL:https://techplay.jp/event/743646?utm_medium=referral&utm_source=ics&utm
 _campaign=ics
END:VEVENT
END:VCALENDAR
