BEGIN:VCALENDAR
VERSION:2.0
PRODID:-//https://techplay.jp//JP
CALSCALE:GREGORIAN
METHOD:PUBLISH
X-WR-CALDESC:DeepLearning論文読解塾 入塾無料個別相談会【8/5
 開催】
X-WR-CALNAME:DeepLearning論文読解塾 入塾無料個別相談会【8/5
 開催】
X-WR-TIMEZONE:Asia/Tokyo
BEGIN:VTIMEZONE
TZID:Asia/Tokyo
BEGIN:STANDARD
DTSTART:19700101T000000
TZOFFSETFROM:+0900
TZOFFSETTO:+0900
TZNAME:JST
END:STANDARD
END:VTIMEZONE
BEGIN:VEVENT
UID:743923@techplay.jp
SUMMARY:DeepLearning論文読解塾 入塾無料個別相談会【8/5開催
 】
DTSTART;TZID=Asia/Tokyo:20190805T193000
DTEND;TZID=Asia/Tokyo:20190805T203000
DTSTAMP:20260425T160156Z
CREATED:20190731T114823Z
DESCRIPTION:イベント詳細はこちら\nhttps://techplay.jp/event/74392
 3?utm_medium=referral&utm_source=ics&utm_campaign=ics\n\n内容概要\n\n
 DeepLearning関連の論文の読解についてはこれまでに数多
 くの輪読会などの企画を\n開催してきたのですが、最
 近ハードルが上がってしまったため、新たに論文読解
 塾を\n立ち上げました！\n調べれば二次情報も多く概要
 を掴む際には便利ですが、詳しく考察したい際はやは
 り\n原典を読むほうが速いし正確です。\n\n何度かセミ
 ナーもやったのですが、情報共有で終わってしまうの
 で、トレーニングの\n要素も加えて塾の形式の方が望
 ましいのではということで塾形式にしてみました！\n\n
 これを機に、一次情報に自分であたるきっかけにして
 いただけたらと考えています！！\n\n\n相談会日程\n\n8/5
  (月)\n相談会：　19:30〜20:30\n\n※ 簡易説明会・個別相
 談会は何度か実施する予定ですが、どれか一つに出て
 いただければ問題ありません。\n※ 全体向けの説明は1
 0分程度なので、お忙しい方は30分程度の所要を見込ん
 でいただければ十分です。\n\n\n開講日程\n\n・8/23 (金)  
 初回開講\n以後、毎月第2と第4の金曜に実施していきま
 す。\n\n\n会場\n\n水道橋駅、神保町駅、九段下駅周辺\n
 千代田区西神田2-7-14 YS西神田ビル2F\n\n\n想定参加者\n\n
 ・arXivなどに上がっている論文を実際に自分で読める
 ようになりたい方\n・DeepLearningの研究における問題定
 義について詳しい知見が欲しい方\n・論文のExperimentsを
 早く読めるスキルを身につけたい方\n・知っておくと
 良い基礎知識や英語表現について知りたい方\n\n\nコー
 ス\n\n・論文読解コース\n　　第2と第4の金曜の20時〜21
 時30分\n　　論文読解にあたっての重要事項の解説を行
 ったりや実際に自分で読んでみたりを実施します。\n
 　　実力が身につきやすいように課題なども毎回出す
 形も検討しています。\n　　下記グループで別途開催
 する輪読会、セミナーの無料参加付きです！\n　　https
 ://reading-innovation.connpass.com\n\n・論文読解＆英語基礎コ
 ース \n　　論文読解コースに追加で英語基礎クラスも
 開講します（月1~2開催で検討中です）\n\n・個別指導付
 きコース\n　　論文読解＆英語基礎コースに加えて個
 別指導も追加します。\n\n\nカリキュラム（予定）\n\n・
 DeepLearning、CNNの基礎知識と英語表現\n・AlexNet、VGGNet、R
 esNetなどの基本アーキテクチャと該当論文の読解\n・RCN
 N、SPPNet、Fast RCNN、FasterRCNN、YOLO、SSD、FPN、RetinaNet、M2De
 tなどの\n物体検出の基本と該当論文の読解\n・Deep Q-Netw
 ork、Rainbowなどの強化学習の基本と該当論文の読解\n・B
 ERT、XLNetなどの言語処理、言語理解の基本と該当論文
 の読解\n・FCN、U-Net、Mask RCNNなどのセグメンテーション
 の基本と該当論文の読解\n\n※ ご希望に合わせてスケ
 ジューリングしていく予定です。\n\n\n料金\n\n\n\n\n  論
 文読解コース\n  論文読解＆英語基礎コース\n  個別指
 導付きコース\n\n\n\n\n  10\,000円/月\n  15\,000円/月\n  20\,000
 円/月〜\n\n\n\n\n※ 税抜き表記となりますので、別途消
 費税が加わります。\n※ 法人受講の際は月あたり5\,000
 円増しとさせていただきます。\n※ 月の途中からの場
 合は状況に応じて割引とさせていただきます。\n\n簡易
 説明会・個別相談会当日の持ち物\n\n特になし\n\n
LOCATION:
URL:https://techplay.jp/event/743923?utm_medium=referral&utm_source=ics&utm
 _campaign=ics
END:VEVENT
END:VCALENDAR
