BEGIN:VCALENDAR
VERSION:2.0
PRODID:-//https://techplay.jp//JP
CALSCALE:GREGORIAN
METHOD:PUBLISH
X-WR-CALDESC:【初心者歓迎】C++入門
X-WR-CALNAME:【初心者歓迎】C++入門
X-WR-TIMEZONE:Asia/Tokyo
BEGIN:VTIMEZONE
TZID:Asia/Tokyo
BEGIN:STANDARD
DTSTART:19700101T000000
TZOFFSETFROM:+0900
TZOFFSETTO:+0900
TZNAME:JST
END:STANDARD
END:VTIMEZONE
BEGIN:VEVENT
UID:744350@techplay.jp
SUMMARY:【初心者歓迎】C++入門
DTSTART;TZID=Asia/Tokyo:20190804T190000
DTEND;TZID=Asia/Tokyo:20190804T220000
DTSTAMP:20260425T101756Z
CREATED:20190802T141647Z
DESCRIPTION:イベント詳細はこちら\nhttps://techplay.jp/event/74435
 0?utm_medium=referral&utm_source=ics&utm_campaign=ics\n\n【初心者歓
 迎】C++入門\n概要\n3時間でC++の文法入門をハンズオン
 形式で行います。プログラミング自体も初心者という
 方でも、ついてこれる内容です。\nC言語はプログラミ
 ング言語の元となる言語であり、その学習を通して、C
 言語だけでなくPython\, Java\, JavaScript\, C#\, Objective-Cなど
 の言語も簡単に理解できるようになります。今回扱うC
 は、強力なライブラリを含む多機能を備えたC言語の上
 位互換言語です。その演算速度と強力さゆえ長年人気
 言語ランキングのトップクラスに君臨し続けています
 。実際にnumpy\, tensorflowなど多くのライブラリはCによっ
 て実装されており、競技プログラミングの世界ではほ
 とんどの人がC++を使用しています。\n当講座を受講し
 ていただけると、C++の基本を理解し、プログラミング
 をする上での自分の世界を一気に広げることができま
 す。また、プログラミングとは何か？という疑問を持
 っていらっしゃる方にとっても、オススメな内容とな
 っております。\nまた当講座を受講後、さらに実用的
 なレベルへとステップアップしたい方は、下記の講座
 の受講もお勧めいたします。\n関連講座\nレベル1:【初
 心者歓迎】C++入門\nレベル2:【オブジェクト指向編】C++
 クラス入門・演習\nレベル3:【実用レベル】C++中級\nレ
 ベル4:【コードを書きまくれ！】C++徹底演習\n当日は実
 戦形式で、演習問題を交えつつ進めていきますので、C
 ++のコンパイル環境をインストールしたPCの持参をお願
 い致します。環境を整えることが難しい場合はオンラ
 インの実行環境を案内いたしますので、PCを持参して
 ください。\n※講座の進行は「VSCode」を使います。同
 じ実行環境で受講したい方は、インストールをお勧め
 します。\n講座を通じて得られること\n\nC++の基本的な
 文法の習得\nC++で簡単なプログラムが記述できる\n他人
 の書いたC++コードも調べながらなら理解できる\n\n内容
 \n\nC++の特徴\nコンパイルと実行\n標準入出力\n変数と型
 \n演算子\n配列とvector\n分岐とループ\n関数\n\n※ 各項目
 に演習問題をもうけていますので、理解度を確認しな
 がら受講いただけます。※ 当日予告なく時間配分・内
 容が変更になる可能性がございます。\nこんな人にお
 すすめ\n\nC++を最短ルートで入門したい方\nC++入門を考
 えているが自分で出来るか不安な方。\nプログラミン
 グ初心者の方\n\n講師\n吉川武文\n東京大学卒業。学部
 では生物情報科学を専攻。生物から得られるビッグデ
 ータの解析や生物学における理論のシミュレーション
 、モデリングなどにも精通。東京大学理科二類最高点
 合格、日本生物学オリンピック金賞・本選一位などの
 受賞歴を持つ。深層学習を用いた実案件に携わると共
 に、データ分析・深層学習の講座全般を担当する。\n\n
 \n\n持ち物\n\nPC（C++のコンパイル環境のインストールを
 推奨）\n※ インストールでお困りの方はinfo@to-kei.netま
 でご連絡いただければ、可能な範囲で対応致します。 
 ※ 講座の進行は「VSCode」を使います。同じ実行環境で
 受講したい方は、インストールをお勧めします。\n\n下
 記のサイトの手順でC++のコンパイラとVSCodeをインスト
 ール頂けます。\n- C++の実行環境をWindowsにインストー
 ルする手順\n- C++の実行環境をmacにインストールする手
 順\n領収書について\n【Stripeで事前決済の方】\nクレジ
 ットカード会社が発行する明細を領収書の代わりとし
 てご利用ください。\n【Paypalの方】\n決済処理後にPaypal
 から送付されるメール内容、またはPaypalの取引履歴か
 ら該当項目を確認の上、「詳細」をご覧ください。そ
 れらが領収書の代わりとなります。また、クレジット
 カード会社発行の利用明細書も領収書としてご利用い
 ただけます。\n【別途領収書発行が必要な方】\n別途発
 行手数料として1000円頂きます。必要な方は、以下のフ
 ォームよりご申請ください。領収書発行手数料と受講
 料金を合算した金額で発行いたします。\n全人類がわ
 かる統計学 領収書発行フォーム\n受付・入場時間\n開
 始の15分前から\nポータルサイト会員登録のお願い\n全
 人類がわかる統計学では、ポータルサイトを使って講
 座で扱う教材を受講者の皆様に共有いたします。\n初
 めて全人類がわかる統計学の講座に参加される方は、
 あらかじめこちらより会員登録をお願いいたします。\
 n問い合わせ\n・メールでのお問い合わせは、info@to-kei.n
 et　までご連絡ください。\n・こちらで⇨LINE＠からも
 お問い合わせいただけます。（推奨）\n注意事項\n・リ
 クルーティング、勧誘、採用活動など、目的に沿わな
 い行為につきまして、主催者が相応しくないと判断し
 た場合は即刻退出処分とします。全員が気持ちよく過
 ごすことが出来るよう、ご協力をお願い致します。\n
 ・講座内で扱うコンテンツは全て「全人類がわかる統
 計学」に帰属しています。複製はご遠慮ください。\n
 ・個人ブログへの講義コンテンツの掲載はご遠慮くだ
 さい。\n・最小遂行人数は「3名」です。開催日の前日
 までにこの人数に達しない場合は中止となります。た
 だし、複数の媒体で募集を行っているので、本サイト
 の申込者数が最小遂行人数に達しない場合でも開催に
 なる場合がございます。もし、中止が決定した場合は
 その時点で「全額返金」し、登録しているメールアド
 レスにご連絡させていただきます。\n全人類がわかる
 統計学とは\n株式会社AVILENが運営するサービスです。
 統計学・機械学習の学習用サイト全人類がわかる統計
 学を運営、管理するほか、社会人向けのAI人材やデー
 タサイエンティスト育成のための教育事業を行なって
 おります。\n統計学や機械学習を、出来るだけわかり
 やすく多くの人々に届けるということを目指して活動
 しています。
LOCATION:秋葉原駅徒歩5分 台東区台東１丁目11番4号 誠心O
 ビル3F
URL:https://techplay.jp/event/744350?utm_medium=referral&utm_source=ics&utm
 _campaign=ics
END:VEVENT
END:VCALENDAR
