BEGIN:VCALENDAR
VERSION:2.0
PRODID:-//https://techplay.jp//JP
CALSCALE:GREGORIAN
METHOD:PUBLISH
X-WR-CALDESC:9/15無料の子どもプログラミングサークル【Code
 rDojo久地＆溝口】(川崎\,初心者歓迎)
X-WR-CALNAME:9/15無料の子どもプログラミングサークル【Code
 rDojo久地＆溝口】(川崎\,初心者歓迎)
X-WR-TIMEZONE:Asia/Tokyo
BEGIN:VTIMEZONE
TZID:Asia/Tokyo
BEGIN:STANDARD
DTSTART:19700101T000000
TZOFFSETFROM:+0900
TZOFFSETTO:+0900
TZNAME:JST
END:STANDARD
END:VTIMEZONE
BEGIN:VEVENT
UID:744381@techplay.jp
SUMMARY:9/15無料の子どもプログラミングサークル【CoderDojo
 久地＆溝口】(川崎\,初心者歓迎)
DTSTART;TZID=Asia/Tokyo:20190915T140000
DTEND;TZID=Asia/Tokyo:20190915T160000
DTSTAMP:20260423T123642Z
CREATED:20190802T142244Z
DESCRIPTION:イベント詳細はこちら\nhttps://techplay.jp/event/74438
 1?utm_medium=referral&utm_source=ics&utm_campaign=ics\n\n9/15は、CoderD
 ojo久地とCoderDojo溝口の共同開催になります。\n\nこちら
 はCoderDojo溝口からの参加申し込みができます。\nCoderDoj
 o久地から参加申し込みしたい場合は、LINEでお申し込
 みください。\nCoderDojo久地のご案内ページ\nいつもと部
 屋が異なりますので、ご注意ください。\n多目的室を
 利用する場合、パソコンを借りるのに有料(1\,000円)か
 かってしまいますのでご注意ください。\n\n\nグループ
 の説明もご覧ください。\nCoderDojo溝口は、子どもたち
 がプログラミングを通して地域とつながる交流の場に
 なります。\n教室ではないので、先生はいません。\nメ
 ンター（ボランティア）が分からないところを一緒に
 考えてくれます。\n発表する機会があるので、自分の
 作品をプレゼンテーションする練習になります。\n論
 理的に考える力を育み、いろいろな問題を自ら解決で
 きるようになります。\nCoderDojo溝口でできること\n\n\nSc
 ratch\nScratchのアカウントをご用意いただくとスムーズ
 に始められます。こちらのScratchに参加しようを参考に
 してください。\n\n\nUnity\nUnity はゲームを作るソフトウ
 ェアです。コードを書かずにゲームを作れる Unity Playgr
 ound を使って簡単なゲームを作るところから始めまし
 ょう。Unity を使ってみたい方は、事前にインストール
 していただくと、当日スムーズに進められます。\nUnity
 のインストール\nUnity Playground\n\n\n参加する子どもたち
 の興味に合わせて増やしていく予定です。\n当日のタ
 イムテーブル（予定）\n\n13:30～ 受付開始\n14:00～ 連絡
 と自己紹介\n14:20～ 作品作り\n15:30～ 発表と写真撮影\n1
 5:50～ 連絡とアンケート記入\n16:00 解散\n\n持参するも
 の\n\nノートPCなど（すぐにプログラミングできるよう
 に環境を準備しておくことをお勧めします）\n\nすくら
 む21の多目的室はパソコンを借りる場合、有料(1\,000円)
 になります\n会場\n川崎市男女共同参画センター（すく
 らむ21） 多目的室（4階）\n〒213-0001 川崎市高津区溝口 
 2-20-1 \nTEL : 044-813-0808\nhttps://www.scrum21.or.jp\nメンター、
 ボランティア募集中\n\n子どもたちの相談に乗ってくれ
 るメンターや、道場運営に協力してくださるボランテ
 ィアを募集しています。\n\n連絡先\nmizonokuchi.jp@coderdojo.
 com\nLINE公式アカウントを作りました。\nちょっとした
 ご質問などはLINEからお気軽にどうぞ。\n\n【注意事項
 とお願い】\n\n小学生の参加は保護者の同伴が必要です
 \nブログなどに載せる写真や動画等の撮影を行います
 （掲載NGの場合はお知らせください）\n同じ机に大人1
 人＋子ども2人座れます。申し込み時に人数が選べませ
 んが、お子さん2人連れて参加可能です。その場合も「
 ニンジャ（7～17才の子ども）」1人の申し込みのままで
 大丈夫です。\n\nWi-Fi環境について\n会場となる「すく
 らむ21」は、Wi-Fi環境が整っています。
LOCATION:川崎市男女共同参画センター（すくらむ21） 川崎
 市高津区溝口 2-20-1
URL:https://techplay.jp/event/744381?utm_medium=referral&utm_source=ics&utm
 _campaign=ics
END:VEVENT
END:VCALENDAR
